Math-Random-ISAAC v1.004 Perl 5 v5.28.0 i686-linux
- Status
- Pass
- From
- Dist
-
Math-Random-ISAAC v1.004
- Platform
- Perl 5 v5.28.0 i686-linux
- Date
- 2018-06-26 17:45:58
- ID
- c8a9fb84-7968-11e8-a078-b52e1a920a44
This distribution has been tested as part of the CPAN Testers
project, supporting the Perl programming language. See
http://wiki.cpantesters.org/ for more information or email
questions to cpan-testers-discuss@perl.org
--
Dear Jonathan Yu,
This is a computer-generated report for Math-Random-ISAAC-1.004
on perl 5.28.0, created by CPAN-Reporter-1.2018.
Thank you for uploading your work to CPAN. Congratulations!
All tests were successful.
Sections of this report:
* Tester comments
* Program output
* Prerequisites
* Environment and other context
------------------------------
TESTER COMMENTS
------------------------------
Additional comments from tester:
none provided
------------------------------
PROGRAM OUTPUT
------------------------------
Output from '/usr/bin/make test':
PERL_DL_NONLAZY=1 "/opt/perl5/perls/perl-5.28.0/bin/perl" "-MExtUtils::Command::MM" "-MTest::Harness" "-e" "undef *Test::Harness::Switches; test_harness(0, 'blib/lib', 'blib/arch')" t/*.t
t/01compile.t .............. ok
t/02sequence.t ............. ok
t/03memory.t ............... ok
t/04uniform.t .............. skipped: Author tests not required for installation
t/05fallback.t ............. skipped: Test::Without::Module and Math::Random::ISAAC::XS required to test fallback ability
t/06exceptions.t ........... ok
t/release-dist-manifest.t .. skipped: these tests are for release candidate testing
t/release-kwalitee.t ....... skipped: these tests are for release candidate testing
t/release-pod-coverage.t ... skipped: these tests are for release candidate testing
t/release-pod-syntax.t ..... skipped: these tests are for release candidate testing
t/release-portability.t .... skipped: these tests are for release candidate testing
All tests successful.
Files=11, Tests=609, 1 wallclock secs ( 0.04 usr 0.00 sys + 0.36 cusr 0.01 csys = 0.41 CPU)
Result: PASS
------------------------------
PREREQUISITES
------------------------------
Prerequisite modules loaded:
build_requires:
Module Need Have
----------------------- ----- --------
Test::More 0.62 1.302136
Test::NoWarnings 0.084 1.04
configure_requires:
Module Need Have
----------------------- ----- --------
ExtUtils::MakeMaker 6.31 7.34
opt_requires:
Module Need Have
----------------------- ----- --------
! Math::Random::ISAAC::XS 0 n/a
------------------------------
ENVIRONMENT AND OTHER CONTEXT
------------------------------
Environment variables:
LANG = en_US.utf8
LC_COLLATE = C
NONINTERACTIVE_TESTING = 1
PATH = /home/tester1/perl5/perl-5.28.0/bin:/opt/perl5/perls/perl-5.28.0/bin:/opt/perl5/perls/perl-5.28.0/bin:/home/tester1/perl5/bin:/usr/local/bin:/usr/bin:/bin:/usr/games
PERL5LIB = /home/tester1/perl5/perl-5.28.0/lib/perl5:/home/tester1/perl5/lib/perl5
PERL5OPT =
PERL5_CPANPLUS_IS_RUNNING = 7183
PERL5_CPAN_IS_RUNNING = 7183
PERL_LOCAL_LIB_ROOT = /home/tester1/perl5/perl-5.28.0:/home/tester1/perl5
PERL_MB_OPT = --install_base "/home/tester1/perl5/perl-5.28.0"
PERL_MM_OPT = INSTALL_BASE=/home/tester1/perl5/perl-5.28.0
PERL_MM_USE_DEFAULT = 1
PERL_PKG_CONFIG_SCRIPTS = ppkg-config
PERL_USE_UNSAFE_INC = 1
SHELL = /bin/tcsh
TERM = xterm-256color
Perl special variables (and OS-specific diagnostics, for MSWin32):
$^X = /opt/perl5/perls/perl-5.28.0/bin/perl
$UID/$EUID = 1001 / 1001
$GID = 1001 1001
$EGID = 1001 1001
Perl module toolchain versions installed:
Module Have
------------------- --------
CPAN 2.20
CPAN::Meta 2.150010
Cwd 3.74
ExtUtils::CBuilder 0.280230
ExtUtils::Command 7.34
ExtUtils::Install 2.14
ExtUtils::MakeMaker 7.34
ExtUtils::Manifest 1.70
ExtUtils::ParseXS 3.39
File::Spec 3.74
JSON 2.97001
JSON::PP 2.97001
Module::Build 0.4224
Module::Signature n/a
Parse::CPAN::Meta 2.150010
Test::Harness 3.42
Test::More 1.302136
YAML n/a
YAML::Syck n/a
version 0.9923
--
Summary of my perl5 (revision 5 version 28 subversion 0) configuration:
Platform:
osname=linux
osvers=4.9.0-6-686-pae
archname=i686-linux
uname='linux ct32 4.9.0-6-686-pae #1 smp debian 4.9.88-1+deb9u1 (2018-05-07) i686 gnulinux '
config_args='-de -Dprefix=/opt/perl5/perls/perl-5.28.0 -Dman1dir=none -Dman3dir=none -Dcc=clang -Aeval:scriptdir=/opt/perl5/perls/perl-5.28.0/bin'
hint=recommended
useposix=true
d_sigaction=define
useithreads=undef
usemultiplicity=undef
use64bitint=undef
use64bitall=undef
uselongdouble=undef
usemymalloc=n
default_inc_excludes_dot=define
bincompat5005=undef
Compiler:
cc='clang'
ccflags ='-fno-strict-aliasing -pipe -fstack-protector-strong -I/usr/local/include -D_LARGEFILE_SOURCE -D_FILE_OFFSET_BITS=64 -D_FORTIFY_SOURCE=2'
optimize='-O2'
cppflags='-fno-strict-aliasing -pipe -fstack-protector-strong -I/usr/local/include'
ccversion=''
gccversion='4.2.1 Compatible Clang 3.8.1 (tags/RELEASE_381/final)'
gccosandvers=''
intsize=4
longsize=4
ptrsize=4
doublesize=8
byteorder=1234
doublekind=3
d_longlong=define
longlongsize=8
d_longdbl=define
longdblsize=12
longdblkind=3
ivtype='long'
ivsize=4
nvtype='double'
nvsize=8
Off_t='off_t'
lseeksize=8
alignbytes=4
prototype=define
Linker and Libraries:
ld='clang'
ldflags =' -fstack-protector-strong -L/usr/local/lib'
libpth=/usr/local/lib /usr/lib/llvm-3.8/bin/../lib/clang/3.8.1/lib /usr/include/i386-linux-gnu /usr/lib /lib/i386-linux-gnu /lib/../lib /usr/lib/i386-linux-gnu /usr/lib/../lib /lib /lib64 /usr/lib64
libs=-lpthread -lnsl -ldl -lm -lcrypt -lutil -lc
perllibs=-lpthread -lnsl -ldl -lm -lcrypt -lutil -lc
libc=libc-2.24.so
so=so
useshrplib=false
libperl=libperl.a
gnulibc_version='2.24'
Dynamic Linking:
dlsrc=dl_dlopen.xs
dlext=so
d_dlsymun=undef
ccdlflags='-Wl,-E'
cccdlflags='-fPIC'
lddlflags='-shared -O2 -L/usr/local/lib -fstack-protector-strong'
Characteristics of this binary (from libperl):
Compile-time options:
HAS_TIMES
PERLIO_LAYERS
PERL_COPY_ON_WRITE
PERL_DONT_CREATE_GVSV
PERL_MALLOC_WRAP
PERL_OP_PARENT
PERL_PRESERVE_IVUV
USE_LARGE_FILES
USE_LOCALE
USE_LOCALE_COLLATE
USE_LOCALE_CTYPE
USE_LOCALE_NUMERIC
USE_LOCALE_TIME
USE_PERLIO
USE_PERL_ATOF
Locally applied patches:
Devel::PatchPerl 1.52
Built under linux
Compiled at Jun 25 2018 21:17:43
%ENV:
PERL5LIB="/home/tester1/perl5/perl-5.28.0/lib/perl5:/home/tester1/perl5/lib/perl5"
PERL5OPT=""
PERL5_CPANPLUS_IS_RUNNING="7183"
PERL5_CPAN_IS_RUNNING="7183"
PERL_LOCAL_LIB_ROOT="/home/tester1/perl5/perl-5.28.0:/home/tester1/perl5"
PERL_MB_OPT="--install_base "/home/tester1/perl5/perl-5.28.0""
PERL_MM_OPT="INSTALL_BASE=/home/tester1/perl5/perl-5.28.0"
PERL_MM_USE_DEFAULT="1"
PERL_PKG_CONFIG_SCRIPTS="ppkg-config"
PERL_USE_UNSAFE_INC="1"
@INC:
/home/tester1/perl5/perl-5.28.0/lib/perl5/i686-linux
/home/tester1/perl5/perl-5.28.0/lib/perl5
/home/tester1/perl5/lib/perl5
/opt/perl5/perls/perl-5.28.0/lib/site_perl/5.28.0/i686-linux
/opt/perl5/perls/perl-5.28.0/lib/site_perl/5.28.0
/opt/perl5/perls/perl-5.28.0/lib/5.28.0/i686-linux
/opt/perl5/perls/perl-5.28.0/lib/5.28.0
.