Report for Cikl-0.4.1

Back
From: metabase:user:00e8548a-0e72-11e3-8ee3-df0a9c418065
Subject: PASS Cikl-0.4.1 v5.19.10 GNU/Linux
Date: 2014-04-05T15:56:00Z

This distribution has been tested as part of the CPAN Testers
project, supporting the Perl programming language.  See
http://wiki.cpantesters.org/ for more information or email
questions to cpan-testers-discuss@perl.org


--
Dear Michael Ryan,

This is a computer-generated report for Cikl-0.4.1
on perl 5.19.10, created by CPAN-Reporter-1.2011.

Thank you for uploading your work to CPAN.  Congratulations!
All tests were successful.

Sections of this report:

    * Tester comments
    * Program output
    * Prerequisites
    * Environment and other context

------------------------------
TESTER COMMENTS
------------------------------

Additional comments from tester:

this report is from an automated smoke testing program
and was not reviewed by a human for accuracy

------------------------------
PROGRAM OUTPUT
------------------------------

Output from './Build test':

t/Cikl.t ........................... ok
t/Cikl/DataTypes/Asn.t ............. ok
t/Cikl/DataTypes/Integer.t ......... ok
t/Cikl/DataTypes/LowerCaseStr.t .... ok
t/Cikl/DataTypes/Url.t ............. ok
t/Cikl/Models/Address/asn.t ........ ok
t/Cikl/Models/Address/email.t ...... ok
t/Cikl/Models/Address/fqdn.t ....... ok
t/Cikl/Models/Address/ipv4.t ....... ok
t/Cikl/Models/Address/ipv4_cidr.t .. ok
t/Cikl/Models/Address/url.t ........ ok
t/Cikl/Models/Event.t .............. ok
t/Cikl/Util/TimeHelpers.t .......... ok
All tests successful.
Files=13, Tests=141,  2 wallclock secs ( 0.02 usr  0.03 sys +  1.11 cusr  0.12 csys =  1.28 CPU)
Result: PASS

------------------------------
PREREQUISITES
------------------------------

Prerequisite modules loaded:

requires:

    Module                      Need     Have      
    --------------------------- -------- ----------
    AnyEvent                    7.05     7.07      
    AnyEvent::RabbitMQ          1.15     1.15      
    Config::Simple              4.58     4.58      
  ! Coro                        6.31     n/a       
    Cwd                         3.40     3.47      
    DateTime                    0.70     1.08      
    DateTime::Format::DateParse 0.05     0.05      
    DateTime::Format::Strptime  1.54     1.54      
    Digest::MD5                 2.51     2.53      
    Digest::SHA                 5.70     5.88      
    Encode                      2.44     2.58      
    File::Spec                  3.40     3.47      
    File::Type                  0.22     0.22      
    Getopt::Long                0        2.42      
    IO::Uncompress::Unzip       2.02     2.064     
    JSON::XS                    2.34     3.01      
    List::MoreUtils             0.33     0.400_006 
    Log::Dispatch               2.32     2.41      
    LWP::Protocol::https        6.03     6.04      
    LWP::UserAgent              6.02     6.05      
    LWPx::ParanoidAgent         1.09     1.10      
    Mail::RFC822::Address       0.3      0.3       
    MIME::Base64                3.13     3.14      
    MIME::Lite                  3.027    3.030     
    Module::Pluggable           3.9      5.1       
    Mouse                       v2.0.0   2.2.0     
  ! Net::RabbitFoot             1.03     n/a       
    Net::SSLeay                 1.43     1.58      
    perl                        5.014    5.019010  
    Regexp::Common              2.122    2013031301
    Regexp::Common::net::CIDR   0.02     0.02      
    Storable                    2.27     2.48      
    Text::CSV_XS                1.00     1.05      
    Text::Table                 1.127    1.129     
    Time::HiRes                 1.972101 1.9726    
    Try::Tiny                   0.11     0.20      
    UUID::Tiny                  1.04     1.04      
    XML::LibXML                 1.89     2.0115    

build_requires:

    Module                      Need     Have      
    --------------------------- -------- ----------
    ExtUtils::CBuilder          0        0.280216  
    Test::Class                 0.41     0.41      
    Test::Exception             0.32     0.32      

configure_requires:

    Module                      Need     Have      
    --------------------------- -------- ----------
    CPAN::Meta                  0        2.140640  
    CPAN::Meta::Prereqs         0        2.140640  
    Module::Build               0.38     0.4205    


------------------------------
ENVIRONMENT AND OTHER CONTEXT
------------------------------

Environment variables:

    AUTOMATED_TESTING = 1
    LANG = en_US.UTF-8
    PATH = /root/perl5/perlbrew/bin:/root/perl5/perlbrew/perls/perl-5.19.10/bin:/usr/kerberos/sbin:/usr/kerberos/bin:/usr/local/sbin:/usr/local/bin:/sbin:/bin:/usr/sbin:/usr/bin:/root/bin
    PERL5LIB = 
    PERL5OPT = 
    PERL5_CPANPLUS_IS_RUNNING = 31803
    PERL5_CPAN_IS_RUNNING = 31803
    PERL5_CPAN_IS_RUNNING_IN_RECURSION = 3240,31803
    PERLBREW_BASHRC_VERSION = 0.66
    PERLBREW_HOME = /root/.perlbrew
    PERLBREW_MANPATH = /root/perl5/perlbrew/perls/perl-5.19.10/man
    PERLBREW_PATH = /root/perl5/perlbrew/bin:/root/perl5/perlbrew/perls/perl-5.19.10/bin
    PERLBREW_PERL = perl-5.19.10
    PERLBREW_ROOT = /root/perl5/perlbrew
    PERLBREW_VERSION = 0.66
    PERL_CR_SMOKER_CURRENT = Cikl-0.4.1
    PERL_EXTUTILS_AUTOINSTALL = --defaultdeps
    PERL_MM_USE_DEFAULT = 1
    SHELL = /bin/bash
    TERM = linux

Perl special variables (and OS-specific diagnostics, for MSWin32):

    $^X = /root/perl5/perlbrew/perls/perl-5.19.10/bin/perl5.19.10
    $UID/$EUID = 0 / 0
    $GID = 0 0 1 2 3 4 6 10
    $EGID = 0 0 1 2 3 4 6 10

Perl module toolchain versions installed:

    Module              Have    
    ------------------- --------
    CPAN                2.05    
    CPAN::Meta          2.140640
    Cwd                 3.47    
    ExtUtils::CBuilder  0.280216
    ExtUtils::Command   1.18    
    ExtUtils::Install   1.64    
    ExtUtils::MakeMaker 6.94    
    ExtUtils::Manifest  1.63    
    ExtUtils::ParseXS   3.24    
    File::Spec          3.47    
    JSON                2.90    
    JSON::PP            2.27203 
    Module::Build       0.4205  
    Module::Signature   n/a     
    Parse::CPAN::Meta   1.4414  
    Test::Harness       3.30    
    Test::More          1.001003
    YAML                0.90    
    YAML::Syck          1.27    
    version             0.9908  


--

Summary of my perl5 (revision 5 version 19 subversion 10) configuration:
   
  Platform:
    osname=linux, osvers=2.6.18-371.6.1.el5.centos.plus, archname=x86_64-linux
    uname='linux localhost.localdomain 2.6.18-371.6.1.el5.centos.plus #1 smp wed mar 12 20:18:46 edt 2014 x86_64 x86_64 x86_64 gnulinux '
    config_args='-de -Dprefix=/root/perl5/perlbrew/perls/perl-5.19.10 -Dusedevel -Aeval:scriptdir=/root/perl5/perlbrew/perls/perl-5.19.10/bin'
    hint=recommended, useposix=true, d_sigaction=define
    useithreads=undef, usemultiplicity=undef
    use64bitint=define, use64bitall=define, uselongdouble=undef
    usemymalloc=n, bincompat5005=undef
  Compiler:
    cc='cc', ccflags ='-fno-strict-aliasing -pipe -fstack-protector -I/usr/local/include -D_LARGEFILE_SOURCE -D_FILE_OFFSET_BITS=64',
    optimize='-O2',
    cppflags='-fno-strict-aliasing -pipe -fstack-protector -I/usr/local/include'
    ccversion='', gccversion='4.1.2 20080704 (Red Hat 4.1.2-54)', gccosandvers=''
    intsize=4, longsize=8, ptrsize=8, doublesize=8, byteorder=12345678
    d_longlong=define, longlongsize=8, d_longdbl=define, longdblsize=16
    ivtype='long', ivsize=8, nvtype='double', nvsize=8, Off_t='off_t', lseeksize=8
    alignbytes=8, prototype=define
  Linker and Libraries:
    ld='cc', ldflags =' -fstack-protector -L/usr/local/lib'
    libpth=/usr/local/lib /usr/lib /lib /lib64 /usr/lib64 /usr/local/lib64
    libs=-lnsl -ldl -lm -lcrypt -lutil -lc
    perllibs=-lnsl -ldl -lm -lcrypt -lutil -lc
    libc=/lib/libc-2.5.so, so=so, useshrplib=false, libperl=libperl.a
    gnulibc_version='2.5'
  Dynamic Linking:
    dlsrc=dl_dlopen.xs, dlext=so, d_dlsymun=undef, ccdlflags='-Wl,-E'
    cccdlflags='-fPIC', lddlflags='-shared -O2 -L/usr/local/lib -fstack-protector'


Characteristics of this binary (from libperl): 
  Compile-time options: HAS_TIMES PERLIO_LAYERS PERL_DONT_CREATE_GVSV
                        PERL_HASH_FUNC_ONE_AT_A_TIME_HARD PERL_MALLOC_WRAP
                        PERL_NEW_COPY_ON_WRITE PERL_PRESERVE_IVUV
                        PERL_USE_DEVEL USE_64_BIT_ALL USE_64_BIT_INT
                        USE_LARGE_FILES USE_LOCALE USE_LOCALE_COLLATE
                        USE_LOCALE_CTYPE USE_LOCALE_NUMERIC USE_PERLIO
                        USE_PERL_ATOF
  Built under linux
  Compiled at Apr  2 2014 22:55:30
  %ENV:
    PERL5LIB=""
    PERL5OPT=""
    PERL5_CPANPLUS_IS_RUNNING="31803"
    PERL5_CPAN_IS_RUNNING="31803"
    PERL5_CPAN_IS_RUNNING_IN_RECURSION="3240,31803"
    PERLBREW_BASHRC_VERSION="0.66"
    PERLBREW_HOME="/root/.perlbrew"
    PERLBREW_MANPATH="/root/perl5/perlbrew/perls/perl-5.19.10/man"
    PERLBREW_PATH="/root/perl5/perlbrew/bin:/root/perl5/perlbrew/perls/perl-5.19.10/bin"
    PERLBREW_PERL="perl-5.19.10"
    PERLBREW_ROOT="/root/perl5/perlbrew"
    PERLBREW_VERSION="0.66"
    PERL_CR_SMOKER_CURRENT="Cikl-0.4.1"
    PERL_EXTUTILS_AUTOINSTALL="--defaultdeps"
    PERL_MM_USE_DEFAULT="1"
  @INC:
    /root/perl5/perlbrew/perls/perl-5.19.10/lib/site_perl/5.19.10/x86_64-linux
    /root/perl5/perlbrew/perls/perl-5.19.10/lib/site_perl/5.19.10
    /root/perl5/perlbrew/perls/perl-5.19.10/lib/5.19.10/x86_64-linux
    /root/perl5/perlbrew/perls/perl-5.19.10/lib/5.19.10
    .