Parse-Eyapp v1.21 Perl 5 v5.16.3 x86_64-linux-thread-multi
- Status
- Pass
- From
- Serguei Trouchelle (STRO)
- Dist
-
Parse-Eyapp v1.21
- Platform
- Perl 5 v5.16.3 x86_64-linux-thread-multi
- Date
- 2017-12-21 13:28:08
- ID
- c84fbda8-e652-11e7-bc16-0194d9910289
This distribution has been tested as part of the CPAN Testers
project, supporting the Perl programming language. See
http://wiki.cpantesters.org/ for more information or email
questions to cpan-testers-discuss@perl.org
--
Dear William N. Braswell, Jr.,
This is a computer-generated report for Parse-Eyapp-1.21
on perl 5.16.3, created by CPAN-Reporter-1.2018.
Thank you for uploading your work to CPAN. Congratulations!
All tests were successful.
Sections of this report:
* Tester comments
* Program output
* Prerequisites
* Environment and other context
------------------------------
TESTER COMMENTS
------------------------------
Additional comments from tester:
this report is from an automated smoke testing program
and was not reviewed by a human for accuracy
------------------------------
PROGRAM OUTPUT
------------------------------
Output from '/usr/bin/make test':
PERL_DL_NONLAZY=1 "/home/stro/perl/5.16.3t/bin/perl" "-MExtUtils::Command::MM" "-MTest::Harness" "-e" "undef *Test::Harness::Switches; test_harness(0, 'blib/lib', 'blib/arch')" t/*.t
t/01calc.t .................................. ok
t/03newgrammar.t ............................ ok
t/04foldandzero.t ........................... ok
t/05treewithvars.t .......................... ok
t/06meta.t .................................. ok
t/07translationschemetype.t ................. ok
t/08tschemetypestar.t ....................... ok
t/09ts_with_defaultaction.t ................. ok
t/10ts_with_treereg.t ....................... ok
t/11ts_simplify_codes.t ..................... ok
t/12ts_simplify_with_s.t .................... ok
t/13ts_simplify_with_delete.t ............... ok
t/14ts_simplify_with_trreereg.t ............. ok
t/15treeregswith2arrays.t ................... ok
t/16treeregswitharrayattheend.t ............. ok
t/17fatherisscalar.t ........................ ok
t/18fatherpatternwitharrays.t ............... ok
t/19treeregswitharrays2transf.t ............. ok
t/20treeregswitharrays2transf.t ............. ok
t/21fatherisdot.t ........................... ok
t/22treeregswithregexpwithid.t .............. ok
t/23treeregswitharraysandregexps.t .......... ok
t/24prefixes.t .............................. ok
t/25foldwithnew.t ........................... ok
t/26foldwithnewwithvars.t ................... ok
t/27unshiftinmyself.t ....................... ok
t/28unshifttwoitems.t ....................... ok
t/29foldinglistsofexpressions.t ............. ok
t/30complextreereg.t ........................ ok
t/31optional.t .............................. ok
t/32deletenodewithwarn.t .................... ok
t/33moveinvariantoutofloop.t ................ ok
t/34moveinvariantoutofloopcomplexformula.t .. ok
t/35match.t ................................. ok
t/36tswithmultipledefact.t .................. ok
t/37tsplus.t ................................ ok
t/38tspostfix.t ............................. ok
t/38tspostfix_resultisarray.t ............... ok
t/39tspostfix.t ............................. ok
t/40wrongoptionforTreeregexp_new.t .......... ok
t/41indexbug.t .............................. ok
t/42pod.t ................................... skipped: Developer test
t/43dotandscalar.t .......................... ok
t/44repeatedarray.t ......................... ok
t/45starandarray.t .......................... ok
t/46starandstar.t ........................... ok
t/47ruleindex.t ............................. ok
t/48yyprefix.t .............................. ok
t/49conflicts.t ............................. ok
t/50SimpleChalfscope.t ...................... ok
t/52accesors.t .............................. ok
t/53accessorsskip.t ......................... ok
t/54alias_and_yyprefix.t .................... ok
t/55builder.t ............................... ok
t/56equal.t ................................. ok
t/57testequal.t ............................. ok
t/58standalone.t ............................ ok
t/59newgrammarerrors.t ...................... ok
t/60dynamicyyprefix_and_alias.t ............. ok
t/61standalonegift.t ........................ ok
t/62docinsideeyapp.t ........................ ok
t/63docwithdoublecut.t ...................... ok
t/64standalonegiftandeyapp.t ................ ok
t/65yydebugandpod.t ......................... ok
t/66yydebugstandaloneandpod.t ............... ok
t/67outputfile.t ............................ ok
t/70dos2unix.t .............................. ok
t/71dynamicconflictresolution.t ............. ok
t/72mixedstandaloneanddynamicload.t ......... ok
t/73dynamicshiftreduceconflictresolution.t .. ok
t/74lalrdependanttest.t ..................... ok
t/75tokenandvariablewiththesamename.t ....... ok
t/76minusvoption.t .......................... ok
t/77lexicalanalyzergeneration.t ............. ok
t/78twolexers.t ............................. ok
t/79syntactictokenwithdef.t ................. ok
t/80ppcr.t .................................. ok
t/81tokendirectiveandsubstitution.t ......... ok
t/82expectandPLI.t .......................... ok
t/83parsingstringsandtrees.t ................ ok
t/84graphics.t .............................. ok
t/85minusSoption.t .......................... ok
t/86recycle.t ............................... ok
t/87namingSchemes.t ......................... ok
t/88explorer.t .............................. ok
t/98nopm.t .................................. ok
t/99Cplusplusgrammar.t ...................... skipped: Developer test
All tests successful.
Files=87, Tests=881, 10 wallclock secs ( 0.29 usr 0.05 sys + 8.68 cusr 0.47 csys = 9.49 CPU)
Result: PASS
------------------------------
PREREQUISITES
------------------------------
Prerequisite modules loaded:
requires:
Module Need Have
------------------- ---- --------
Data::Dumper 1.0 2.135_06
List::Util 1.0 1.49
Parse::Yapp 1.2 1.21
Pod::Usage 1.0 1.69
build_requires:
Module Need Have
------------------- ---- --------
ExtUtils::MakeMaker 0 7.30
configure_requires:
Module Need Have
------------------- ---- --------
ExtUtils::MakeMaker 0 7.30
------------------------------
ENVIRONMENT AND OTHER CONTEXT
------------------------------
Environment variables:
AUTOMATED_TESTING = 1
LANG = en_US.UTF-8
PATH = /usr/local/bin:/usr/bin:/bin:/usr/local/games:/usr/games
PERL5LIB =
PERL5OPT =
PERL5_CPANPLUS_IS_RUNNING = 22136
PERL5_CPAN_IS_RUNNING = 22136
PERL5_CPAN_IS_RUNNING_IN_RECURSION = 19411,22136
PERL_CR_SMOKER_CURRENT = QBit-Application-Model-DBManager-0.019
PERL_EXTUTILS_AUTOINSTALL = --defaultdeps
PERL_MM_USE_DEFAULT = 1
SHELL = /bin/bash
TERM = xterm-256color
Perl special variables (and OS-specific diagnostics, for MSWin32):
$^X = /home/stro/perl/5.16.3t/bin/perl
$UID/$EUID = 1000 / 1000
$GID = 1000 24 25 29 30 44 46 108 114 1000
$EGID = 1000 24 25 29 30 44 46 108 114 1000
Perl module toolchain versions installed:
Module Have
------------------- --------
CPAN 2.16
CPAN::Meta 2.150010
Cwd 3.39_02
ExtUtils::CBuilder 0.280206
ExtUtils::Command 7.30
ExtUtils::Install 2.06
ExtUtils::MakeMaker 7.30
ExtUtils::Manifest 1.70
ExtUtils::ParseXS 3.35
File::Spec 3.39_02
JSON 2.97000
JSON::PP 2.97000
Module::Build 0.4224
Module::Signature n/a
Parse::CPAN::Meta 2.150010
Test::Harness 3.39
Test::More 1.302120
YAML 1.23
YAML::Syck 1.30
version 0.9918
--
Summary of my perl5 (revision 5 version 16 subversion 3) configuration:
Platform:
osname=linux, osvers=3.16.0-4-amd64, archname=x86_64-linux-thread-multi
uname='linux vm-debian-001 3.16.0-4-amd64 #1 smp debian 3.16.7-ckt11-1 (2015-05-24) x86_64 gnulinux '
config_args=''
hint=recommended, useposix=true, d_sigaction=define
useithreads=define, usemultiplicity=define
useperlio=define, d_sfio=undef, uselargefiles=define, usesocks=undef
use64bitint=define, use64bitall=define, uselongdouble=undef
usemymalloc=n, bincompat5005=undef
Compiler:
cc='cc', ccflags ='-D_REENTRANT -D_GNU_SOURCE -fno-strict-aliasing -pipe -fstack-protector -I/usr/local/include -D_LARGEFILE_SOURCE -D_FILE_OFFSET_BITS=64',
optimize='-O2',
cppflags='-D_REENTRANT -D_GNU_SOURCE -fno-strict-aliasing -pipe -fstack-protector -I/usr/local/include'
ccversion='', gccversion='4.9.2', gccosandvers=''
intsize=4, longsize=8, ptrsize=8, doublesize=8, byteorder=12345678
d_longlong=define, longlongsize=8, d_longdbl=define, longdblsize=16
ivtype='long', ivsize=8, nvtype='double', nvsize=8, Off_t='off_t', lseeksize=8
alignbytes=8, prototype=define
Linker and Libraries:
ld='cc', ldflags =' -fstack-protector -L/usr/local/lib'
libpth=/usr/local/lib /lib/x86_64-linux-gnu /lib/../lib /usr/lib/x86_64-linux-gnu /usr/lib/../lib /lib /usr/lib
libs=-lnsl -ldl -lm -lcrypt -lutil -lpthread -lc
perllibs=-lnsl -ldl -lm -lcrypt -lutil -lpthread -lc
libc=, so=so, useshrplib=false, libperl=libperl.a
gnulibc_version='2.19'
Dynamic Linking:
dlsrc=dl_dlopen.xs, dlext=so, d_dlsymun=undef, ccdlflags='-Wl,-E'
cccdlflags='-fPIC', lddlflags='-shared -O2 -L/usr/local/lib -fstack-protector'
Characteristics of this binary (from libperl):
Compile-time options: HAS_TIMES MULTIPLICITY PERLIO_LAYERS
PERL_DONT_CREATE_GVSV PERL_IMPLICIT_CONTEXT
PERL_MALLOC_WRAP PERL_PRESERVE_IVUV USE_64_BIT_ALL
USE_64_BIT_INT USE_ITHREADS USE_LARGE_FILES
USE_LOCALE USE_LOCALE_COLLATE USE_LOCALE_CTYPE
USE_LOCALE_NUMERIC USE_PERLIO USE_PERL_ATOF
USE_REENTRANT_API
Built under linux
Compiled at Oct 21 2017 23:14:05
%ENV:
PERL5LIB=""
PERL5OPT=""
PERL5_CPANPLUS_IS_RUNNING="22136"
PERL5_CPAN_IS_RUNNING="22136"
PERL5_CPAN_IS_RUNNING_IN_RECURSION="19411,22136"
PERL_CR_SMOKER_CURRENT="QBit-Application-Model-DBManager-0.019"
PERL_EXTUTILS_AUTOINSTALL="--defaultdeps"
PERL_MM_USE_DEFAULT="1"
@INC:
/home/stro/perl/5.16.3t/lib/site_perl/5.16.3/x86_64-linux-thread-multi
/home/stro/perl/5.16.3t/lib/site_perl/5.16.3
/home/stro/perl/5.16.3t/lib/5.16.3/x86_64-linux-thread-multi
/home/stro/perl/5.16.3t/lib/5.16.3
.