Report for Net-Jabber-2.0

Back
From: metabase:user:32904986-c427-11df-a07f-b497e104d833
Subject: PASS Net-Jabber-2.0 v5.12.4 Mac OS X
Date: 2013-08-08T17:34:30Z

This distribution has been tested as part of the CPAN Testers
project, supporting the Perl programming language.  See
http://wiki.cpantesters.org/ for more information or email
questions to cpan-testers-discuss@perl.org


--
Dear Ryan Eatmon,

This is a computer-generated report for Net-Jabber-2.0
on perl 5.12.4, created by CPAN-Reporter-1.2010.

Thank you for uploading your work to CPAN.  Congratulations!
All tests were successful.

Sections of this report:

    * Tester comments
    * Program output
    * Prerequisites
    * Environment and other context

------------------------------
TESTER COMMENTS
------------------------------

Additional comments from tester:

none provided

------------------------------
PROGRAM OUTPUT
------------------------------

Output from '/usr/bin/make test':

PERL_DL_NONLAZY=1 /usr/bin/perl "-MExtUtils::Command::MM" "-e" "test_harness(0, 'blib/lib', 'blib/arch')" t/*.t
Use of uninitialized value $args{"file"} in lc at /Library/Perl/5.12/Net/XMPP/Debug.pm line 154.
t/1_load.t .................... ok
Use of uninitialized value $args{"file"} in lc at /Library/Perl/5.12/Net/XMPP/Debug.pm line 154.
t/2_client.t .................. ok
Use of uninitialized value $args{"file"} in lc at /Library/Perl/5.12/Net/XMPP/Debug.pm line 154.
t/iq.t ........................ ok
Use of uninitialized value $args{"file"} in lc at /Library/Perl/5.12/Net/XMPP/Debug.pm line 154.
t/jid.t ....................... ok
Use of uninitialized value $args{"file"} in lc at /Library/Perl/5.12/Net/XMPP/Debug.pm line 154.
t/message.t ................... ok
Use of uninitialized value $args{"file"} in lc at /Library/Perl/5.12/Net/XMPP/Debug.pm line 154.
t/oldadd.t .................... ok
Use of uninitialized value $args{"file"} in lc at /Library/Perl/5.12/Net/XMPP/Debug.pm line 154.
t/parse_x_data.t .............. ok
Use of uninitialized value $args{"file"} in lc at /Library/Perl/5.12/Net/XMPP/Debug.pm line 154.
t/parse_x_delay.t ............. ok
Use of uninitialized value $args{"file"} in lc at /Library/Perl/5.12/Net/XMPP/Debug.pm line 154.
t/presence.t .................. ok
Use of uninitialized value $args{"file"} in lc at /Library/Perl/5.12/Net/XMPP/Debug.pm line 154.
t/protocol_definenamespace.t .. ok
Use of uninitialized value $args{"file"} in lc at /Library/Perl/5.12/Net/XMPP/Debug.pm line 154.
t/protocol_muc.t .............. ok
Use of uninitialized value $args{"file"} in lc at /Library/Perl/5.12/Net/XMPP/Debug.pm line 154.
t/protocol_rpc.t .............. ok
Use of uninitialized value $args{"file"} in lc at /Library/Perl/5.12/Net/XMPP/Debug.pm line 154.
t/query_agent.t ............... ok
Use of uninitialized value $args{"file"} in lc at /Library/Perl/5.12/Net/XMPP/Debug.pm line 154.
t/query_agents.t .............. ok
Use of uninitialized value $args{"file"} in lc at /Library/Perl/5.12/Net/XMPP/Debug.pm line 154.
t/query_autoupdate.t .......... ok
Use of uninitialized value $args{"file"} in lc at /Library/Perl/5.12/Net/XMPP/Debug.pm line 154.
t/query_browse.t .............. ok
Use of uninitialized value $args{"file"} in lc at /Library/Perl/5.12/Net/XMPP/Debug.pm line 154.
t/query_bytestreams.t ......... ok
Use of uninitialized value $args{"file"} in lc at /Library/Perl/5.12/Net/XMPP/Debug.pm line 154.
t/query_commands.t ............ ok
Use of uninitialized value $args{"file"} in lc at /Library/Perl/5.12/Net/XMPP/Debug.pm line 154.
t/query_conference.t .......... ok
Use of uninitialized value $args{"file"} in lc at /Library/Perl/5.12/Net/XMPP/Debug.pm line 154.
t/query_disco_info.t .......... ok
Use of uninitialized value $args{"file"} in lc at /Library/Perl/5.12/Net/XMPP/Debug.pm line 154.
t/query_disco_items.t ......... ok
Use of uninitialized value $args{"file"} in lc at /Library/Perl/5.12/Net/XMPP/Debug.pm line 154.
t/query_featureneg.t .......... ok
Use of uninitialized value $args{"file"} in lc at /Library/Perl/5.12/Net/XMPP/Debug.pm line 154.
t/query_filter.t .............. ok
Use of uninitialized value $args{"file"} in lc at /Library/Perl/5.12/Net/XMPP/Debug.pm line 154.
t/query_gateway.t ............. ok
Use of uninitialized value $args{"file"} in lc at /Library/Perl/5.12/Net/XMPP/Debug.pm line 154.
t/query_last.t ................ ok
Use of uninitialized value $args{"file"} in lc at /Library/Perl/5.12/Net/XMPP/Debug.pm line 154.
t/query_muc_admin.t ........... ok
Use of uninitialized value $args{"file"} in lc at /Library/Perl/5.12/Net/XMPP/Debug.pm line 154.
t/query_oob.t ................. ok
Use of uninitialized value $args{"file"} in lc at /Library/Perl/5.12/Net/XMPP/Debug.pm line 154.
t/query_pass.t ................ ok
Use of uninitialized value $args{"file"} in lc at /Library/Perl/5.12/Net/XMPP/Debug.pm line 154.
t/query_pubsub.t .............. ok
Use of uninitialized value $args{"file"} in lc at /Library/Perl/5.12/Net/XMPP/Debug.pm line 154.
t/query_pubsub_event.t ........ ok
Use of uninitialized value $args{"file"} in lc at /Library/Perl/5.12/Net/XMPP/Debug.pm line 154.
t/query_pubsub_owner.t ........ ok
Use of uninitialized value $args{"file"} in lc at /Library/Perl/5.12/Net/XMPP/Debug.pm line 154.
t/query_rpc.t ................. ok
Use of uninitialized value $args{"file"} in lc at /Library/Perl/5.12/Net/XMPP/Debug.pm line 154.
t/query_search.t .............. ok
Use of uninitialized value $args{"file"} in lc at /Library/Perl/5.12/Net/XMPP/Debug.pm line 154.
t/query_si.t .................. ok
Use of uninitialized value $args{"file"} in lc at /Library/Perl/5.12/Net/XMPP/Debug.pm line 154.
t/query_si_filetrans.t ........ ok
Use of uninitialized value $args{"file"} in lc at /Library/Perl/5.12/Net/XMPP/Debug.pm line 154.
t/query_time.t ................ ok
Use of uninitialized value $args{"file"} in lc at /Library/Perl/5.12/Net/XMPP/Debug.pm line 154.
t/query_version.t ............. ok
Use of uninitialized value $args{"file"} in lc at /Library/Perl/5.12/Net/XMPP/Debug.pm line 154.
t/rawxml.t .................... ok
Use of uninitialized value $args{"file"} in lc at /Library/Perl/5.12/Net/XMPP/Debug.pm line 154.
t/x_autoupdate.t .............. ok
Use of uninitialized value $args{"file"} in lc at /Library/Perl/5.12/Net/XMPP/Debug.pm line 154.
t/x_conference.t .............. ok
Use of uninitialized value $args{"file"} in lc at /Library/Perl/5.12/Net/XMPP/Debug.pm line 154.
t/x_data.t .................... ok
Use of uninitialized value $args{"file"} in lc at /Library/Perl/5.12/Net/XMPP/Debug.pm line 154.
t/x_delay.t ................... ok
Use of uninitialized value $args{"file"} in lc at /Library/Perl/5.12/Net/XMPP/Debug.pm line 154.
t/x_encrypted.t ............... ok
Use of uninitialized value $args{"file"} in lc at /Library/Perl/5.12/Net/XMPP/Debug.pm line 154.
t/x_expire.t .................. ok
Use of uninitialized value $args{"file"} in lc at /Library/Perl/5.12/Net/XMPP/Debug.pm line 154.
t/x_muc.t ..................... ok
Use of uninitialized value $args{"file"} in lc at /Library/Perl/5.12/Net/XMPP/Debug.pm line 154.
t/x_muc_user.t ................ ok
Use of uninitialized value $args{"file"} in lc at /Library/Perl/5.12/Net/XMPP/Debug.pm line 154.
t/x_oob.t ..................... ok
Use of uninitialized value $args{"file"} in lc at /Library/Perl/5.12/Net/XMPP/Debug.pm line 154.
t/x_roster.t .................. ok
Use of uninitialized value $args{"file"} in lc at /Library/Perl/5.12/Net/XMPP/Debug.pm line 154.
t/x_signed.t .................. ok
All tests successful.
Files=49, Tests=3376, 11 wallclock secs ( 0.41 usr  0.11 sys +  9.33 cusr  0.76 csys = 10.61 CPU)
Result: PASS

------------------------------
PREREQUISITES
------------------------------

Prerequisite modules loaded:

requires:

    Module              Need Have
    ------------------- ---- ----
    Net::XMPP           1    1.02

build_requires:

    Module              Need Have
    ------------------- ---- ----
    ExtUtils::MakeMaker 0    6.72


------------------------------
ENVIRONMENT AND OTHER CONTEXT
------------------------------

Environment variables:

    LANG = sv_SE.UTF-8
    PATH = /usr/bin:/bin:/usr/sbin:/sbin:/usr/local/bin:/opt/X11/bin
    PERL5LIB = 
    PERL5OPT = 
    PERL5_CPANPLUS_IS_RUNNING = 44314
    PERL5_CPAN_IS_RUNNING = 44314
    SHELL = /bin/bash
    TERM = xterm-256color
    VERSIONER_PERL_PREFER_32_BIT = no
    VERSIONER_PERL_VERSION = 5.12

Perl special variables (and OS-specific diagnostics, for MSWin32):

    $^X = /usr/bin/perl
    $UID/$EUID = 0 / 0
    $GID = 0 0 1 2 3 4 5 8 9 12 20 29 33 61 80 98 100 204 401
    $EGID = 0 0 1 2 3 4 5 8 9 12 20 29 33 61 80 98 100 204 401

Perl module toolchain versions installed:

    Module              Have    
    ------------------- --------
    CPAN                2.00    
    CPAN::Meta          2.132140
    Cwd                 3.40    
    ExtUtils::CBuilder  0.280205
    ExtUtils::Command   1.17    
    ExtUtils::Install   1.55    
    ExtUtils::MakeMaker 6.72    
    ExtUtils::Manifest  1.61    
    ExtUtils::ParseXS   3.18    
    File::Spec          3.40    
    JSON                2.59    
    JSON::PP            2.27202 
    Module::Build       0.4007  
    Module::Signature   0.73    
    Parse::CPAN::Meta   1.4405  
    Test::Harness       3.28    
    Test::More          0.98    
    YAML                0.84    
    YAML::Syck          1.27    
    version             0.9902  


--

Summary of my perl5 (revision 5 version 12 subversion 4) configuration:
   
  Platform:
    osname=darwin, osvers=12.0, archname=darwin-thread-multi-2level
    uname='darwin b1017.apple.com 12.0 darwin kernel version 12.0.0: tue may 15 23:31:29 pdt 2012; root:xnu-2050.6.70~1release_x86_64 x86_64 '
    config_args='-ds -e -Dprefix=/usr -Dccflags=-g  -pipe  -Dldflags= -Dman3ext=3pm -Duseithreads -Duseshrplib -Dinc_version_list=none -Dcc=clang'
    hint=recommended, useposix=true, d_sigaction=define
    useithreads=define, usemultiplicity=define
    useperlio=define, d_sfio=undef, uselargefiles=define, usesocks=undef
    use64bitint=define, use64bitall=define, uselongdouble=undef
    usemymalloc=n, bincompat5005=undef
  Compiler:
    cc='clang', ccflags ='-arch i386 -arch x86_64 -g -pipe -fno-common -DPERL_DARWIN -fno-strict-aliasing -fstack-protector -I/usr/local/include',
    optimize='-Os',
    cppflags='-g -pipe -fno-common -DPERL_DARWIN -fno-strict-aliasing -fstack-protector -I/usr/local/include'
    ccversion='', gccversion='4.2.1 Compatible Apple Clang 4.0 (tags/Apple/clang-418.0.60)', gccosandvers=''
    intsize=4, longsize=8, ptrsize=8, doublesize=8, byteorder=12345678
    d_longlong=define, longlongsize=8, d_longdbl=define, longdblsize=16
    ivtype='long', ivsize=8, nvtype='double', nvsize=8, Off_t='off_t', lseeksize=8
    alignbytes=8, prototype=define
  Linker and Libraries:
    ld='clang -mmacosx-version-min=10.8', ldflags ='-arch i386 -arch x86_64 -fstack-protector -L/usr/local/lib'
    libpth=/usr/local/lib /usr/lib
    libs=-ldbm -ldl -lm -lutil -lc
    perllibs=-ldl -lm -lutil -lc
    libc=, so=dylib, useshrplib=true, libperl=libperl.dylib
    gnulibc_version=''
  Dynamic Linking:
    dlsrc=dl_dlopen.xs, dlext=bundle, d_dlsymun=undef, ccdlflags=' '
    cccdlflags=' ', lddlflags='-arch i386 -arch x86_64 -bundle -undefined dynamic_lookup -L/usr/local/lib -fstack-protector'


Characteristics of this binary (from libperl): 
  Compile-time options: MULTIPLICITY PERL_DONT_CREATE_GVSV
                        PERL_IMPLICIT_CONTEXT PERL_MALLOC_WRAP USE_64_BIT_ALL
                        USE_64_BIT_INT USE_ITHREADS USE_LARGE_FILES
                        USE_PERLIO USE_PERL_ATOF USE_REENTRANT_API
  Locally applied patches:
	/Library/Perl/Updates/<version> comes before system perl directories
	installprivlib and installarchlib points to the Updates directory
  Built under darwin
  Compiled at Jun 16 2012 10:12:45
  %ENV:
    PERL5LIB=""
    PERL5OPT=""
    PERL5_CPANPLUS_IS_RUNNING="44314"
    PERL5_CPAN_IS_RUNNING="44314"
  @INC:
    /Library/Perl/5.12/darwin-thread-multi-2level
    /Library/Perl/5.12
    /Network/Library/Perl/5.12/darwin-thread-multi-2level
    /Network/Library/Perl/5.12
    /Library/Perl/Updates/5.12.4/darwin-thread-multi-2level
    /Library/Perl/Updates/5.12.4
    /System/Library/Perl/5.12/darwin-thread-multi-2level
    /System/Library/Perl/5.12
    /System/Library/Perl/Extras/5.12/darwin-thread-multi-2level
    /System/Library/Perl/Extras/5.12
    .