Project2-Gantt v0.009 Perl 5 v5.37.8 amd64-freebsd

Status
Pass
From
Slaven Rezić
Dist
Project2-Gantt v0.009
Platform
Perl 5 v5.37.8 amd64-freebsd
Date
2023-02-16 09:53:35
ID
c7b33aa0-addf-11ed-92e8-64da6d8775ea
This distribution has been tested as part of the CPAN Testers
project, supporting the Perl programming language.  See
http://wiki.cpantesters.org/ for more information or email
questions to cpan-testers-discuss@perl.org


--
Dear Bruno Ramos,

This is a computer-generated report for Project2-Gantt-0.009
on perl 5.37.8, created by CPAN-Reporter-1.2018.

Thank you for uploading your work to CPAN.  Congratulations!
All tests were successful.

Sections of this report:

    * Tester comments
    * Program output
    * Prerequisites
    * Environment and other context

------------------------------
TESTER COMMENTS
------------------------------

Additional comments from tester:

none provided

------------------------------
PROGRAM OUTPUT
------------------------------

Output from '/usr/bin/make test':

PERL_DL_NONLAZY=1 "/usr/perl5.37.8p/bin/perl5.37.8" "-MExtUtils::Command::MM" "-MTest::Harness" "-e" "undef *Test::Harness::Switches; test_harness(0, 'blib/lib', 'blib/arch')" t/*.t
# 
# Versions for all modules listed in MYMETA.json (including optional ones):
# 
# === Configure Requires ===
# 
#     Module              Want Have
#     ------------------- ---- ----
#     ExtUtils::MakeMaker  any 7.66
# 
# === Build Requires ===
# 
#     Module              Want Have
#     ------------------- ---- ----
#     ExtUtils::MakeMaker  any 7.66
# 
# === Test Requires ===
# 
#     Module              Want     Have
#     ------------------- ---- --------
#     ExtUtils::MakeMaker  any     7.66
#     File::Find::Rule     any     0.34
#     File::Spec           any     3.88
#     Test::Directory      any    0.051
#     Test::More           any 1.302192
# 
# === Test Recommends ===
# 
#     Module         Want     Have
#     ---------- -------- --------
#     CPAN::Meta 2.120900 2.150010
# 
# === Runtime Requires ===
# 
#     Module             Want     Have
#     ----------------- ----- --------
#     Alien::Font::Vera 0.013    0.013
#     Imager            1.019    1.019
#     Mojolicious        9.31     9.31
#     perl              5.020 5.037008
# 
t/00-report-prereqs.t .. ok
# Project2::Gantt
# Project2::Gantt::SpanInfo
# Project2::Gantt::GanttHeader
# Project2::Gantt::ImageWriter
# Project2::Gantt::Task
# Project2::Gantt::TimeSpan
# Project2::Gantt::Skin
# Project2::Gantt::TextUtils
# Project2::Gantt::DateUtils
# Project2::Gantt::Resource
# Project2::Gantt::Globals
# Project2::Gantt::Skin::Large
# Project2::Gantt::Skin::Medium
# Project2::Gantt::Skin::Small
t/compile.t ............ ok
# $VAR1 = bless( {
#                  'dir' => 'test-directory-tmp-0e__f'
#                }, 'Test::Directory' );
# $VAR1 = 'test-directory-tmp-0e__f/gantt-hours.png';
t/gantt-hours.t ........ ok
t/project2_gantt.t ..... ok
t/time_piece.t ......... ok
All tests successful.
Files=5, Tests=25,  2 wallclock secs ( 0.04 usr  0.02 sys +  1.00 cusr  0.33 csys =  1.38 CPU)
Result: PASS

------------------------------
PREREQUISITES
------------------------------

Prerequisite modules loaded:

requires:

    Module              Need  Have    
    ------------------- ----- --------
    Alien::Font::Vera   0.013 0.013   
    Imager              1.019 1.019   
    Mojolicious         9.31  9.31    
    perl                5.020 5.037008

build_requires:

    Module              Need  Have    
    ------------------- ----- --------
    ExtUtils::MakeMaker 0     7.66    
    File::Find::Rule    0     0.34    
    File::Spec          0     3.88    
    Test::Directory     0     0.051   
    Test::More          0     1.302192

configure_requires:

    Module              Need  Have    
    ------------------- ----- --------
    ExtUtils::MakeMaker 0     7.66    


------------------------------
ENVIRONMENT AND OTHER CONTEXT
------------------------------

Environment variables:

    PATH = /usr/local/bin:/usr/bin:/bin:/usr/local/sbin:/usr/sbin:/sbin:/home/cpansand/bin/sh:/home/cpansand/bin:/usr/games:/home/cpansand/devel:/usr/home/eserte/src/srezic-misc/scripts
    PERL5LIB = /home/cpansand/.cpan/build/2023021609/Test-Directory-0.051-0/blib/arch:/home/cpansand/.cpan/build/2023021609/Test-Directory-0.051-0/blib/lib:/home/cpansand/.cpan/build/2023021609/Imager-1.019-0/blib/arch:/home/cpansand/.cpan/build/2023021609/Imager-1.019-0/blib/lib:/home/cpansand/.cpan/build/2023021609/Alien-Font-Vera-0.013-0/blib/arch:/home/cpansand/.cpan/build/2023021609/Alien-Font-Vera-0.013-0/blib/lib
    PERL5OPT = 
    PERL5_CPANPLUS_IS_RUNNING = 67118
    PERL5_CPAN_IS_RUNNING = 67118
    PERL5_CPAN_IS_RUNNING_IN_RECURSION = 67087,67118
    PERL_BATCH = yes
    PERL_CANARY_STABILITY_NOPROMPT = 1
    PERL_CPAN_REPORTER_CONFIG = /var/tmp/cpansmoker-1023/2023021609/cpanreporter_000_config.ini
    PERL_EXTUTILS_AUTOINSTALL = --defaultdeps
    PERL_USE_UNSAFE_INC = 1
    SHELL = /bin/sh
    TMPDIR = /var/tmp/cpansmoker-1023/2023021609

Perl special variables (and OS-specific diagnostics, for MSWin32):

    $^X = /usr/perl5.37.8p/bin/perl5.37.8
    $UID/$EUID = 1023 / 1023
    $GID = 1023 1023
    $EGID = 1023 1023

Perl module toolchain versions installed:

    Module              Have    
    ------------------- --------
    CPAN                2.34    
    CPAN::Meta          2.150010
    Cwd                 3.88    
    ExtUtils::CBuilder  0.280238
    ExtUtils::Command   7.66    
    ExtUtils::Install   2.22    
    ExtUtils::MakeMaker 7.66    
    ExtUtils::Manifest  1.73    
    ExtUtils::ParseXS   3.49    
    File::Spec          3.88    
    JSON                4.10    
    JSON::PP            4.16    
    Module::Build       0.4232  
    Module::Signature   n/a     
    Parse::CPAN::Meta   2.150010
    Test::Harness       3.44    
    Test::More          1.302192
    YAML                1.30    
    YAML::Syck          1.34    
    version             0.9929  


--

Summary of my perl5 (revision 5 version 37 subversion 8) configuration:
   
  Platform:
    osname=freebsd
    osvers=12.4-stable
    archname=amd64-freebsd
    uname='freebsd cloud1.bbbike.org 12.4-stable freebsd 12.4-stable stable12-d89fd4115 generic amd64 '
    config_args='-ds -e -Dprefix=/usr/perl5.37.8p -Dusedevel -Dusemallocwrap=no -Dcf_email=srezic@cpan.org -Doptimize=-O2 -pipe'
    hint=recommended
    useposix=true
    d_sigaction=define
    useithreads=undef
    usemultiplicity=undef
    use64bitint=define
    use64bitall=define
    uselongdouble=undef
    usemymalloc=n
    default_inc_excludes_dot=define
  Compiler:
    cc='cc'
    ccflags ='-DHAS_FPSETMASK -DHAS_FLOATINGPOINT_H -fno-strict-aliasing -pipe -fstack-protector-strong -I/usr/local/include'
    optimize='-O2 -pipe'
    cppflags='-DHAS_FPSETMASK -DHAS_FLOATINGPOINT_H -fno-strict-aliasing -pipe -fstack-protector-strong -I/usr/local/include'
    ccversion=''
    gccversion='FreeBSD Clang 13.0.0 (git@github.com:llvm/llvm-project.git llvmorg-13.0.0-0-gd7b669b3a303)'
    gccosandvers=''
    intsize=4
    longsize=8
    ptrsize=8
    doublesize=8
    byteorder=12345678
    doublekind=3
    d_longlong=define
    longlongsize=8
    d_longdbl=define
    longdblsize=16
    longdblkind=3
    ivtype='long'
    ivsize=8
    nvtype='double'
    nvsize=8
    Off_t='off_t'
    lseeksize=8
    alignbytes=8
    prototype=define
  Linker and Libraries:
    ld='cc'
    ldflags ='-pthread -Wl,-E  -fstack-protector-strong -L/usr/local/lib'
    libpth=/usr/lib /usr/local/lib /usr/lib/clang/13.0.0/lib
    libs=-lpthread -lgdbm -ldl -lm -lcrypt -lutil -lc
    perllibs=-lpthread -ldl -lm -lcrypt -lutil -lc
    libc=
    so=so
    useshrplib=false
    libperl=libperl.a
    gnulibc_version=''
  Dynamic Linking:
    dlsrc=dl_dlopen.xs
    dlext=so
    d_dlsymun=undef
    ccdlflags=' '
    cccdlflags='-DPIC -fPIC'
    lddlflags='-shared  -L/usr/local/lib -fstack-protector-strong'


Characteristics of this binary (from libperl): 
  Compile-time options:
    HAS_TIMES
    PERLIO_LAYERS
    PERL_COPY_ON_WRITE
    PERL_DONT_CREATE_GVSV
    PERL_HASH_FUNC_SIPHASH13
    PERL_HASH_USE_SBOX32
    PERL_OP_PARENT
    PERL_PRESERVE_IVUV
    PERL_USE_DEVEL
    PERL_USE_SAFE_PUTENV
    USE_64_BIT_ALL
    USE_64_BIT_INT
    USE_LARGE_FILES
    USE_LOCALE
    USE_LOCALE_COLLATE
    USE_LOCALE_CTYPE
    USE_LOCALE_NUMERIC
    USE_LOCALE_TIME
    USE_PERLIO
    USE_PERL_ATOF
  Built under freebsd
  Compiled at Jan 25 2023 07:12:47
  %ENV:
    PERL5LIB="/home/cpansand/.cpan/build/2023021609/Test-Directory-0.051-0/blib/arch:/home/cpansand/.cpan/build/2023021609/Test-Directory-0.051-0/blib/lib:/home/cpansand/.cpan/build/2023021609/Imager-1.019-0/blib/arch:/home/cpansand/.cpan/build/2023021609/Imager-1.019-0/blib/lib:/home/cpansand/.cpan/build/2023021609/Alien-Font-Vera-0.013-0/blib/arch:/home/cpansand/.cpan/build/2023021609/Alien-Font-Vera-0.013-0/blib/lib"
    PERL5OPT=""
    PERL5_CPANPLUS_IS_RUNNING="67118"
    PERL5_CPAN_IS_RUNNING="67118"
    PERL5_CPAN_IS_RUNNING_IN_RECURSION="67087,67118"
    PERL_BATCH="yes"
    PERL_CANARY_STABILITY_NOPROMPT="1"
    PERL_CPAN_REPORTER_CONFIG="/var/tmp/cpansmoker-1023/2023021609/cpanreporter_000_config.ini"
    PERL_EXTUTILS_AUTOINSTALL="--defaultdeps"
    PERL_USE_UNSAFE_INC="1"
  @INC:
    /home/cpansand/.cpan/build/2023021609/Test-Directory-0.051-0/blib/arch
    /home/cpansand/.cpan/build/2023021609/Test-Directory-0.051-0/blib/lib
    /home/cpansand/.cpan/build/2023021609/Imager-1.019-0/blib/arch
    /home/cpansand/.cpan/build/2023021609/Imager-1.019-0/blib/lib
    /home/cpansand/.cpan/build/2023021609/Alien-Font-Vera-0.013-0/blib/arch
    /home/cpansand/.cpan/build/2023021609/Alien-Font-Vera-0.013-0/blib/lib
    /usr/perl5.37.8p/lib/site_perl/5.37.8/amd64-freebsd
    /usr/perl5.37.8p/lib/site_perl/5.37.8
    /usr/perl5.37.8p/lib/5.37.8/amd64-freebsd
    /usr/perl5.37.8p/lib/5.37.8
    .