Archive-Tar-Wrapper v0.35 Perl 5 v5.12.4 amd64-netbsd-thread-multi
- Status
- Pass
- From
- Chris Williams (BINGOS)
- Dist
-
Archive-Tar-Wrapper v0.35
- Platform
- Perl 5 v5.12.4 amd64-netbsd-thread-multi
- Date
- 2019-04-13 00:19:19
- ID
- c78e09cc-5d81-11e9-9ccb-b1ae95f66eb9
This distribution has been tested as part of the CPAN Testers
project, supporting the Perl programming language. See
http://wiki.cpantesters.org/ for more information or email
questions to cpan-testers-discuss@perl.org
--
Dear ARFREITAS,
This is a computer-generated error report created automatically by
CPANPLUS, version 0.9176. Testers personal comments may appear
at the end of this report.
Thank you for uploading your work to CPAN. Congratulations!
All tests were successful.
TEST RESULTS:
Below is the error stack from stage 'make test':
PERL_DL_NONLAZY=1 "/home/cpan/pit/thr/perl-5.12.4/bin/perl" "-MExtUtils::Command::MM" "-MTest::Harness" "-e" "undef *Test::Harness::Switches; test_harness(0, 'blib/lib', 'blib/arch')" t/*.t
t/001Basic.t ........ ok
t/002Mult.t ......... ok
t/003Dirs.t ......... ok
t/004Utf8.t ......... ok
t/005Cwd.t .......... ok
t/006DirPerms.t ..... ok
t/007bzip.t ......... ok
# with grep: Ran 1403 iterations (392 outliers).
# with grep: Rounded run time per iteration: 0.000791 +/- 0.000000 (0.0%)
# with grep and compiled regex: Ran 1473 iterations (438 outliers).
# with grep and compiled regex: Rounded run time per iteration: 0.001061 +/- 0.000000 (0.0%)
# with eq: Ran 1473 iterations (432 outliers).
# with eq: Rounded run time per iteration: 0.001031 +/- 0.000000 (0.0%)
# with enhanced eq: Ran 1403 iterations (398 outliers).
# with enhanced eq: Rounded run time per iteration: 0.001010 +/- 0.000000 (0.0%)
# with enhanced eq mark2: Ran 1337 iterations (304 outliers).
# with enhanced eq mark2: Rounded run time per iteration: 0.000738 +/- 0.000000 (0.0%)
# with enhanced eq mark3: Ran 1473 iterations (430 outliers).
# with enhanced eq mark3: Rounded run time per iteration: 0.000635 +/- 0.000000 (0.0%)
# sort and shift: Ran 1274 iterations (223 outliers).
# sort and shift: Rounded run time per iteration: 0.001114 +/- 0.000000 (0.0%)
t/008performance.t .. ok
t/009compressed.t ... ok
t/010openbsd.t ...... ok
All tests successful.
Files=10, Tests=65, 17 wallclock secs ( 0.05 usr 0.01 sys + 15.04 cusr 1.33 csys = 16.43 CPU)
Result: PASS
PREREQUISITES:
Here is a list of prerequisites you specified and versions we
managed to load:
Module Name Have Want
Cwd 3.75 0
Dumbbench 0.111 0.111
ExtUtils::MakeMaker 7.34 0
File::Temp 0.2309 0
File::Which 1.23 0
IPC::Run 20180523.0 0
Log::Log4perl 1.49 0
Test::Simple 1.302162 1.302073
Perl module toolchain versions installed:
Module Name Have
CPANPLUS 0.9176
CPANPLUS::Dist::Build 0.90
Cwd 3.75
ExtUtils::CBuilder 0.280231
ExtUtils::Command 7.34
ExtUtils::Install 2.14
ExtUtils::MakeMaker 7.34
ExtUtils::Manifest 1.72
ExtUtils::ParseXS 3.35
File::Spec 3.75
Module::Build 0.4224
Pod::Parser 1.37
Pod::Simple 3.14
Test2 1.302162
Test::Harness 3.42
Test::More 1.302162
version 0.9924
******************************** NOTE ********************************
The comments above are created mechanically, possibly without manual
checking by the sender. As there are many people performing automatic
tests on each upload to CPAN, it is likely that you will receive
identical messages about the same problem.
If you believe that the message is mistaken, please reply to the first
one with correction and/or additional informations, and do not take
it personally. We appreciate your patience. :)
**********************************************************************
Additional comments:
This report was machine-generated by CPANPLUS::Dist::YACSmoke 1.06.
Powered by minismokebox version 0.68
------------------------------
ENVIRONMENT AND OTHER CONTEXT
------------------------------
Environment variables:
AUTOMATED_TESTING = 1
NONINTERACTIVE_TESTING = 1
PATH = /home/cpan/bin:/bin:/sbin:/usr/bin:/usr/sbin:/usr/X11R7/bin:/usr/X11R6/bin:/usr/pkg/bin:/usr/pkg/sbin:/usr/games:/usr/local/bin:/usr/local/sbin
PERL5LIB = /home/cpan/pit/jail/cxogWKfVep/lib/perl5:/home/cpan/pit/thr/conf/perl-5.12.4/.cpanplus/5.12.4/build/F5VSk_1559/Archive-Tar-Wrapper-0.35/blib/lib:/home/cpan/pit/thr/conf/perl-5.12.4/.cpanplus/5.12.4/build/F5VSk_1559/Archive-Tar-Wrapper-0.35/blib/arch
PERL5_CPANPLUS_IS_RUNNING = 21366
PERL5_CPANPLUS_IS_VERSION = 0.9176
PERL5_MINISMOKEBOX = 0.68
PERL5_YACSMOKE_BASE = /home/cpan/pit/thr/conf/perl-5.12.4
PERL_EXTUTILS_AUTOINSTALL = --defaultdeps
PERL_LOCAL_LIB_ROOT = /home/cpan/pit/jail/cxogWKfVep
PERL_MB_OPT = --install_base "/home/cpan/pit/jail/cxogWKfVep"
PERL_MM_OPT = INSTALL_BASE=/home/cpan/pit/jail/cxogWKfVep
PERL_MM_USE_DEFAULT = 1
SHELL = /usr/pkg/bin/bash
TERM = screen
Perl special variables (and OS-specific diagnostics, for MSWin32):
Perl: $^X = /home/cpan/pit/thr/perl-5.12.4/bin/perl
UID: $< = 1002
EUID: $> = 1002
GID: $( = 100 100
EGID: $) = 100 100
-------------------------------
--
Summary of my perl5 (revision 5 version 12 subversion 4) configuration:
Platform:
osname=netbsd, osvers=6.1.4, archname=amd64-netbsd-thread-multi
uname='netbsd naboo.bingosnet.co.uk 6.1.4 netbsd 6.1.4 (generic) amd64 '
config_args='-des -Dprefix=/home/cpan/pit/thr/perl-5.12.4 -Dusethreads'
hint=recommended, useposix=true, d_sigaction=define
useithreads=define, usemultiplicity=define
useperlio=define, d_sfio=undef, uselargefiles=define, usesocks=undef
use64bitint=define, use64bitall=define, uselongdouble=undef
usemymalloc=n, bincompat5005=undef
Compiler:
cc='cc', ccflags ='-fno-strict-aliasing -pipe -fstack-protector -I/usr/pkg/include',
optimize='-O',
cppflags='-fno-strict-aliasing -pipe -fstack-protector -I/usr/pkg/include'
ccversion='', gccversion='4.5.3', gccosandvers=''
intsize=4, longsize=8, ptrsize=8, doublesize=8, byteorder=12345678
d_longlong=define, longlongsize=8, d_longdbl=define, longdblsize=16
ivtype='long', ivsize=8, nvtype='double', nvsize=8, Off_t='off_t', lseeksize=8
alignbytes=8, prototype=define
Linker and Libraries:
ld='cc', ldflags =' -Wl,-rpath,/usr/pkg/lib -Wl,-rpath,/usr/local/lib -fstack-protector -L/usr/pkg/lib'
libpth=/usr/pkg/lib /lib /usr/lib
libs=-lgdbm -lm -lcrypt -lutil -lc -lposix -lpthread
perllibs=-lm -lcrypt -lutil -lc -lposix -lpthread
libc=/lib/libc.so, so=so, useshrplib=false, libperl=libperl.a
gnulibc_version=''
Dynamic Linking:
dlsrc=dl_dlopen.xs, dlext=so, d_dlsymun=undef, ccdlflags='-Wl,-E '
cccdlflags='-DPIC -fPIC ', lddlflags='--whole-archive -shared -L/usr/pkg/lib -fstack-protector'
Characteristics of this binary (from libperl):
Compile-time options: MULTIPLICITY PERL_DONT_CREATE_GVSV
PERL_IMPLICIT_CONTEXT PERL_MALLOC_WRAP USE_64_BIT_ALL
USE_64_BIT_INT USE_ITHREADS USE_LARGE_FILES
USE_PERLIO USE_PERL_ATOF USE_REENTRANT_API
Built under netbsd
Compiled at May 9 2014 19:25:26
%ENV:
PERL5LIB="/home/cpan/pit/jail/cxogWKfVep/lib/perl5:/home/cpan/pit/thr/conf/perl-5.12.4/.cpanplus/5.12.4/build/F5VSk_1559/Archive-Tar-Wrapper-0.35/blib/lib:/home/cpan/pit/thr/conf/perl-5.12.4/.cpanplus/5.12.4/build/F5VSk_1559/Archive-Tar-Wrapper-0.35/blib/arch"
PERL5_CPANPLUS_IS_RUNNING="21366"
PERL5_CPANPLUS_IS_VERSION="0.9176"
PERL5_MINISMOKEBOX="0.68"
PERL5_YACSMOKE_BASE="/home/cpan/pit/thr/conf/perl-5.12.4"
PERL_EXTUTILS_AUTOINSTALL="--defaultdeps"
PERL_LOCAL_LIB_ROOT="/home/cpan/pit/jail/cxogWKfVep"
PERL_MB_OPT="--install_base "/home/cpan/pit/jail/cxogWKfVep""
PERL_MM_OPT="INSTALL_BASE=/home/cpan/pit/jail/cxogWKfVep"
PERL_MM_USE_DEFAULT="1"
@INC:
/home/cpan/pit/jail/cxogWKfVep/lib/perl5/5.12.4/amd64-netbsd-thread-multi
/home/cpan/pit/jail/cxogWKfVep/lib/perl5/5.12.4
/home/cpan/pit/jail/cxogWKfVep/lib/perl5/amd64-netbsd-thread-multi
/home/cpan/pit/jail/cxogWKfVep/lib/perl5
/home/cpan/pit/thr/conf/perl-5.12.4/.cpanplus/5.12.4/build/F5VSk_1559/Archive-Tar-Wrapper-0.35/blib/lib
/home/cpan/pit/thr/conf/perl-5.12.4/.cpanplus/5.12.4/build/F5VSk_1559/Archive-Tar-Wrapper-0.35/blib/arch
/home/cpan/pit/thr/perl-5.12.4/lib/site_perl/5.12.4/amd64-netbsd-thread-multi
/home/cpan/pit/thr/perl-5.12.4/lib/site_perl/5.12.4
/home/cpan/pit/thr/perl-5.12.4/lib/5.12.4/amd64-netbsd-thread-multi
/home/cpan/pit/thr/perl-5.12.4/lib/5.12.4
.