Report for EO-0.96

Back
From: metabase:user:9820532a-708b-1014-9a05-b18a96298da1
Subject: PASS EO-0.96 v5.15.6 GNU/Linux
Date: 2011-12-30T23:27:03Z

This distribution has been tested as part of the CPAN Testers
project, supporting the Perl programming language.  See
http://wiki.cpantesters.org/ for more information or email
questions to cpan-testers-discuss@perl.org


--
Dear James A. Duncan,

This is a computer-generated report for EO-0.96
on perl 5.15.6, created by CPAN-Reporter-1.2003.

Thank you for uploading your work to CPAN.  Congratulations!
All tests were successful.

Sections of this report:

    * Tester comments
    * Program output
    * Prerequisites
    * Environment and other context

------------------------------
TESTER COMMENTS
------------------------------

Additional comments from tester:

this report is from an automated smoke testing program
and was not reviewed by a human for accuracy

------------------------------
PROGRAM OUTPUT
------------------------------

Output from './Build test':

no_plan takes no arguments at t/001_array.t line 5.
t/001_array.t ............ ok
no_plan takes no arguments at t/001_array_hierarchy.t line 5.
t/001_array_hierarchy.t .. ok
t/001_dataload.t ......... ok
no_plan takes no arguments at t/001_delegate_load.t line 5.
t/001_delegate_load.t .... ok
t/001_load.t ............. ok
Subroutine DESTROY redefined at /home/bri/.cpan/build/EO-0.96-JfpMI6/blib/lib/EO/File.pm line 168.
t/002_basic.t ............ ok
no_plan takes no arguments at t/002_hash.t line 5.
t/002_hash.t ............. ok
no_plan takes no arguments at t/002_initwarning.t line 6.
t/002_initwarning.t ...... ok
no_plan takes no arguments at t/002_weakarray.t line 3.
t/002_weakarray.t ........ ok
no_plan takes no arguments at t/003_setoid.t line 6.
t/003_setoid.t ........... ok
no_plan takes no arguments at t/003_weakarray.t line 5.
t/003_weakarray.t ........ ok
t/004_natr.t ............. ok
no_plan takes no arguments at t/00_basic.t line 7.
t/00_basic.t ............. ok
no_plan takes no arguments at t/00simple.t line 6.
Subroutine DESTROY redefined at /home/bri/.cpan/build/EO-0.96-JfpMI6/blib/lib/EO/File.pm line 168.
t/00simple.t ............. ok
no_plan takes no arguments at t/01_perlprops.t line 6.
t/01_perlprops.t ......... ok
no_plan takes no arguments at t/01parents.t line 6.
t/01parents.t ............ ok
no_plan takes no arguments at t/02_osprops.t line 6.
t/02_osprops.t ........... ok
no_plan takes no arguments at t/singleton.t line 1.
t/singleton.t ............ ok
All tests successful.
Files=18, Tests=346,  2 wallclock secs ( 0.10 usr  0.03 sys +  1.63 cusr  0.17 csys =  1.93 CPU)
Result: PASS

------------------------------
PREREQUISITES
------------------------------

Prerequisite modules loaded:

requires:

    Module                   Need  Have    
    ------------------------ ----- --------
    Attribute::Handlers      0.01  0.93    
    Class::Accessor::Chained 0     0.01    
    Clone                    0.01  0.31    
    Data::Structure::Util    0.06  0.15    
    Data::UUID               0.01  1.217   
    Error                    0.15  0.17016 
    Path::Class              0.01  0.24    
    perl                     5.008 5.015006
    Scalar::Util             1.02  1.23    

build_requires:

    Module                   Need  Have    
    ------------------------ ----- --------
    Test::More               0     0.98    


------------------------------
ENVIRONMENT AND OTHER CONTEXT
------------------------------

Environment variables:

    AUTOMATED_TESTING = 1
    LANG = C
    LANGUAGE = en_GB:en
    LC_ALL = C
    MANPATH_WITHOUT_PERLBREW = 
    PATH = /home/bri/bin:/home/bri/perl5/perlbrew/bin:/home/bri/perl5/perlbrew/perls/perl-5.15.6/bin:~/bin:/usr/local/sbin:/usr/local/bin:/usr/sbin:/usr/bin:/sbin:/bin:/usr/games
    PATH_WITHOUT_PERLBREW = ~/bin:/usr/local/sbin:/usr/local/bin:/usr/sbin:/usr/bin:/sbin:/bin:/usr/games
    PERL5LIB = 
    PERL5OPT = 
    PERL5_CPANPLUS_IS_RUNNING = 31981
    PERL5_CPAN_IS_RUNNING = 31981
    PERL5_CPAN_IS_RUNNING_IN_RECURSION = 19072,31981
    PERLBREW_BASHRC_VERSION = 0.36
    PERLBREW_HOME = /home/bri/.perlbrew
    PERLBREW_MANPATH = /home/bri/perl5/perlbrew/perls/perl-5.15.6/man
    PERLBREW_PATH = /home/bri/perl5/perlbrew/bin:/home/bri/perl5/perlbrew/perls/perl-5.15.6/bin
    PERLBREW_PERL = perl-5.15.6
    PERLBREW_ROOT = /home/bri/perl5/perlbrew
    PERLBREW_VERSION = 0.36
    PERL_CPANM_OPT = --prompt --mirror http://172.16.1.3/cpan/
    PERL_CR_SMOKER_CURRENT = EO-0.96
    PERL_EXTUTILS_AUTOINSTALL = --defaultdeps
    PERL_MM_USE_DEFAULT = 1
    SHELL = /bin/bash
    TERM = linux

Perl special variables (and OS-specific diagnostics, for MSWin32):

    $^X = /home/bri/perl5/perlbrew/perls/perl-5.15.6/bin/perl5.15.6
    $UID/$EUID = 1000 / 1000
    $GID = 1000 4 20 24 46 112 120 122 1000
    $EGID = 1000 4 20 24 46 112 120 122 1000

Perl module toolchain versions installed:

    Module              Have    
    ------------------- --------
    CPAN                1.9800  
    CPAN::Meta          2.112621
    Cwd                 3.33    
    ExtUtils::CBuilder  0.280202
    ExtUtils::Command   1.17    
    ExtUtils::Install   1.52    
    ExtUtils::MakeMaker 6.62    
    ExtUtils::Manifest  1.60    
    ExtUtils::ParseXS   3.11    
    File::Spec          3.33    
    JSON                2.53    
    JSON::PP            2.27200 
    Module::Build       0.39_01 
    Module::Signature   0.68    
    Parse::CPAN::Meta   1.4401  
    Test::Harness       3.23    
    Test::More          0.98    
    YAML                n/a     
    YAML::Syck          1.19    
    version             0.95    


--

Summary of my perl5 (revision 5 version 15 subversion 6) configuration:
   
  Platform:
    osname=linux, osvers=2.6.38-11-generic, archname=i686-linux
    uname='linux lappy 2.6.38-11-generic #48-ubuntu smp fri jul 29 19:05:14 utc 2011 i686 i686 i386 gnulinux '
    config_args='-de -Dprefix=/home/bri/perl5/perlbrew/perls/perl-5.15.6 -Dusedevel'
    hint=recommended, useposix=true, d_sigaction=define
    useithreads=undef, usemultiplicity=undef
    useperlio=define, d_sfio=undef, uselargefiles=define, usesocks=undef
    use64bitint=undef, use64bitall=undef, uselongdouble=undef
    usemymalloc=n, bincompat5005=undef
  Compiler:
    cc='cc', ccflags ='-fno-strict-aliasing -pipe -fstack-protector -I/usr/local/include -D_LARGEFILE_SOURCE -D_FILE_OFFSET_BITS=64',
    optimize='-O2',
    cppflags='-fno-strict-aliasing -pipe -fstack-protector -I/usr/local/include'
    ccversion='', gccversion='4.5.2', gccosandvers=''
    intsize=4, longsize=4, ptrsize=4, doublesize=8, byteorder=1234
    d_longlong=define, longlongsize=8, d_longdbl=define, longdblsize=12
    ivtype='long', ivsize=4, nvtype='double', nvsize=8, Off_t='off_t', lseeksize=8
    alignbytes=4, prototype=define
  Linker and Libraries:
    ld='cc', ldflags =' -fstack-protector -L/usr/local/lib'
    libpth=/usr/local/lib /lib /usr/lib /usr/lib/i386-linux-gnu /usr/lib64
    libs=-lnsl -ldl -lm -lcrypt -lutil -lc
    perllibs=-lnsl -ldl -lm -lcrypt -lutil -lc
    libc=, so=so, useshrplib=false, libperl=libperl.a
    gnulibc_version='2.13'
  Dynamic Linking:
    dlsrc=dl_dlopen.xs, dlext=so, d_dlsymun=undef, ccdlflags='-Wl,-E'
    cccdlflags='-fPIC', lddlflags='-shared -O2 -L/usr/local/lib -fstack-protector'


Characteristics of this binary (from libperl): 
  Compile-time options: HAS_TIMES PERLIO_LAYERS PERL_DONT_CREATE_GVSV
                        PERL_MALLOC_WRAP PERL_PRESERVE_IVUV PERL_USE_DEVEL
                        USE_LARGE_FILES USE_LOCALE USE_LOCALE_COLLATE
                        USE_LOCALE_CTYPE USE_LOCALE_NUMERIC USE_PERLIO
                        USE_PERL_ATOF
  Built under linux
  Compiled at Dec 22 2011 15:02:15
  %ENV:
    PERL5LIB=""
    PERL5OPT=""
    PERL5_CPANPLUS_IS_RUNNING="31981"
    PERL5_CPAN_IS_RUNNING="31981"
    PERL5_CPAN_IS_RUNNING_IN_RECURSION="19072,31981"
    PERLBREW_BASHRC_VERSION="0.36"
    PERLBREW_HOME="/home/bri/.perlbrew"
    PERLBREW_MANPATH="/home/bri/perl5/perlbrew/perls/perl-5.15.6/man"
    PERLBREW_PATH="/home/bri/perl5/perlbrew/bin:/home/bri/perl5/perlbrew/perls/perl-5.15.6/bin"
    PERLBREW_PERL="perl-5.15.6"
    PERLBREW_ROOT="/home/bri/perl5/perlbrew"
    PERLBREW_VERSION="0.36"
    PERL_CPANM_OPT="--prompt --mirror http://172.16.1.3/cpan/"
    PERL_CR_SMOKER_CURRENT="EO-0.96"
    PERL_EXTUTILS_AUTOINSTALL="--defaultdeps"
    PERL_MM_USE_DEFAULT="1"
  @INC:
    /home/bri/perl5/perlbrew/perls/perl-5.15.6/lib/site_perl/5.15.6/i686-linux
    /home/bri/perl5/perlbrew/perls/perl-5.15.6/lib/site_perl/5.15.6
    /home/bri/perl5/perlbrew/perls/perl-5.15.6/lib/5.15.6/i686-linux
    /home/bri/perl5/perlbrew/perls/perl-5.15.6/lib/5.15.6
    .