App-PMUtils v0.745 Perl 5 v5.39.7 x86_64-linux-thread-multi

Status
Pass
From
Andreas J. König (ANDK)
Dist
App-PMUtils v0.745
Platform
Perl 5 v5.39.7 x86_64-linux-thread-multi
Date
2024-09-18 01:46:09
ID
c76e79ee-755f-11ef-8c5e-7b396e65d18e
This distribution has been tested as part of the CPAN Testers
project, supporting the Perl programming language.  See
http://wiki.cpantesters.org/ for more information or email
questions to cpan-testers-discuss@perl.org


--
Dear perlancar,

This is a computer-generated report for App-PMUtils-0.745
on perl 5.39.7, created by CPAN-Reporter-1.2019.

Thank you for uploading your work to CPAN.  Congratulations!
All tests were successful.

Sections of this report:

    * Tester comments
    * Program output
    * Prerequisites
    * Environment and other context

------------------------------
TESTER COMMENTS
------------------------------

Additional comments from tester:

this report is from an automated smoke testing program
and was not reviewed by a human for accuracy

------------------------------
PROGRAM OUTPUT
------------------------------

Output from '/usr/bin/make test':

Skip blib/lib/auto/share/dist/App-PMUtils/cdpm.bash (unchanged)
PERL_DL_NONLAZY=1 "/home/sand/src/perl/repoperls/installed-perls/host/k93msid/v5.39.7/29fb/bin/perl" "-MExtUtils::Command::MM" "-MTest::Harness" "-e" "undef *Test::Harness::Switches; test_harness(0, 'blib/lib', 'blib/arch')" t/*.t
t/00-compile.t ........... ok
t/author-critic.t ........ skipped: these tests are for testing by the author
t/author-pod-coverage.t .. skipped: these tests are for testing by the author
t/author-pod-syntax.t .... skipped: these tests are for testing by the author
t/release-rinci.t ........ skipped: these tests are for release candidate testing
All tests successful.
Files=5, Tests=34,  1 wallclock secs ( 0.04 usr  0.00 sys +  0.72 cusr  0.25 csys =  1.01 CPU)
Result: PASS

------------------------------
PREREQUISITES
------------------------------

Prerequisite modules loaded:

requires:

    Module                                                                             Need     Have      
    ---------------------------------------------------------------------------------- -------- ----------
    App::ThisDist                                                                      0.022    0.023     
    AppBase::Grep                                                                      0.012    0.013     
    Browser::Open                                                                      0        0.04      
    Complete::Module                                                                   0.263    0.263     
    Config                                                                             0        5.039007  
    Cwd                                                                                0        3.90      
    Data::Sah::Coerce::perl::To_array::From_str_or_array::expand_perl_modname_wildcard 0        0.049     
    Data::Sah::Compiler::perl::TH::array                                               0.914    0.917     
    Data::Sah::Compiler::perl::TH::bool                                                0.914    0.917     
    Data::Sah::Compiler::perl::TH::code                                                0.914    0.917     
    Data::Sah::Compiler::perl::TH::int                                                 0.914    0.917     
    Data::Sah::Compiler::perl::TH::re                                                  0.914    0.917     
    Data::Sah::Compiler::perl::TH::str                                                 0.914    0.917     
    Data::Sah::Filter::perl::Perl::normalize_perl_modname                              0        0.049     
    Data::Sah::Value::perl::Perl::these_mods                                           0        0.049     
    Devel::EndStats                                                                    0.210    0.212     
    Dist::Util                                                                         0.070    0.071     
    experimental                                                                       0        0.031     
    ExtUtils::MakeMaker                                                                0        7.70      
    File::ShareDir                                                                     0        1.118     
    File::Spec                                                                         0        3.90      
    File::Temp                                                                         0.2310   0.2311    
    File::Util::Tempdir                                                                0.032    0.034     
    File::Which                                                                        0        1.27      
    HTTP::Tiny                                                                         0.057    0.088     
    IO::Prompt::I18N                                                                   0        0.81      
    IPC::System::Options                                                               0.339    0.341     
    JSON::MaybeXS                                                                      0        1.004005  
    Log::ger                                                                           0.038    0.040     
    Module::Abstract                                                                   0        0.002     
    Module::CoreList                                                                   0        5.20240829
    Module::CoreList::More                                                             0        0.08      
    Module::List                                                                       0        0.004     
    Module::List::More                                                                 0.004007 0.004011  
    Module::Load                                                                       0        0.36      
    Module::Path::More                                                                 0.32     0.340     
    Module::XSOrPP                                                                     0.08     0.120     
    Perinci::CmdLine::Any                                                              0.154    0.154     
    Perinci::CmdLine::Lite                                                             1.924    1.929     
    Perinci::Sub::DepChecker                                                           0        0.128     
    Perinci::Sub::Util                                                                 0.472    0.472     
    perl                                                                               5.010001 5.039007  
    Perl::MinimumVersion                                                               0        1.40      
    Perl::Stripper                                                                     0        0.10      
    PERLANCAR::AppUtil::PerlStripper                                                   0.03     0.03      
    Sah::Schema::perl::modname                                                         0.035    0.049     
    Sah::Schema::perl::modnames                                                        0        0.049     
    Sah::Schema::true                                                                  0        0.002     
    SourceCode::LineCounter::Perl                                                      0        1.022     
    strict                                                                             0        1.13      
    String::ShellQuote                                                                 0        1.04      
    String::Wildcard::Bash                                                             0.044    0.045     
    warnings                                                                           0        1.67      

build_requires:

    Module                                                                             Need     Have      
    ---------------------------------------------------------------------------------- -------- ----------
    ExtUtils::MakeMaker                                                                0        7.70      
    File::Spec                                                                         0        3.90      
    IO::Handle                                                                         0        1.55      
    IPC::Open3                                                                         0        1.22      
    Test::More                                                                         0        1.302198  

configure_requires:

    Module                                                                             Need     Have      
    ---------------------------------------------------------------------------------- -------- ----------
    ExtUtils::MakeMaker                                                                0        7.70      
    File::ShareDir::Install                                                            0.06     0.14      

opt_requires:

    Module                                                                             Need     Have      
    ---------------------------------------------------------------------------------- -------- ----------
    Perl::MinimumVersion::Fast                                                         0        0.20      


------------------------------
ENVIRONMENT AND OTHER CONTEXT
------------------------------

Environment variables:

    AUTOMATED_TESTING = 1
    LANG = en_US.UTF-8
    LANGUAGE = en_US:en
    PATH = /home/sand/bin:/usr/local/bin:/usr/bin:/bin:/usr/games:/usr/local/perl/bin:/usr/X11/bin:/sbin:/usr/sbin
    PERL5LIB = 
    PERL5OPT = 
    PERL5_CPANPLUS_IS_RUNNING = 3275369
    PERL5_CPAN_IS_RUNNING = 3275369
    PERL_CANARY_STABILITY_NOPROMPT = 1
    PERL_MM_USE_DEFAULT = 1
    PERL_USE_UNSAFE_INC = 1
    SHELL = /usr/bin/zsh
    TERM = screen

Perl special variables (and OS-specific diagnostics, for MSWin32):

    $^X = /home/sand/src/perl/repoperls/installed-perls/host/k93msid/v5.39.7/29fb/bin/perl
    $UID/$EUID = 1005 / 1005
    $GID = 1005 1005
    $EGID = 1005 1005

Perl module toolchain versions installed:

    Module              Have    
    ------------------- --------
    CPAN                2.37    
    CPAN::Meta          2.150010
    Cwd                 3.90    
    ExtUtils::CBuilder  0.280240
    ExtUtils::Command   7.70    
    ExtUtils::Install   2.22    
    ExtUtils::MakeMaker 7.70    
    ExtUtils::Manifest  1.75    
    ExtUtils::ParseXS   3.51    
    File::Spec          3.90    
    JSON                4.10    
    JSON::PP            4.16    
    Module::Build       0.4234  
    Module::Signature   0.88    
    Parse::CPAN::Meta   2.150010
    Test2               1.302198
    Test::Harness       3.48    
    Test::More          1.302198
    YAML                1.31    
    YAML::Syck          1.34    
    version             0.9933  


--

Summary of my perl5 (revision 5 version 39 subversion 7) configuration:
  Commit id: 96559478fdc3f2fe9c51cad02ebbae0c950b7b68
  Platform:
    osname=linux
    osvers=6.5.0-5-amd64
    archname=x86_64-linux-thread-multi
    uname='linux k93msid 6.5.0-5-amd64 #1 smp preempt_dynamic debian 6.5.13-1 (2023-11-29) x86_64 gnulinux '
    config_args='-Dprefix=/home/sand/src/perl/repoperls/installed-perls/host/k93msid/v5.39.7/29fb -Dmyhostname=k93msid -Dinstallusrbinperl=n -Uversiononly -Dusedevel -des -Ui_db -Dlibswanted=cl pthread socket inet nsl gdbm dbm malloc dl ld sun m crypt sec util c cposix posix ucb BSD gdbm_compat -Duseithreads -Uuselongdouble -DEBUGGING=both'
    hint=recommended
    useposix=true
    d_sigaction=define
    useithreads=define
    usemultiplicity=define
    use64bitint=define
    use64bitall=define
    uselongdouble=undef
    usemymalloc=n
    default_inc_excludes_dot=define
  Compiler:
    cc='cc'
    ccflags ='-D_REENTRANT -D_GNU_SOURCE -fwrapv -DDEBUGGING -fno-strict-aliasing -pipe -fstack-protector-strong -I/usr/local/include -D_LARGEFILE_SOURCE -D_FILE_OFFSET_BITS=64 -D_FORTIFY_SOURCE=2'
    optimize='-O2 -g'
    cppflags='-D_REENTRANT -D_GNU_SOURCE -fwrapv -DDEBUGGING -fno-strict-aliasing -pipe -fstack-protector-strong -I/usr/local/include'
    ccversion=''
    gccversion='13.2.0'
    gccosandvers=''
    intsize=4
    longsize=8
    ptrsize=8
    doublesize=8
    byteorder=12345678
    doublekind=3
    d_longlong=define
    longlongsize=8
    d_longdbl=define
    longdblsize=16
    longdblkind=3
    ivtype='long'
    ivsize=8
    nvtype='double'
    nvsize=8
    Off_t='off_t'
    lseeksize=8
    alignbytes=8
    prototype=define
  Linker and Libraries:
    ld='cc'
    ldflags =' -fstack-protector-strong -L/usr/local/lib'
    libpth=/usr/local/lib /usr/lib/x86_64-linux-gnu /usr/lib /usr/lib64
    libs=-lpthread -lnsl -ldl -lm -lcrypt -lutil -lc
    perllibs=-lpthread -lnsl -ldl -lm -lcrypt -lutil -lc
    libc=/lib/x86_64-linux-gnu/libc.so.6
    so=so
    useshrplib=false
    libperl=libperl.a
    gnulibc_version='2.37'
  Dynamic Linking:
    dlsrc=dl_dlopen.xs
    dlext=so
    d_dlsymun=undef
    ccdlflags='-Wl,-E'
    cccdlflags='-fPIC'
    lddlflags='-shared -O2 -g -L/usr/local/lib -fstack-protector-strong'


Characteristics of this binary (from libperl): 
  Compile-time options:
    DEBUGGING
    HAS_LONG_DOUBLE
    HAS_STRTOLD
    HAS_TIMES
    MULTIPLICITY
    PERLIO_LAYERS
    PERL_COPY_ON_WRITE
    PERL_DONT_CREATE_GVSV
    PERL_HASH_FUNC_SIPHASH13
    PERL_HASH_USE_SBOX32
    PERL_MALLOC_WRAP
    PERL_OP_PARENT
    PERL_PRESERVE_IVUV
    PERL_TRACK_MEMPOOL
    PERL_USE_DEVEL
    PERL_USE_SAFE_PUTENV
    USE_64_BIT_ALL
    USE_64_BIT_INT
    USE_ITHREADS
    USE_LARGE_FILES
    USE_LOCALE
    USE_LOCALE_COLLATE
    USE_LOCALE_CTYPE
    USE_LOCALE_NUMERIC
    USE_LOCALE_TIME
    USE_PERLIO
    USE_PERL_ATOF
    USE_REENTRANT_API
    USE_THREAD_SAFE_LOCALE
  Built under linux
  Compiled at Jan 20 2024 14:15:24
  %ENV:
    PERL5LIB=""
    PERL5OPT=""
    PERL5_CPANPLUS_IS_RUNNING="3275369"
    PERL5_CPAN_IS_RUNNING="3275369"
    PERL_CANARY_STABILITY_NOPROMPT="1"
    PERL_MM_USE_DEFAULT="1"
    PERL_USE_UNSAFE_INC="1"
  @INC:
    /home/sand/src/perl/repoperls/installed-perls/host/k93msid/v5.39.7/29fb/lib/site_perl/5.39.7/x86_64-linux-thread-multi
    /home/sand/src/perl/repoperls/installed-perls/host/k93msid/v5.39.7/29fb/lib/site_perl/5.39.7
    /home/sand/src/perl/repoperls/installed-perls/host/k93msid/v5.39.7/29fb/lib/5.39.7/x86_64-linux-thread-multi
    /home/sand/src/perl/repoperls/installed-perls/host/k93msid/v5.39.7/29fb/lib/5.39.7
    .