Dist-Zilla-Plugin-Git v2.051 Perl 5 v5.36.3 x86_64-linux-ld

Status
Pass
From
Andreas J. König (ANDK)
Dist
Dist-Zilla-Plugin-Git v2.051
Platform
Perl 5 v5.36.3 x86_64-linux-ld
Date
2024-12-02 16:23:34
ID
c73bb02c-b0c9-11ef-9d11-327ec869681c
This distribution has been tested as part of the CPAN Testers
project, supporting the Perl programming language.  See
http://wiki.cpantesters.org/ for more information or email
questions to cpan-testers-discuss@perl.org


--
Dear Karen Etheridge,

This is a computer-generated report for Dist-Zilla-Plugin-Git-2.051
on perl 5.36.3, created by CPAN-Reporter-1.2019.

Thank you for uploading your work to CPAN.  Congratulations!
All tests were successful.

Sections of this report:

    * Tester comments
    * Program output
    * Prerequisites
    * Environment and other context

------------------------------
TESTER COMMENTS
------------------------------

Additional comments from tester:

this report is from an automated smoke testing program
and was not reviewed by a human for accuracy

------------------------------
PROGRAM OUTPUT
------------------------------

Output from '/usr/bin/make test':

"/home/sand/src/perl/repoperls/installed-perls/host/k93msid/v5.36.3/fc43/bin/perl" "-Iblib/arch" "-Iblib/lib" Makefile_git.PL Makefile_git 
PERL_DL_NONLAZY=1 "/home/sand/src/perl/repoperls/installed-perls/host/k93msid/v5.36.3/fc43/bin/perl" "-MExtUtils::Command::MM" "-MTest::Harness" "-e" "undef *Test::Harness::Switches; test_harness(0, 'blib/lib', 'blib/arch')" t/*.t
# 
# Versions for all modules listed in MYMETA.json (including optional ones):
# 
# === Configure Requires ===
# 
#     Module               Want     Have
#     ------------------- ----- --------
#     ExtUtils::MakeMaker   any     7.70
#     Text::ParseWords      any     3.31
#     perl                5.010 5.036003
#     version               any   0.9930
# 
# === Build Requires ===
# 
#     Module              Want Have
#     ------------------- ---- ----
#     ExtUtils::MakeMaker  any 7.70
# 
# === Test Requires ===
# 
#     Module                            Want     Have
#     -------------------------------- ----- --------
#     CPAN::Meta::Check                0.011    0.018
#     CPAN::Meta::Requirements           any    2.143
#     Dist::Zilla::File::InMemory        any    6.032
#     Dist::Zilla::Plugin::Config::Git   any     0.92
#     Dist::Zilla::Role::Releaser        any    6.032
#     Dist::Zilla::Tester                any    6.032
#     Encode                             any     3.21
#     Exporter                           any     5.78
#     ExtUtils::MakeMaker                any     7.70
#     File::Copy                         any     2.39
#     File::Copy::Recursive              any     0.45
#     File::Path                        2.07     2.18
#     File::Spec                         any     3.84
#     File::Which                        any     1.27
#     File::pushd                        any    1.016
#     Log::Dispatchouli                  any    3.008
#     Test::DZil                         any    6.032
#     Test::Fatal                        any    0.017
#     Test::More                        0.88 1.302201
#     lib                                any     0.65
#     perl                             5.010 5.036003
#     utf8                               any     1.24
# 
# === Test Recommends ===
# 
#     Module         Want     Have
#     ---------- -------- --------
#     CPAN::Meta 2.120900 2.150010
# 
# === Runtime Requires ===
# 
#     Module                                 Want     Have
#     ---------------------------------- -------- --------
#     Cwd                                     any     3.84
#     DateTime                                any     1.65
#     Dist::Zilla                               4    6.032
#     Dist::Zilla::Plugin::GatherDir     4.200016    6.032
#     Dist::Zilla::Role::AfterBuild           any    6.032
#     Dist::Zilla::Role::AfterMint            any    6.032
#     Dist::Zilla::Role::AfterRelease         any    6.032
#     Dist::Zilla::Role::BeforeRelease        any    6.032
#     Dist::Zilla::Role::FilePruner           any    6.032
#     Dist::Zilla::Role::GitConfig            any     0.92
#     Dist::Zilla::Role::PluginBundle         any    6.032
#     Dist::Zilla::Role::VersionProvider      any    6.032
#     File::Spec::Functions                   any     3.84
#     File::Temp                              any   0.2311
#     File::chdir                             any   0.1011
#     Git::Wrapper                          0.021    0.048
#     IPC::Open3                              any     1.22
#     IPC::System::Simple                     any     1.30
#     List::Util                             1.45     1.63
#     Module::Runtime                         any    0.016
#     Moose                                   any   2.2207
#     Moose::Role                             any   2.2207
#     MooseX::Has::Sugar                      any 1.000006
#     Path::Tiny                            0.048    0.144
#     String::Formatter                       any    1.235
#     Try::Tiny                               any     0.31
#     Type::Utils                             any 2.004000
#     Types::Path::Tiny                       any    0.006
#     Types::Standard                         any 2.004000
#     Version::Next                           any    1.000
#     constant                                any     1.33
#     namespace::autoclean                   0.09     0.29
#     perl                                  5.010 5.036003
#     strict                                  any     1.12
#     version                                0.80   0.9930
#     warnings                                any     1.58
# 
# === Other Modules ===
# 
#     Module            Have
#     --------------- ------
#     Encode            3.21
#     File::Temp      0.2311
#     JSON::PP          4.16
#     Module::Runtime  0.016
#     Pod::Coverage     0.23
#     Sub::Name         0.27
#     YAML              1.30
#     autodie           2.34
# 
t/00-report-prereqs.t ........... ok
# git version 2.43.0
t/000-report-git-version.t ...... ok
t/check.t ....................... ok
t/commit-build-custom.t ......... ok
t/commit-build-src-as-parent.t .. ok
t/commit-build.t ................ ok
t/commit-dirtydir.t ............. ok
t/commit-message.t .............. ok
t/commit-signoff.t .............. ok
t/commit-utf8.t ................. ok
t/commit-ws.t ................... ok
t/commit.t ...................... ok
t/gatherdir-multi.t ............. ok
t/gatherdir.t ................... ok
t/push-gitconfig.t .............. ok
t/push-multi.t .................. ok
t/push.t ........................ ok
t/repo-dir.t .................... ok
t/tag-signed.t .................. ok
t/tag.t ......................... ok
t/version-by-branch.t ........... ok
t/version-default.t ............. ok
t/version-extraction.t .......... ok
t/version-regexp.t .............. ok
t/zzz-check-breaks.t ............ ok
All tests successful.
Files=25, Tests=211, 44 wallclock secs ( 0.11 usr  0.04 sys + 26.39 cusr  8.01 csys = 34.55 CPU)
Result: PASS

------------------------------
PREREQUISITES
------------------------------

Prerequisite modules loaded:

requires:

    Module                             Need     Have    
    ---------------------------------- -------- --------
    constant                           0        1.33    
    Cwd                                0        3.84    
    DateTime                           0        1.65    
    Dist::Zilla                        4        6.032   
    Dist::Zilla::Plugin::GatherDir     4.200016 6.032   
    Dist::Zilla::Role::AfterBuild      0        6.032   
    Dist::Zilla::Role::AfterMint       0        6.032   
    Dist::Zilla::Role::AfterRelease    0        6.032   
    Dist::Zilla::Role::BeforeRelease   0        6.032   
    Dist::Zilla::Role::FilePruner      0        6.032   
    Dist::Zilla::Role::GitConfig       0        0.92    
    Dist::Zilla::Role::PluginBundle    0        6.032   
    Dist::Zilla::Role::VersionProvider 0        6.032   
    File::chdir                        0        0.1011  
    File::Spec::Functions              0        3.84    
    File::Temp                         0        0.2311  
    Git::Wrapper                       0.021    0.048   
    IPC::Open3                         0        1.22    
    IPC::System::Simple                0        1.30    
    List::Util                         1.45     1.63    
    Module::Runtime                    0        0.016   
    Moose                              0        2.2207  
    Moose::Role                        0        2.2207  
    MooseX::Has::Sugar                 0        1.000006
    namespace::autoclean               0.09     0.29    
    Path::Tiny                         0.048    0.144   
    perl                               5.010    5.036003
    strict                             0        1.12    
    String::Formatter                  0        1.235   
    Try::Tiny                          0        0.31    
    Type::Utils                        0        2.004000
    Types::Path::Tiny                  0        0.006   
    Types::Standard                    0        2.004000
    version                            0.80     0.9930  
    Version::Next                      0        1.000   
    warnings                           0        1.58    

build_requires:

    Module                             Need     Have    
    ---------------------------------- -------- --------
    CPAN::Meta::Check                  0.011    0.018   
    CPAN::Meta::Requirements           0        2.143   
    Dist::Zilla::File::InMemory        0        6.032   
    Dist::Zilla::Plugin::Config::Git   0        0.92    
    Dist::Zilla::Role::Releaser        0        6.032   
    Dist::Zilla::Tester                0        6.032   
    Encode                             0        3.21    
    Exporter                           0        5.78    
    ExtUtils::MakeMaker                0        7.70    
    File::Copy                         0        2.39    
    File::Copy::Recursive              0        0.45    
    File::Path                         2.07     2.18    
    File::pushd                        0        1.016   
    File::Spec                         0        3.84    
    File::Which                        0        1.27    
    lib                                0        0.65    
    Log::Dispatchouli                  0        3.008   
    Test::DZil                         0        6.032   
    Test::Fatal                        0        0.017   
    Test::More                         0.88     1.302201
    utf8                               0        1.24    

configure_requires:

    Module                             Need     Have    
    ---------------------------------- -------- --------
    ExtUtils::MakeMaker                0        7.70    
    perl                               5.010    5.036003
    Text::ParseWords                   0        3.31    
    version                            0        0.9930  


------------------------------
ENVIRONMENT AND OTHER CONTEXT
------------------------------

Environment variables:

    AUTOMATED_TESTING = 1
    LANG = en_US.UTF-8
    LANGUAGE = en_US:en
    PATH = /home/sand/bin:/usr/local/bin:/usr/bin:/bin:/usr/games:/usr/local/perl/bin:/usr/X11/bin:/sbin:/usr/sbin
    PERL5LIB = 
    PERL5OPT = 
    PERL5_CPANPLUS_IS_RUNNING = 1275524
    PERL5_CPAN_IS_RUNNING = 1275524
    PERL_CANARY_STABILITY_NOPROMPT = 1
    PERL_MM_USE_DEFAULT = 1
    PERL_USE_UNSAFE_INC = 1
    SHELL = /usr/bin/zsh
    TERM = screen

Perl special variables (and OS-specific diagnostics, for MSWin32):

    $^X = /home/sand/src/perl/repoperls/installed-perls/host/k93msid/v5.36.3/fc43/bin/perl
    $UID/$EUID = 1005 / 1005
    $GID = 1005 1005
    $EGID = 1005 1005

Perl module toolchain versions installed:

    Module              Have    
    ------------------- --------
    CPAN                2.36    
    CPAN::Meta          2.150010
    Cwd                 3.84    
    ExtUtils::CBuilder  0.280236
    ExtUtils::Command   7.70    
    ExtUtils::Install   2.20    
    ExtUtils::MakeMaker 7.70    
    ExtUtils::Manifest  1.73    
    ExtUtils::ParseXS   3.45    
    File::Spec          3.84    
    JSON                4.10    
    JSON::PP            4.16    
    Module::Build       0.4234  
    Module::Signature   0.89    
    Parse::CPAN::Meta   2.150010
    Test2               1.302201
    Test::Harness       3.48    
    Test::More          1.302201
    YAML                1.30    
    YAML::Syck          1.34    
    version             0.9930  


--

Summary of my perl5 (revision 5 version 36 subversion 3) configuration:
  Commit id: d456446ba5b8fba87f3f26fa700eb749c622e434
  Platform:
    osname=linux
    osvers=6.5.0-4-amd64
    archname=x86_64-linux-ld
    uname='linux k93msid 6.5.0-4-amd64 #1 smp preempt_dynamic debian 6.5.10-1 (2023-11-03) x86_64 gnulinux '
    config_args='-Dprefix=/home/sand/src/perl/repoperls/installed-perls/host/k93msid/v5.36.3/fc43 -Dmyhostname=k93msid -Dinstallusrbinperl=n -Uversiononly -Dusedevel -des -Ui_db -Dlibswanted=cl pthread socket inet nsl gdbm dbm malloc dl ld sun m crypt sec util c cposix posix ucb BSD gdbm_compat -Uuseithreads -Duselongdouble -DEBUGGING=both'
    hint=recommended
    useposix=true
    d_sigaction=define
    useithreads=undef
    usemultiplicity=undef
    use64bitint=define
    use64bitall=define
    uselongdouble=define
    usemymalloc=n
    default_inc_excludes_dot=define
  Compiler:
    cc='cc'
    ccflags ='-fwrapv -DDEBUGGING -fno-strict-aliasing -pipe -fstack-protector-strong -I/usr/local/include -D_LARGEFILE_SOURCE -D_FILE_OFFSET_BITS=64 -D_FORTIFY_SOURCE=2'
    optimize='-O2 -g'
    cppflags='-fwrapv -DDEBUGGING -fno-strict-aliasing -pipe -fstack-protector-strong -I/usr/local/include'
    ccversion=''
    gccversion='13.2.0'
    gccosandvers=''
    intsize=4
    longsize=8
    ptrsize=8
    doublesize=8
    byteorder=12345678
    doublekind=3
    d_longlong=define
    longlongsize=8
    d_longdbl=define
    longdblsize=16
    longdblkind=3
    ivtype='long'
    ivsize=8
    nvtype='long double'
    nvsize=16
    Off_t='off_t'
    lseeksize=8
    alignbytes=16
    prototype=define
  Linker and Libraries:
    ld='cc'
    ldflags =' -fstack-protector-strong -L/usr/local/lib'
    libpth=/usr/local/lib /usr/lib/x86_64-linux-gnu /usr/lib /usr/lib64
    libs=-lpthread -lnsl -ldl -lm -lcrypt -lutil -lc
    perllibs=-lpthread -lnsl -ldl -lm -lcrypt -lutil -lc
    libc=/lib/x86_64-linux-gnu/libc.so.6
    so=so
    useshrplib=false
    libperl=libperl.a
    gnulibc_version='2.37'
  Dynamic Linking:
    dlsrc=dl_dlopen.xs
    dlext=so
    d_dlsymun=undef
    ccdlflags='-Wl,-E'
    cccdlflags='-fPIC'
    lddlflags='-shared -O2 -g -L/usr/local/lib -fstack-protector-strong'


Characteristics of this binary (from libperl): 
  Compile-time options:
    DEBUGGING
    HAS_TIMES
    PERLIO_LAYERS
    PERL_COPY_ON_WRITE
    PERL_DONT_CREATE_GVSV
    PERL_MALLOC_WRAP
    PERL_OP_PARENT
    PERL_PRESERVE_IVUV
    PERL_USE_DEVEL
    USE_64_BIT_ALL
    USE_64_BIT_INT
    USE_LARGE_FILES
    USE_LOCALE
    USE_LOCALE_COLLATE
    USE_LOCALE_CTYPE
    USE_LOCALE_NUMERIC
    USE_LOCALE_TIME
    USE_LONG_DOUBLE
    USE_PERLIO
    USE_PERL_ATOF
  Built under linux
  Compiled at Nov 30 2023 06:34:43
  %ENV:
    PERL5LIB=""
    PERL5OPT=""
    PERL5_CPANPLUS_IS_RUNNING="1275524"
    PERL5_CPAN_IS_RUNNING="1275524"
    PERL_CANARY_STABILITY_NOPROMPT="1"
    PERL_MM_USE_DEFAULT="1"
    PERL_USE_UNSAFE_INC="1"
  @INC:
    /home/sand/src/perl/repoperls/installed-perls/host/k93msid/v5.36.3/fc43/lib/site_perl/5.36.3/x86_64-linux-ld
    /home/sand/src/perl/repoperls/installed-perls/host/k93msid/v5.36.3/fc43/lib/site_perl/5.36.3
    /home/sand/src/perl/repoperls/installed-perls/host/k93msid/v5.36.3/fc43/lib/5.36.3/x86_64-linux-ld
    /home/sand/src/perl/repoperls/installed-perls/host/k93msid/v5.36.3/fc43/lib/5.36.3
    .