Report for HTML-Shakan-2.00

Back
From: metabase:user:314402c4-2aae-11df-837a-5e0a49663a4f
Subject: PASS HTML-Shakan-2.00 v5.21.10 GNU/Linux
Date: 2015-04-12T16:12:54Z

This distribution has been tested as part of the CPAN Testers
project, supporting the Perl programming language.  See
http://wiki.cpantesters.org/ for more information or email
questions to cpan-testers-discuss@perl.org


--
Dear Masayuki Matsuki,

This is a computer-generated report for HTML-Shakan-2.00
on perl 5.21.10, created by CPAN-Reporter-1.2014.

Thank you for uploading your work to CPAN.  Congratulations!
All tests were successful.

Sections of this report:

    * Tester comments
    * Program output
    * Prerequisites
    * Environment and other context

------------------------------
TESTER COMMENTS
------------------------------

Additional comments from tester:

none provided

------------------------------
PROGRAM OUTPUT
------------------------------

Output from './Build test':

t/00_compile.t ............................. ok
CGI::param called in list context from package HTML::Shakan line 253, this can lead to vulnerabilities. See the warning in "Fetching the value or values of a single named parameter" at /opt/perl-5.21.10/lib/site_perl/5.21.10/CGI.pm line 408.
t/010_core/001_render.t .................... ok
# FVL: 0.38
CGI::param called in list context from package HTML::Shakan line 253, this can lead to vulnerabilities. See the warning in "Fetching the value or values of a single named parameter" at /opt/perl-5.21.10/lib/site_perl/5.21.10/CGI.pm line 408.
CGI::param called in list context from package HTML::Shakan line 253, this can lead to vulnerabilities. See the warning in "Fetching the value or values of a single named parameter" at /opt/perl-5.21.10/lib/site_perl/5.21.10/CGI.pm line 408.
CGI::param called in list context from package HTML::Shakan line 253, this can lead to vulnerabilities. See the warning in "Fetching the value or values of a single named parameter" at /opt/perl-5.21.10/lib/site_perl/5.21.10/CGI.pm line 408.
CGI::param called in list context from package HTML::Shakan line 253, this can lead to vulnerabilities. See the warning in "Fetching the value or values of a single named parameter" at /opt/perl-5.21.10/lib/site_perl/5.21.10/CGI.pm line 408.
CGI::param called in list context from package HTML::Shakan line 253, this can lead to vulnerabilities. See the warning in "Fetching the value or values of a single named parameter" at /opt/perl-5.21.10/lib/site_perl/5.21.10/CGI.pm line 408.
CGI::param called in list context from package HTML::Shakan line 253, this can lead to vulnerabilities. See the warning in "Fetching the value or values of a single named parameter" at /opt/perl-5.21.10/lib/site_perl/5.21.10/CGI.pm line 408.
CGI::param called in list context from package HTML::Shakan line 253, this can lead to vulnerabilities. See the warning in "Fetching the value or values of a single named parameter" at /opt/perl-5.21.10/lib/site_perl/5.21.10/CGI.pm line 408.
CGI::param called in list context from package HTML::Shakan line 253, this can lead to vulnerabilities. See the warning in "Fetching the value or values of a single named parameter" at /opt/perl-5.21.10/lib/site_perl/5.21.10/CGI.pm line 408.
CGI::param called in list context from package HTML::Shakan line 253, this can lead to vulnerabilities. See the warning in "Fetching the value or values of a single named parameter" at /opt/perl-5.21.10/lib/site_perl/5.21.10/CGI.pm line 408.
CGI::param called in list context from package HTML::Shakan line 253, this can lead to vulnerabilities. See the warning in "Fetching the value or values of a single named parameter" at /opt/perl-5.21.10/lib/site_perl/5.21.10/CGI.pm line 408.
CGI::param called in list context from package HTML::Shakan line 253, this can lead to vulnerabilities. See the warning in "Fetching the value or values of a single named parameter" at /opt/perl-5.21.10/lib/site_perl/5.21.10/CGI.pm line 408.
CGI::param called in list context from package HTML::Shakan line 253, this can lead to vulnerabilities. See the warning in "Fetching the value or values of a single named parameter" at /opt/perl-5.21.10/lib/site_perl/5.21.10/CGI.pm line 408.
CGI::param called in list context from package HTML::Shakan line 253, this can lead to vulnerabilities. See the warning in "Fetching the value or values of a single named parameter" at /opt/perl-5.21.10/lib/site_perl/5.21.10/CGI.pm line 408.
CGI::param called in list context from package HTML::Shakan line 253, this can lead to vulnerabilities. See the warning in "Fetching the value or values of a single named parameter" at /opt/perl-5.21.10/lib/site_perl/5.21.10/CGI.pm line 408.
CGI::param called in list context from package HTML::Shakan line 253, this can lead to vulnerabilities. See the warning in "Fetching the value or values of a single named parameter" at /opt/perl-5.21.10/lib/site_perl/5.21.10/CGI.pm line 408.
CGI::param called in list context from package HTML::Shakan line 253, this can lead to vulnerabilities. See the warning in "Fetching the value or values of a single named parameter" at /opt/perl-5.21.10/lib/site_perl/5.21.10/CGI.pm line 408.
CGI::param called in list context from package HTML::Shakan line 253, this can lead to vulnerabilities. See the warning in "Fetching the value or values of a single named parameter" at /opt/perl-5.21.10/lib/site_perl/5.21.10/CGI.pm line 408.
CGI::param called in list context from package HTML::Shakan line 253, this can lead to vulnerabilities. See the warning in "Fetching the value or values of a single named parameter" at /opt/perl-5.21.10/lib/site_perl/5.21.10/CGI.pm line 408.
CGI::param called in list context from package HTML::Shakan line 253, this can lead to vulnerabilities. See the warning in "Fetching the value or values of a single named parameter" at /opt/perl-5.21.10/lib/site_perl/5.21.10/CGI.pm line 408.
CGI::param called in list context from package HTML::Shakan line 253, this can lead to vulnerabilities. See the warning in "Fetching the value or values of a single named parameter" at /opt/perl-5.21.10/lib/site_perl/5.21.10/CGI.pm line 408.
CGI::param called in list context from package HTML::Shakan line 253, this can lead to vulnerabilities. See the warning in "Fetching the value or values of a single named parameter" at /opt/perl-5.21.10/lib/site_perl/5.21.10/CGI.pm line 408.
t/010_core/002_validator.t ................. ok
CGI::param called in list context from package HTML::Shakan line 169, this can lead to vulnerabilities. See the warning in "Fetching the value or values of a single named parameter" at /opt/perl-5.21.10/lib/site_perl/5.21.10/CGI.pm line 408.
CGI::param called in list context from package HTML::Shakan line 169, this can lead to vulnerabilities. See the warning in "Fetching the value or values of a single named parameter" at /opt/perl-5.21.10/lib/site_perl/5.21.10/CGI.pm line 408.
CGI::param called in list context from package HTML::Shakan line 169, this can lead to vulnerabilities. See the warning in "Fetching the value or values of a single named parameter" at /opt/perl-5.21.10/lib/site_perl/5.21.10/CGI.pm line 408.
CGI::param called in list context from package HTML::Shakan line 169, this can lead to vulnerabilities. See the warning in "Fetching the value or values of a single named parameter" at /opt/perl-5.21.10/lib/site_perl/5.21.10/CGI.pm line 408.
CGI::param called in list context from package HTML::Shakan line 169, this can lead to vulnerabilities. See the warning in "Fetching the value or values of a single named parameter" at /opt/perl-5.21.10/lib/site_perl/5.21.10/CGI.pm line 408.
t/010_core/003_widgets.t ................... ok
t/010_core/004_filter.t .................... ok
t/010_core/005_bind_filter.t ............... skipped: Test requires module 'Lingua::JA::Regular::Unicode' but it's not found
CGI::param called in list context from package HTML::Shakan line 253, this can lead to vulnerabilities. See the warning in "Fetching the value or values of a single named parameter" at /opt/perl-5.21.10/lib/site_perl/5.21.10/CGI.pm line 408.
CGI::param called in list context from package HTML::Shakan line 169, this can lead to vulnerabilities. See the warning in "Fetching the value or values of a single named parameter" at /opt/perl-5.21.10/lib/site_perl/5.21.10/CGI.pm line 408.
CGI::param called in list context from package HTML::Shakan line 253, this can lead to vulnerabilities. See the warning in "Fetching the value or values of a single named parameter" at /opt/perl-5.21.10/lib/site_perl/5.21.10/CGI.pm line 408.
CGI::param called in list context from package HTML::Shakan line 169, this can lead to vulnerabilities. See the warning in "Fetching the value or values of a single named parameter" at /opt/perl-5.21.10/lib/site_perl/5.21.10/CGI.pm line 408.
CGI::param called in list context from package HTML::Shakan line 253, this can lead to vulnerabilities. See the warning in "Fetching the value or values of a single named parameter" at /opt/perl-5.21.10/lib/site_perl/5.21.10/CGI.pm line 408.
CGI::param called in list context from package HTML::Shakan line 169, this can lead to vulnerabilities. See the warning in "Fetching the value or values of a single named parameter" at /opt/perl-5.21.10/lib/site_perl/5.21.10/CGI.pm line 408.
t/010_core/006_fillin_form.t ............... ok
CGI::param called in list context from package HTML::Shakan line 253, this can lead to vulnerabilities. See the warning in "Fetching the value or values of a single named parameter" at /opt/perl-5.21.10/lib/site_perl/5.21.10/CGI.pm line 408.
CGI::param called in list context from package HTML::Shakan line 169, this can lead to vulnerabilities. See the warning in "Fetching the value or values of a single named parameter" at /opt/perl-5.21.10/lib/site_perl/5.21.10/CGI.pm line 408.
CGI::param called in list context from package HTML::Shakan line 169, this can lead to vulnerabilities. See the warning in "Fetching the value or values of a single named parameter" at /opt/perl-5.21.10/lib/site_perl/5.21.10/CGI.pm line 408.
CGI::param called in list context from package HTML::Shakan line 169, this can lead to vulnerabilities. See the warning in "Fetching the value or values of a single named parameter" at /opt/perl-5.21.10/lib/site_perl/5.21.10/CGI.pm line 408.
t/010_core/007_fillin_date.t ............... ok
CGI::param called in list context from package HTML::Shakan line 253, this can lead to vulnerabilities. See the warning in "Fetching the value or values of a single named parameter" at /opt/perl-5.21.10/lib/site_perl/5.21.10/CGI.pm line 408.
CGI::param called in list context from package HTML::Shakan line 253, this can lead to vulnerabilities. See the warning in "Fetching the value or values of a single named parameter" at /opt/perl-5.21.10/lib/site_perl/5.21.10/CGI.pm line 408.
t/010_core/008_declare.t ................... ok
CGI::param called in list context from package HTML::Shakan line 253, this can lead to vulnerabilities. See the warning in "Fetching the value or values of a single named parameter" at /opt/perl-5.21.10/lib/site_perl/5.21.10/CGI.pm line 408.
t/010_core/009_validator_message.t ......... ok
CGI::param called in list context from package HTML::Shakan line 253, this can lead to vulnerabilities. See the warning in "Fetching the value or values of a single named parameter" at /opt/perl-5.21.10/lib/site_perl/5.21.10/CGI.pm line 408.
CGI::param called in list context from package HTML::Shakan line 253, this can lead to vulnerabilities. See the warning in "Fetching the value or values of a single named parameter" at /opt/perl-5.21.10/lib/site_perl/5.21.10/CGI.pm line 408.
CGI::param called in list context from package HTML::Shakan line 253, this can lead to vulnerabilities. See the warning in "Fetching the value or values of a single named parameter" at /opt/perl-5.21.10/lib/site_perl/5.21.10/CGI.pm line 408.
CGI::param called in list context from package HTML::Shakan line 253, this can lead to vulnerabilities. See the warning in "Fetching the value or values of a single named parameter" at /opt/perl-5.21.10/lib/site_perl/5.21.10/CGI.pm line 408.
CGI::param called in list context from package HTML::Shakan line 253, this can lead to vulnerabilities. See the warning in "Fetching the value or values of a single named parameter" at /opt/perl-5.21.10/lib/site_perl/5.21.10/CGI.pm line 408.
CGI::param called in list context from package HTML::Shakan line 253, this can lead to vulnerabilities. See the warning in "Fetching the value or values of a single named parameter" at /opt/perl-5.21.10/lib/site_perl/5.21.10/CGI.pm line 408.
t/010_core/010_submitted.t ................. ok
CGI::param called in list context from package HTML::Shakan line 253, this can lead to vulnerabilities. See the warning in "Fetching the value or values of a single named parameter" at /opt/perl-5.21.10/lib/site_perl/5.21.10/CGI.pm line 408.
CGI::param called in list context from package HTML::Shakan line 253, this can lead to vulnerabilities. See the warning in "Fetching the value or values of a single named parameter" at /opt/perl-5.21.10/lib/site_perl/5.21.10/CGI.pm line 408.
CGI::param called in list context from package HTML::Shakan line 253, this can lead to vulnerabilities. See the warning in "Fetching the value or values of a single named parameter" at /opt/perl-5.21.10/lib/site_perl/5.21.10/CGI.pm line 408.
CGI::param called in list context from package HTML::Shakan line 253, this can lead to vulnerabilities. See the warning in "Fetching the value or values of a single named parameter" at /opt/perl-5.21.10/lib/site_perl/5.21.10/CGI.pm line 408.
t/010_core/011_custom_validation_form.t .... ok
CGI::param called in list context from package HTML::Shakan line 253, this can lead to vulnerabilities. See the warning in "Fetching the value or values of a single named parameter" at /opt/perl-5.21.10/lib/site_perl/5.21.10/CGI.pm line 408.
CGI::param called in list context from package HTML::Shakan line 253, this can lead to vulnerabilities. See the warning in "Fetching the value or values of a single named parameter" at /opt/perl-5.21.10/lib/site_perl/5.21.10/CGI.pm line 408.
t/010_core/012_custom_validation_field.t ... ok
CGI::param called in list context from package HTML::Shakan line 253, this can lead to vulnerabilities. See the warning in "Fetching the value or values of a single named parameter" at /opt/perl-5.21.10/lib/site_perl/5.21.10/CGI.pm line 408.
CGI::param called in list context from package HTML::Shakan line 253, this can lead to vulnerabilities. See the warning in "Fetching the value or values of a single named parameter" at /opt/perl-5.21.10/lib/site_perl/5.21.10/CGI.pm line 408.
CGI::param called in list context from package HTML::Shakan line 253, this can lead to vulnerabilities. See the warning in "Fetching the value or values of a single named parameter" at /opt/perl-5.21.10/lib/site_perl/5.21.10/CGI.pm line 408.
t/010_core/013_render_field.t .............. ok
CGI::param called in list context from package HTML::Shakan line 253, this can lead to vulnerabilities. See the warning in "Fetching the value or values of a single named parameter" at /opt/perl-5.21.10/lib/site_perl/5.21.10/CGI.pm line 408.
t/010_core/014_multi_value.t ............... ok
t/020_inflator/001_datetime.t .............. ok
CGI::param called in list context from package HTML::Shakan line 253, this can lead to vulnerabilities. See the warning in "Fetching the value or values of a single named parameter" at /opt/perl-5.21.10/lib/site_perl/5.21.10/CGI.pm line 408.
t/020_inflator/002_dt_join.t ............... ok
# FVL: 0.38
CGI::param called in list context from package HTML::Shakan line 253, this can lead to vulnerabilities. See the warning in "Fetching the value or values of a single named parameter" at /opt/perl-5.21.10/lib/site_perl/5.21.10/CGI.pm line 408.
CGI::param called in list context from package HTML::Shakan line 253, this can lead to vulnerabilities. See the warning in "Fetching the value or values of a single named parameter" at /opt/perl-5.21.10/lib/site_perl/5.21.10/CGI.pm line 408.
CGI::param called in list context from package HTML::Shakan line 253, this can lead to vulnerabilities. See the warning in "Fetching the value or values of a single named parameter" at /opt/perl-5.21.10/lib/site_perl/5.21.10/CGI.pm line 408.
t/030_field/001_file.t ..................... ok
# FVL: 0.38
CGI::param called in list context from package HTML::Shakan line 253, this can lead to vulnerabilities. See the warning in "Fetching the value or values of a single named parameter" at /opt/perl-5.21.10/lib/site_perl/5.21.10/CGI.pm line 408.
CGI::param called in list context from package HTML::Shakan line 253, this can lead to vulnerabilities. See the warning in "Fetching the value or values of a single named parameter" at /opt/perl-5.21.10/lib/site_perl/5.21.10/CGI.pm line 408.
t/030_field/002_image.t .................... ok
CGI::param called in list context from package HTML::Shakan line 253, this can lead to vulnerabilities. See the warning in "Fetching the value or values of a single named parameter" at /opt/perl-5.21.10/lib/site_perl/5.21.10/CGI.pm line 408.
CGI::param called in list context from package HTML::Shakan line 253, this can lead to vulnerabilities. See the warning in "Fetching the value or values of a single named parameter" at /opt/perl-5.21.10/lib/site_perl/5.21.10/CGI.pm line 408.
CGI::param called in list context from package HTML::Shakan line 253, this can lead to vulnerabilities. See the warning in "Fetching the value or values of a single named parameter" at /opt/perl-5.21.10/lib/site_perl/5.21.10/CGI.pm line 408.
CGI::param called in list context from package HTML::Shakan line 253, this can lead to vulnerabilities. See the warning in "Fetching the value or values of a single named parameter" at /opt/perl-5.21.10/lib/site_perl/5.21.10/CGI.pm line 408.
t/030_field/003_duplication.t .............. ok
t/040_model/001_datamodel.t ................ skipped: Test requires module 'Data::Model' but it's not found
t/040_model/002_skinny.t ................... skipped: Test requires module 'DBIx::Skinny' but it's not found
CGI::param called in list context from package HTML::Shakan line 253, this can lead to vulnerabilities. See the warning in "Fetching the value or values of a single named parameter" at /opt/perl-5.21.10/lib/site_perl/5.21.10/CGI.pm line 408.
CGI::param called in list context from package HTML::Shakan line 253, this can lead to vulnerabilities. See the warning in "Fetching the value or values of a single named parameter" at /opt/perl-5.21.10/lib/site_perl/5.21.10/CGI.pm line 408.
CGI::param called in list context from package HTML::Shakan line 253, this can lead to vulnerabilities. See the warning in "Fetching the value or values of a single named parameter" at /opt/perl-5.21.10/lib/site_perl/5.21.10/CGI.pm line 408.
CGI::param called in list context from package HTML::Shakan line 253, this can lead to vulnerabilities. See the warning in "Fetching the value or values of a single named parameter" at /opt/perl-5.21.10/lib/site_perl/5.21.10/CGI.pm line 408.
t/999_regression/001_destructive_widget.t .. ok
t/upload_submitted.t ....................... ok
All tests successful.
Files=24, Tests=92, 74 wallclock secs ( 0.42 usr  0.24 sys + 28.40 cusr  6.04 csys = 35.10 CPU)
Result: PASS

------------------------------
PREREQUISITES
------------------------------

Prerequisite modules loaded:

requires:

    Module              Need     Have    
    ------------------- -------- --------
    Email::Valid::Loose 0.05     0.05    
    FormValidator::Lite 0.24     0.38    
    Hash::MultiValue    0        0.16    
    HTML::Escape        0        1.09    
    List::MoreUtils     0.22     0.410   
    List::Util          1.32     1.41    
    Mouse               0.9      2.4.2   
    parent              0        0.232   
    perl                5.008001 5.021010

build_requires:

    Module              Need     Have    
    ------------------- -------- --------
    CGI                 0        4.14    
    ExtUtils::CBuilder  0        0.280221
    Test::More          0.98     1.001014
    Test::Requires      0.06     0.08    

configure_requires:

    Module              Need     Have    
    ------------------- -------- --------
    CPAN::Meta          0        2.150001
    CPAN::Meta::Prereqs 0        2.150001
    Module::Build       0.38     0.4211  


------------------------------
ENVIRONMENT AND OTHER CONTEXT
------------------------------

Environment variables:

    DBIC_NO_WARN_BAD_PERL = 1
    LANG = en_US.UTF-8
    LANGUAGE = en_US:en
    PATH = /usr/local/bin:/usr/bin:/bin:/usr/local/sbin:/usr/sbin:/sbin:/home/cpansand/bin/linux-gnu:/home/cpansand/bin/sh:/home/cpansand/bin:/usr/games:/home/cpansand/devel:/home/eserte/src/srezic-misc/scripts
    PERL5LIB = /home/cpansand/.cpan/build/Exporter-AutoClean-0.01-tHPBRi/blib/arch:/home/cpansand/.cpan/build/Exporter-AutoClean-0.01-tHPBRi/blib/lib:/home/cpansand/.cpan/build/FormValidator-Lite-0.38-k5j2QR/blib/arch:/home/cpansand/.cpan/build/FormValidator-Lite-0.38-k5j2QR/blib/lib:/home/cpansand/.cpan/build/Smart-Args-0.12-zHpzX_/blib/arch:/home/cpansand/.cpan/build/Smart-Args-0.12-zHpzX_/blib/lib:/home/cpansand/.cpan/build/File-RotateLogs-0.07-FmNCEp/blib/arch:/home/cpansand/.cpan/build/File-RotateLogs-0.07-FmNCEp/blib/lib:/home/cpansand/.cpan/build/Amon2-Auth-Site-Instagram-0.01-vdMIMs/blib/arch:/home/cpansand/.cpan/build/Amon2-Auth-Site-Instagram-0.01-vdMIMs/blib/lib:/home/cpansand/.cpan/build/Amon2-Auth-0.06-em2Z_l/blib/arch:/home/cpansand/.cpan/build/Amon2-Auth-0.06-em2Z_l/blib/lib:/home/cpansand/.cpan/build/Net-Twitter-Lite-0.12006-WWzoek/blib/arch:/home/cpansand/.cpan/build/Net-Twitter-Lite-0.12006-WWzoek/blib/lib:/home/cpansand/.cpan/build/Amon2-6.11-nBjV3S/blib/arch:/home/cpansand/.cpan/build/Amon2-6.11-nBjV3S/blib/lib:/home/cpansand/.cpan/build/HTTP-Session2-1.09-UFDQPv/blib/arch:/home/cpansand/.cpan/build/HTTP-Session2-1.09-UFDQPv/blib/lib:/home/cpansand/.cpan/build/HTML-FillInForm-Lite-1.13-7PnKVR/blib/arch:/home/cpansand/.cpan/build/HTML-FillInForm-Lite-1.13-7PnKVR/blib/lib:/home/cpansand/.cpan/build/Hailo-0.72-oWiAXf/blib/arch:/home/cpansand/.cpan/build/Hailo-0.72-oWiAXf/blib/lib:/home/cpansand/.cpan/build/Term-Sk-0.17-Dgj69z/blib/arch:/home/cpansand/.cpan/build/Term-Sk-0.17-Dgj69z/blib/lib:/home/cpansand/.cpan/build/File-CountLines-v0.0.3-TVHB6g/blib/arch:/home/cpansand/.cpan/build/File-CountLines-v0.0.3-TVHB6g/blib/lib:/home/cpansand/.cpan/build/Bot-Training-MegaHAL-0.02-Zr9R5l/blib/arch:/home/cpansand/.cpan/build/Bot-Training-MegaHAL-0.02-Zr9R5l/blib/lib:/home/cpansand/.cpan/build/Bot-Training-StarCraft-0.02-8xYQAY/blib/arch:/home/cpansand/.cpan/build/Bot-Training-StarCraft-0.02-8xYQAY/blib/lib:/home/cpansand/.cpan/build/Bot-Training-0.06-y_6_at/blib/arch:/home/cpansand/.cpan/build/Bot-Training-0.06-y_6_at/blib/lib:/home/cpansand/.cpan/build/Basket-Calc-0.5-OOHowr/blib/arch:/home/cpansand/.cpan/build/Basket-Calc-0.5-OOHowr/blib/lib:/home/cpansand/.cpan/build/Finance-Currency-Convert-Yahoo-0.2-QxxqXL/blib/arch:/home/cpansand/.cpan/build/Finance-Currency-Convert-Yahoo-0.2-QxxqXL/blib/lib:/home/cpansand/.cpan/build/Mail-SendGrid-0.07-1WUeMa/blib/arch:/home/cpansand/.cpan/build/Mail-SendGrid-0.07-1WUeMa/blib/lib:/home/cpansand/.cpan/build/Redis-LeaderBoard-0.03-NX7yS3/blib/arch:/home/cpansand/.cpan/build/Redis-LeaderBoard-0.03-NX7yS3/blib/lib:/home/cpansand/.cpan/build/Devel-Leak-0.04-zTU5kf/blib/arch:/home/cpansand/.cpan/build/Devel-Leak-0.04-zTU5kf/blib/lib:/home/cpansand/.cpan/build/DSP-LinPred-0.06-3y8yFe/blib/arch:/home/cpansand/.cpan/build/DSP-LinPred-0.06-3y8yFe/blib/lib:/home/cpansand/.cpan/build/PDA-Simple-0.01-wtZjB7/blib/arch:/home/cpansand/.cpan/build/PDA-Simple-0.01-wtZjB7/blib/lib:/home/cpansand/.cpan/build/App-FakeCDN-0.01-4kFRpU/blib/arch:/home/cpansand/.cpan/build/App-FakeCDN-0.01-4kFRpU/blib/lib:/home/cpansand/.cpan/build/Cache-Memory-Simple-1.03-ipdvBu/blib/arch:/home/cpansand/.cpan/build/Cache-Memory-Simple-1.03-ipdvBu/blib/lib:/home/cpansand/.cpan/build/Algorithm-NaiveBayes-0.04-k4nj6C/blib/arch:/home/cpansand/.cpan/build/Algorithm-NaiveBayes-0.04-k4nj6C/blib/lib:/home/cpansand/.cpan/build/LWPx-ParanoidAgent-1.10-314OCp/blib/arch:/home/cpansand/.cpan/build/LWPx-ParanoidAgent-1.10-314OCp/blib/lib:/home/cpansand/.cpan/build/Regexp-Common-net-CIDR-0.02-AOVWtH/blib/arch:/home/cpansand/.cpan/build/Regexp-Common-net-CIDR-0.02-AOVWtH/blib/lib
    PERL5OPT = 
    PERL5_CPANPLUS_IS_RUNNING = 29017
    PERL5_CPAN_IS_RUNNING = 29017
    PERL5_CPAN_IS_RUNNING_IN_RECURSION = 6242,29017
    PERLDOC = -MPod::Perldoc::ToTextOverstrike
    PERL_BATCH = yes
    PERL_CPAN_REPORTER_CONFIG = /run/user/1023/cpansmoker/QFzLnZJe6N_config.ini
    PERL_EXTUTILS_AUTOINSTALL = --defaultdeps
    PERL_HTML_DISPLAY_CLASS = HTML::Display::Mozilla
    SHELL = /bin/zsh
    TERM = screen
    TMPDIR = /run/user/1023/cpansmoker

Perl special variables (and OS-specific diagnostics, for MSWin32):

    $^X = /opt/perl-5.21.10/bin/perl5.21.10
    $UID/$EUID = 1023 / 1023
    $GID = 1023 1023
    $EGID = 1023 1023

Perl module toolchain versions installed:

    Module              Have    
    ------------------- --------
    CPAN                2.10    
    CPAN::Meta          2.150001
    Cwd                 3.55    
    ExtUtils::CBuilder  0.280221
    ExtUtils::Command   1.20    
    ExtUtils::Install   2.04    
    ExtUtils::MakeMaker 7.04    
    ExtUtils::Manifest  1.70    
    ExtUtils::ParseXS   3.27    
    File::Spec          3.55    
    JSON                2.90    
    JSON::PP            2.27300 
    Module::Build       0.4211  
    Module::Signature   0.78    
    Parse::CPAN::Meta   1.4414  
    Test::Harness       3.35    
    Test::More          1.001014
    YAML                1.14    
    YAML::Syck          1.29    
    version             0.9912  


--

Summary of my perl5 (revision 5 version 21 subversion 10) configuration:
   
  Platform:
    osname=linux, osvers=3.16.0-4-amd64, archname=x86_64-linux
    uname='linux cvrsnica-jessie 3.16.0-4-amd64 #1 smp debian 3.16.7-2 (2014-11-06) x86_64 gnulinux '
    config_args='-ds -e -Dprefix=/opt/perl-5.21.10 -Dusedevel -Dusemallocwrap=no'
    hint=recommended, useposix=true, d_sigaction=define
    useithreads=undef, usemultiplicity=undef
    use64bitint=define, use64bitall=define, uselongdouble=undef
    usemymalloc=n, bincompat5005=undef
  Compiler:
    cc='cc', ccflags ='-fwrapv -fno-strict-aliasing -pipe -fstack-protector-strong -I/usr/local/include -D_LARGEFILE_SOURCE -D_FILE_OFFSET_BITS=64 -D_FORTIFY_SOURCE=2',
    optimize='-O2',
    cppflags='-fwrapv -fno-strict-aliasing -pipe -fstack-protector-strong -I/usr/local/include'
    ccversion='', gccversion='4.9.1', gccosandvers=''
    intsize=4, longsize=8, ptrsize=8, doublesize=8, byteorder=12345678, doublekind=3
    d_longlong=define, longlongsize=8, d_longdbl=define, longdblsize=16, longdblkind=3
    ivtype='long', ivsize=8, nvtype='double', nvsize=8, Off_t='off_t', lseeksize=8
    alignbytes=8, prototype=define
  Linker and Libraries:
    ld='cc', ldflags =' -fstack-protector-strong -L/usr/local/lib'
    libpth=/usr/local/lib /usr/lib/gcc/x86_64-linux-gnu/4.9/include-fixed /usr/include/x86_64-linux-gnu /usr/lib /lib/x86_64-linux-gnu /lib/../lib /usr/lib/x86_64-linux-gnu /usr/lib/../lib /lib
    libs=-lpthread -lnsl -lgdbm -ldb -ldl -lm -lcrypt -lutil -lc -lgdbm_compat
    perllibs=-lpthread -lnsl -ldl -lm -lcrypt -lutil -lc
    libc=libc-2.19.so, so=so, useshrplib=false, libperl=libperl.a
    gnulibc_version='2.19'
  Dynamic Linking:
    dlsrc=dl_dlopen.xs, dlext=so, d_dlsymun=undef, ccdlflags='-Wl,-E'
    cccdlflags='-fPIC', lddlflags='-shared -O2 -L/usr/local/lib -fstack-protector-strong'


Characteristics of this binary (from libperl): 
  Compile-time options: HAS_TIMES PERLIO_LAYERS PERL_DONT_CREATE_GVSV
                        PERL_HASH_FUNC_ONE_AT_A_TIME_HARD
                        PERL_NEW_COPY_ON_WRITE PERL_PRESERVE_IVUV
                        PERL_USE_DEVEL USE_64_BIT_ALL USE_64_BIT_INT
                        USE_LARGE_FILES USE_LOCALE USE_LOCALE_COLLATE
                        USE_LOCALE_CTYPE USE_LOCALE_NUMERIC USE_LOCALE_TIME
                        USE_PERLIO USE_PERL_ATOF
  Built under linux
  Compiled at Mar 21 2015 08:35:12
  %ENV:
    PERL5LIB="/home/cpansand/.cpan/build/Exporter-AutoClean-0.01-tHPBRi/blib/arch:/home/cpansand/.cpan/build/Exporter-AutoClean-0.01-tHPBRi/blib/lib:/home/cpansand/.cpan/build/FormValidator-Lite-0.38-k5j2QR/blib/arch:/home/cpansand/.cpan/build/FormValidator-Lite-0.38-k5j2QR/blib/lib:/home/cpansand/.cpan/build/Smart-Args-0.12-zHpzX_/blib/arch:/home/cpansand/.cpan/build/Smart-Args-0.12-zHpzX_/blib/lib:/home/cpansand/.cpan/build/File-RotateLogs-0.07-FmNCEp/blib/arch:/home/cpansand/.cpan/build/File-RotateLogs-0.07-FmNCEp/blib/lib:/home/cpansand/.cpan/build/Amon2-Auth-Site-Instagram-0.01-vdMIMs/blib/arch:/home/cpansand/.cpan/build/Amon2-Auth-Site-Instagram-0.01-vdMIMs/blib/lib:/home/cpansand/.cpan/build/Amon2-Auth-0.06-em2Z_l/blib/arch:/home/cpansand/.cpan/build/Amon2-Auth-0.06-em2Z_l/blib/lib:/home/cpansand/.cpan/build/Net-Twitter-Lite-0.12006-WWzoek/blib/arch:/home/cpansand/.cpan/build/Net-Twitter-Lite-0.12006-WWzoek/blib/lib:/home/cpansand/.cpan/build/Amon2-6.11-nBjV3S/blib/arch:/home/cpansand/.cpan/build/Amon2-6.11-nBjV3S/blib/lib:/home/cpansand/.cpan/build/HTTP-Session2-1.09-UFDQPv/blib/arch:/home/cpansand/.cpan/build/HTTP-Session2-1.09-UFDQPv/blib/lib:/home/cpansand/.cpan/build/HTML-FillInForm-Lite-1.13-7PnKVR/blib/arch:/home/cpansand/.cpan/build/HTML-FillInForm-Lite-1.13-7PnKVR/blib/lib:/home/cpansand/.cpan/build/Hailo-0.72-oWiAXf/blib/arch:/home/cpansand/.cpan/build/Hailo-0.72-oWiAXf/blib/lib:/home/cpansand/.cpan/build/Term-Sk-0.17-Dgj69z/blib/arch:/home/cpansand/.cpan/build/Term-Sk-0.17-Dgj69z/blib/lib:/home/cpansand/.cpan/build/File-CountLines-v0.0.3-TVHB6g/blib/arch:/home/cpansand/.cpan/build/File-CountLines-v0.0.3-TVHB6g/blib/lib:/home/cpansand/.cpan/build/Bot-Training-MegaHAL-0.02-Zr9R5l/blib/arch:/home/cpansand/.cpan/build/Bot-Training-MegaHAL-0.02-Zr9R5l/blib/lib:/home/cpansand/.cpan/build/Bot-Training-StarCraft-0.02-8xYQAY/blib/arch:/home/cpansand/.cpan/build/Bot-Training-StarCraft-0.02-8xYQAY/blib/lib:/home/cpansand/.cpan/build/Bot-Training-0.06-y_6_at/blib/arch:/home/cpansand/.cpan/build/Bot-Training-0.06-y_6_at/blib/lib:/home/cpansand/.cpan/build/Basket-Calc-0.5-OOHowr/blib/arch:/home/cpansand/.cpan/build/Basket-Calc-0.5-OOHowr/blib/lib:/home/cpansand/.cpan/build/Finance-Currency-Convert-Yahoo-0.2-QxxqXL/blib/arch:/home/cpansand/.cpan/build/Finance-Currency-Convert-Yahoo-0.2-QxxqXL/blib/lib:/home/cpansand/.cpan/build/Mail-SendGrid-0.07-1WUeMa/blib/arch:/home/cpansand/.cpan/build/Mail-SendGrid-0.07-1WUeMa/blib/lib:/home/cpansand/.cpan/build/Redis-LeaderBoard-0.03-NX7yS3/blib/arch:/home/cpansand/.cpan/build/Redis-LeaderBoard-0.03-NX7yS3/blib/lib:/home/cpansand/.cpan/build/Devel-Leak-0.04-zTU5kf/blib/arch:/home/cpansand/.cpan/build/Devel-Leak-0.04-zTU5kf/blib/lib:/home/cpansand/.cpan/build/DSP-LinPred-0.06-3y8yFe/blib/arch:/home/cpansand/.cpan/build/DSP-LinPred-0.06-3y8yFe/blib/lib:/home/cpansand/.cpan/build/PDA-Simple-0.01-wtZjB7/blib/arch:/home/cpansand/.cpan/build/PDA-Simple-0.01-wtZjB7/blib/lib:/home/cpansand/.cpan/build/App-FakeCDN-0.01-4kFRpU/blib/arch:/home/cpansand/.cpan/build/App-FakeCDN-0.01-4kFRpU/blib/lib:/home/cpansand/.cpan/build/Cache-Memory-Simple-1.03-ipdvBu/blib/arch:/home/cpansand/.cpan/build/Cache-Memory-Simple-1.03-ipdvBu/blib/lib:/home/cpansand/.cpan/build/Algorithm-NaiveBayes-0.04-k4nj6C/blib/arch:/home/cpansand/.cpan/build/Algorithm-NaiveBayes-0.04-k4nj6C/blib/lib:/home/cpansand/.cpan/build/LWPx-ParanoidAgent-1.10-314OCp/blib/arch:/home/cpansand/.cpan/build/LWPx-ParanoidAgent-1.10-314OCp/blib/lib:/home/cpansand/.cpan/build/Regexp-Common-net-CIDR-0.02-AOVWtH/blib/arch:/home/cpansand/.cpan/build/Regexp-Common-net-CIDR-0.02-AOVWtH/blib/lib"
    PERL5OPT=""
    PERL5_CPANPLUS_IS_RUNNING="29017"
    PERL5_CPAN_IS_RUNNING="29017"
    PERL5_CPAN_IS_RUNNING_IN_RECURSION="6242,29017"
    PERLDOC="-MPod::Perldoc::ToTextOverstrike"
    PERL_BATCH="yes"
    PERL_CPAN_REPORTER_CONFIG="/run/user/1023/cpansmoker/QFzLnZJe6N_config.ini"
    PERL_EXTUTILS_AUTOINSTALL="--defaultdeps"
    PERL_HTML_DISPLAY_CLASS="HTML::Display::Mozilla"
  @INC:
    /home/cpansand/.cpan/build/Exporter-AutoClean-0.01-tHPBRi/blib/arch
    /home/cpansand/.cpan/build/Exporter-AutoClean-0.01-tHPBRi/blib/lib
    /home/cpansand/.cpan/build/FormValidator-Lite-0.38-k5j2QR/blib/arch
    /home/cpansand/.cpan/build/FormValidator-Lite-0.38-k5j2QR/blib/lib
    /home/cpansand/.cpan/build/Smart-Args-0.12-zHpzX_/blib/arch
    /home/cpansand/.cpan/build/Smart-Args-0.12-zHpzX_/blib/lib
    /home/cpansand/.cpan/build/File-RotateLogs-0.07-FmNCEp/blib/arch
    /home/cpansand/.cpan/build/File-RotateLogs-0.07-FmNCEp/blib/lib
    /home/cpansand/.cpan/build/Amon2-Auth-Site-Instagram-0.01-vdMIMs/blib/arch
    /home/cpansand/.cpan/build/Amon2-Auth-Site-Instagram-0.01-vdMIMs/blib/lib
    /home/cpansand/.cpan/build/Amon2-Auth-0.06-em2Z_l/blib/arch
    /home/cpansand/.cpan/build/Amon2-Auth-0.06-em2Z_l/blib/lib
    /home/cpansand/.cpan/build/Net-Twitter-Lite-0.12006-WWzoek/blib/arch
    /home/cpansand/.cpan/build/Net-Twitter-Lite-0.12006-WWzoek/blib/lib
    /home/cpansand/.cpan/build/Amon2-6.11-nBjV3S/blib/arch
    /home/cpansand/.cpan/build/Amon2-6.11-nBjV3S/blib/lib
    /home/cpansand/.cpan/build/HTTP-Session2-1.09-UFDQPv/blib/arch
    /home/cpansand/.cpan/build/HTTP-Session2-1.09-UFDQPv/blib/lib
    /home/cpansand/.cpan/build/HTML-FillInForm-Lite-1.13-7PnKVR/blib/arch
    /home/cpansand/.cpan/build/HTML-FillInForm-Lite-1.13-7PnKVR/blib/lib
    /home/cpansand/.cpan/build/Hailo-0.72-oWiAXf/blib/arch
    /home/cpansand/.cpan/build/Hailo-0.72-oWiAXf/blib/lib
    /home/cpansand/.cpan/build/Term-Sk-0.17-Dgj69z/blib/arch
    /home/cpansand/.cpan/build/Term-Sk-0.17-Dgj69z/blib/lib
    /home/cpansand/.cpan/build/File-CountLines-v0.0.3-TVHB6g/blib/arch
    /home/cpansand/.cpan/build/File-CountLines-v0.0.3-TVHB6g/blib/lib
    /home/cpansand/.cpan/build/Bot-Training-MegaHAL-0.02-Zr9R5l/blib/arch
    /home/cpansand/.cpan/build/Bot-Training-MegaHAL-0.02-Zr9R5l/blib/lib
    /home/cpansand/.cpan/build/Bot-Training-StarCraft-0.02-8xYQAY/blib/arch
    /home/cpansand/.cpan/build/Bot-Training-StarCraft-0.02-8xYQAY/blib/lib
    /home/cpansand/.cpan/build/Bot-Training-0.06-y_6_at/blib/arch
    /home/cpansand/.cpan/build/Bot-Training-0.06-y_6_at/blib/lib
    /home/cpansand/.cpan/build/Basket-Calc-0.5-OOHowr/blib/arch
    /home/cpansand/.cpan/build/Basket-Calc-0.5-OOHowr/blib/lib
    /home/cpansand/.cpan/build/Finance-Currency-Convert-Yahoo-0.2-QxxqXL/blib/arch
    /home/cpansand/.cpan/build/Finance-Currency-Convert-Yahoo-0.2-QxxqXL/blib/lib
    /home/cpansand/.cpan/build/Mail-SendGrid-0.07-1WUeMa/blib/arch
    /home/cpansand/.cpan/build/Mail-SendGrid-0.07-1WUeMa/blib/lib
    /home/cpansand/.cpan/build/Redis-LeaderBoard-0.03-NX7yS3/blib/arch
    /home/cpansand/.cpan/build/Redis-LeaderBoard-0.03-NX7yS3/blib/lib
    /home/cpansand/.cpan/build/Devel-Leak-0.04-zTU5kf/blib/arch
    /home/cpansand/.cpan/build/Devel-Leak-0.04-zTU5kf/blib/lib
    /home/cpansand/.cpan/build/DSP-LinPred-0.06-3y8yFe/blib/arch
    /home/cpansand/.cpan/build/DSP-LinPred-0.06-3y8yFe/blib/lib
    /home/cpansand/.cpan/build/PDA-Simple-0.01-wtZjB7/blib/arch
    /home/cpansand/.cpan/build/PDA-Simple-0.01-wtZjB7/blib/lib
    /home/cpansand/.cpan/build/App-FakeCDN-0.01-4kFRpU/blib/arch
    /home/cpansand/.cpan/build/App-FakeCDN-0.01-4kFRpU/blib/lib
    /home/cpansand/.cpan/build/Cache-Memory-Simple-1.03-ipdvBu/blib/arch
    /home/cpansand/.cpan/build/Cache-Memory-Simple-1.03-ipdvBu/blib/lib
    /home/cpansand/.cpan/build/Algorithm-NaiveBayes-0.04-k4nj6C/blib/arch
    /home/cpansand/.cpan/build/Algorithm-NaiveBayes-0.04-k4nj6C/blib/lib
    /home/cpansand/.cpan/build/LWPx-ParanoidAgent-1.10-314OCp/blib/arch
    /home/cpansand/.cpan/build/LWPx-ParanoidAgent-1.10-314OCp/blib/lib
    /home/cpansand/.cpan/build/Regexp-Common-net-CIDR-0.02-AOVWtH/blib/arch
    /home/cpansand/.cpan/build/Regexp-Common-net-CIDR-0.02-AOVWtH/blib/lib
    /opt/perl-5.21.10/lib/site_perl/5.21.10/x86_64-linux
    /opt/perl-5.21.10/lib/site_perl/5.21.10
    /opt/perl-5.21.10/lib/5.21.10/x86_64-linux
    /opt/perl-5.21.10/lib/5.21.10
    .