Lingua-Stem v2.31 Perl 5 v5.28.3 x86_64-linux-thread-multi
- Status
- Pass
- From
- aero
- Dist
-
Lingua-Stem v2.31
- Platform
- Perl 5 v5.28.3 x86_64-linux-thread-multi
- Date
- 2020-09-27 23:47:17
- ID
- c6ea0ebe-011b-11eb-89e2-325b1975e03c
This distribution has been tested as part of the CPAN Testers
project, supporting the Perl programming language. See
http://wiki.cpantesters.org/ for more information or email
questions to cpan-testers-discuss@perl.org
--
Dear Jerilyn Franz,
This is a computer-generated report for Lingua-Stem-2.31
on perl 5.28.3, created by CPAN-Reporter-1.2018.
Thank you for uploading your work to CPAN. Congratulations!
All tests were successful.
Sections of this report:
* Tester comments
* Program output
* Prerequisites
* Environment and other context
------------------------------
TESTER COMMENTS
------------------------------
Additional comments from tester:
none provided
------------------------------
PROGRAM OUTPUT
------------------------------
Output from './Build test':
locale - ok
stem - ok
stem_in_place - ok
exceptions - ok
t/01_import_all.t .... ok
locale - ok
stem - ok
exceptions - ok
t/02_object.t ........ ok
t/97_distribution.t .. skipped: Test::Distribution not installed
t/98_pod_coverage.t .. skipped: To enable POD coverage test set TEST_POD_COVERAGE=1
t/99_pod.t ........... skipped: To enable POD coverage test set TEST_POD_COVERAGE=1
All tests successful.
Files=5, Tests=7, 0 wallclock secs ( 0.02 usr 0.01 sys + 0.14 cusr 0.00 csys = 0.17 CPU)
Result: PASS
------------------------------
PREREQUISITES
------------------------------
Prerequisite modules loaded:
requires:
Module Need Have
-------------------------- ----- --------
Carp 0 1.50
Lingua::GL::Stemmer 0 0.02
Lingua::PT::Stemmer 0 0.02
Lingua::Stem::Fr 0.02 0.02
Lingua::Stem::It 0 0.02
Lingua::Stem::Ru 0 0.04
Lingua::Stem::Snowball::Da 1.01 1.01
Lingua::Stem::Snowball::No 1.00 1.2
Lingua::Stem::Snowball::Se 1.01 1.2
perl 5.006 5.028003
Text::German 0 0.06
warnings 0 1.42
build_requires:
Module Need Have
-------------------------- ----- --------
Carp 0 1.50
Lingua::GL::Stemmer 0 0.02
Lingua::PT::Stemmer 0 0.02
Lingua::Stem::Fr 0.02 0.02
Lingua::Stem::It 0 0.02
Lingua::Stem::Ru 0 0.04
Lingua::Stem::Snowball::Da 1.01 1.01
Lingua::Stem::Snowball::No 1.00 1.2
Lingua::Stem::Snowball::Se 1.01 1.2
perl 5.006 5.028003
Text::German 0 0.06
warnings 0 1.42
configure_requires:
Module Need Have
-------------------------- ----- --------
ExtUtils::MakeMaker 0 7.46
------------------------------
ENVIRONMENT AND OTHER CONTEXT
------------------------------
Environment variables:
LANG = en_US.UTF-8
LC_TERMINAL = iTerm2
LC_TERMINAL_VERSION = 3.3.12
NONINTERACTIVE_TESTING = 1
PATH = /home/aero/bin:/home/aero/bin:/home/aero/.rakubrew/versions/moar-2020.07/install/bin:/home/aero/.rakubrew/versions/moar-2020.07/install/share/perl6/site/bin:/home/aero/.anyenv/envs/rbenv/shims:/home/aero/.anyenv/envs/rbenv/bin:/home/aero/.anyenv/envs/pyenv/shims:/home/aero/.anyenv/envs/pyenv/bin:/home/aero/.anyenv/envs/nodenv/shims:/home/aero/.anyenv/envs/nodenv/bin:/home/aero/.anyenv/envs/jenv/shims:/home/aero/.anyenv/envs/jenv/bin:/home/aero/.anyenv/envs/goenv/shims:/home/aero/.anyenv/envs/goenv/bin:/home/aero/.anyenv/bin:/home/aero/perl5/perlbrew/bin:/home/aero/perl5/perlbrew/perls/perl-5.28/bin:/usr/local/sbin:/usr/local/bin:/usr/sbin:/usr/bin:/sbin:/bin:/usr/games:/usr/local/games:MY_BASHRC_PATH:MY_PROFILE_PATH
PERL5LIB =
PERL5OPT =
PERL5_CPANPLUS_IS_RUNNING = 9142
PERL5_CPAN_IS_RUNNING = 9142
PERLBREW_HOME = /home/aero/.perlbrew
PERLBREW_MANPATH = /home/aero/perl5/perlbrew/perls/perl-5.28/man
PERLBREW_PATH = /home/aero/perl5/perlbrew/bin:/home/aero/perl5/perlbrew/perls/perl-5.28/bin
PERLBREW_PERL = perl-5.28
PERLBREW_ROOT = /home/aero/perl5/perlbrew
PERLBREW_SHELLRC_VERSION = 0.88
PERLBREW_VERSION = 0.88
PERL_MM_USE_DEFAULT = 1
PERL_USE_UNSAFE_INC = 1
SHELL = /bin/bash
TERM = xterm-256color
Perl special variables (and OS-specific diagnostics, for MSWin32):
$^X = /home/aero/perl5/perlbrew/perls/perl-5.28/bin/perl
$UID/$EUID = 1001 / 1001
$GID = 1001 27 1001
$EGID = 1001 27 1001
Perl module toolchain versions installed:
Module Have
------------------- --------
CPAN 2.28
CPAN::Meta 2.150010
Cwd 3.75
ExtUtils::CBuilder 0.280234
ExtUtils::Command 7.46
ExtUtils::Install 2.18
ExtUtils::MakeMaker 7.46
ExtUtils::Manifest 1.72
ExtUtils::ParseXS 3.39
File::Spec 3.75
JSON 4.02
JSON::PP 4.05
Module::Build 0.4231
Module::Signature n/a
Parse::CPAN::Meta 2.150010
Test::Harness 3.42
Test::More 1.302181
YAML 1.30
YAML::Syck 1.32
version 0.9928
--
Summary of my perl5 (revision 5 version 28 subversion 3) configuration:
Platform:
osname=linux
osvers=4.9.0-5-amd64
archname=x86_64-linux-thread-multi
uname='linux aero 4.9.0-5-amd64 #1 smp debian 4.9.65-3+deb9u2 (2018-01-04) x86_64 x86_64 x86_64 gnulinux '
config_args='-de -Dprefix=/home/aero/perl5/perlbrew/perls/perl-5.28 -Dman1dir=none -Dman3dir=none -Dusethreads -Aeval:scriptdir=/home/aero/perl5/perlbrew/perls/perl-5.28/bin'
hint=recommended
useposix=true
d_sigaction=define
useithreads=define
usemultiplicity=define
use64bitint=define
use64bitall=define
uselongdouble=undef
usemymalloc=n
default_inc_excludes_dot=define
bincompat5005=undef
Compiler:
cc='cc'
ccflags ='-D_REENTRANT -D_GNU_SOURCE -fwrapv -fno-strict-aliasing -pipe -fstack-protector-strong -I/usr/local/include -D_LARGEFILE_SOURCE -D_FILE_OFFSET_BITS=64'
optimize='-O2'
cppflags='-D_REENTRANT -D_GNU_SOURCE -fwrapv -fno-strict-aliasing -pipe -fstack-protector-strong -I/usr/local/include'
ccversion=''
gccversion='4.9.4'
gccosandvers=''
intsize=4
longsize=8
ptrsize=8
doublesize=8
byteorder=12345678
doublekind=3
d_longlong=define
longlongsize=8
d_longdbl=define
longdblsize=16
longdblkind=3
ivtype='long'
ivsize=8
nvtype='double'
nvsize=8
Off_t='off_t'
lseeksize=8
alignbytes=8
prototype=define
Linker and Libraries:
ld='cc'
ldflags =' -fstack-protector-strong -L/usr/local/lib'
libpth=/usr/local/lib /usr/lib/gcc/x86_64-linux-gnu/4.9/include-fixed /usr/include/x86_64-linux-gnu /usr/lib /lib/x86_64-linux-gnu /lib/../lib /usr/lib/x86_64-linux-gnu /usr/lib/../lib /lib
libs=-lpthread -lnsl -lgdbm -ldl -lm -lcrypt -lutil -lc -lgdbm_compat
perllibs=-lpthread -lnsl -ldl -lm -lcrypt -lutil -lc
libc=libc-2.19.so
so=so
useshrplib=false
libperl=libperl.a
gnulibc_version='2.19'
Dynamic Linking:
dlsrc=dl_dlopen.xs
dlext=so
d_dlsymun=undef
ccdlflags='-Wl,-E'
cccdlflags='-fPIC'
lddlflags='-shared -O2 -L/usr/local/lib -fstack-protector-strong'
Characteristics of this binary (from libperl):
Compile-time options:
HAS_TIMES
MULTIPLICITY
PERLIO_LAYERS
PERL_COPY_ON_WRITE
PERL_DONT_CREATE_GVSV
PERL_IMPLICIT_CONTEXT
PERL_MALLOC_WRAP
PERL_OP_PARENT
PERL_PRESERVE_IVUV
USE_64_BIT_ALL
USE_64_BIT_INT
USE_ITHREADS
USE_LARGE_FILES
USE_LOCALE
USE_LOCALE_COLLATE
USE_LOCALE_CTYPE
USE_LOCALE_NUMERIC
USE_LOCALE_TIME
USE_PERLIO
USE_PERL_ATOF
USE_REENTRANT_API
Locally applied patches:
Devel::PatchPerl 1.98
Built under linux
Compiled at Jun 2 2020 10:02:33
%ENV:
PERL5LIB=""
PERL5OPT=""
PERL5_CPANPLUS_IS_RUNNING="9142"
PERL5_CPAN_IS_RUNNING="9142"
PERLBREW_HOME="/home/aero/.perlbrew"
PERLBREW_MANPATH="/home/aero/perl5/perlbrew/perls/perl-5.28/man"
PERLBREW_PATH="/home/aero/perl5/perlbrew/bin:/home/aero/perl5/perlbrew/perls/perl-5.28/bin"
PERLBREW_PERL="perl-5.28"
PERLBREW_ROOT="/home/aero/perl5/perlbrew"
PERLBREW_SHELLRC_VERSION="0.88"
PERLBREW_VERSION="0.88"
PERL_MM_USE_DEFAULT="1"
PERL_USE_UNSAFE_INC="1"
@INC:
/home/aero/perl5/perlbrew/perls/perl-5.28/lib/site_perl/5.28.3/x86_64-linux-thread-multi
/home/aero/perl5/perlbrew/perls/perl-5.28/lib/site_perl/5.28.3
/home/aero/perl5/perlbrew/perls/perl-5.28/lib/5.28.3/x86_64-linux-thread-multi
/home/aero/perl5/perlbrew/perls/perl-5.28/lib/5.28.3
/home/aero/perl5/perlbrew/perls/perl-5.28/lib/site_perl/5.28.2/x86_64-linux-thread-multi
/home/aero/perl5/perlbrew/perls/perl-5.28/lib/site_perl/5.28.2
/home/aero/perl5/perlbrew/perls/perl-5.28/lib/site_perl
.