Test-LeakTrace v0.17 Perl 5 v5.35.4 OpenBSD.amd64-openbsd
- Status
- Pass
- From
- Carlos Guevara
- Dist
-
Test-LeakTrace v0.17
- Platform
- Perl 5 v5.35.4 OpenBSD.amd64-openbsd
- Date
- 2021-09-05T08:03:38
- ID
- c6c941ea-0e1f-11ec-87d6-57612916ec32
This distribution has been tested as part of the CPAN Testers
project, supporting the Perl programming language. See
http://wiki.cpantesters.org/ for more information or email
questions to cpan-testers-discuss@perl.org
--
Dear Lee Johnson,
This is a computer-generated report for Test-LeakTrace-0.17
on perl 5.35.4, created by CPAN-Reporter-1.2018.
Thank you for uploading your work to CPAN. Congratulations!
All tests were successful.
Sections of this report:
* Tester comments
* Program output
* Prerequisites
* Environment and other context
------------------------------
TESTER COMMENTS
------------------------------
Additional comments from tester:
this report is from an automated smoke testing program
and was not reviewed by a human for accuracy
------------------------------
PROGRAM OUTPUT
------------------------------
Output from '/usr/bin/make test':
"/home/cpan/bin/perl-blead/bin/perl5.35.4" -MExtUtils::Command::MM -e 'cp_nonempty' -- LeakTrace.bs blib/arch/auto/Test/LeakTrace/LeakTrace.bs 644
PERL_DL_NONLAZY=1 "/home/cpan/bin/perl-blead/bin/perl5.35.4" "-MExtUtils::Command::MM" "-MTest::Harness" "-e" "undef *Test::Harness::Switches; test_harness(0, 'blib/lib', 'blib/arch')" t/*.t
# Testing Test::LeakTrace/0.17
t/00_compile.t ..... ok
t/01_info.t ........ ok
t/02_refs.t ........ ok
t/03_count.t ....... ok
t/04_test_funcs.t .. ok
leaked REF(0x8c691c74658) from /home/cpan/bin/perl-blead/lib/site_perl/5.35.4/Test2/Util/HashBase.pm line 153.
leaked REF(0x8c691c83d90) from /home/cpan/bin/perl-blead/lib/site_perl/5.35.4/Test2/Util/HashBase.pm line 153.
leaked GLOB(0x8c60667e700) from /home/cpan/bin/perl-blead/lib/site_perl/5.35.4/Test2/Hub.pm line 280.
leaked SCALAR(0x8c66c0c9df0) from /home/cpan/bin/perl-blead/lib/site_perl/5.35.4/Test2/API/Context.pm line 223.
leaked GLOB(0x8c6acf3ffe8) from /home/cpan/bin/perl-blead/lib/site_perl/5.35.4/Test2/Event/V2.pm line 69.
leaked SCALAR(0x8c6acf3ffd0) from /home/cpan/bin/perl-blead/lib/site_perl/5.35.4/Test/Builder.pm line 64.
leaked GLOB(0x8c6acf3ff70) from /home/cpan/bin/perl-blead/lib/site_perl/5.35.4/Test2/Hub.pm line 293.
leaked ARRAY(0x8c6acf3feb0) from /home/cpan/bin/perl-blead/lib/site_perl/5.35.4/Test2/Event/V2.pm line 42.
leaked SCALAR(0x8c6acf3fe68) from /home/cpan/bin/perl-blead/lib/site_perl/5.35.4/Test2/Event/V2.pm line 42.
leaked SCALAR(0x8c6acf3fe50) from /home/cpan/bin/perl-blead/lib/site_perl/5.35.4/Test2/Event/V2.pm line 42.
leaked SCALAR(0x8c6acf3fe38) from /home/cpan/bin/perl-blead/lib/site_perl/5.35.4/Test2/Event/V2.pm line 42.
leaked SCALAR(0x8c6acf3fe20) from /home/cpan/bin/perl-blead/lib/site_perl/5.35.4/Test2/Event/V2.pm line 42.
leaked SCALAR(0x8c6acf3fe08) from /home/cpan/bin/perl-blead/lib/site_perl/5.35.4/Test2/Event/V2.pm line 42.
leaked SCALAR(0x8c6acf3fdf0) from /home/cpan/bin/perl-blead/lib/site_perl/5.35.4/Test2/Event/V2.pm line 42.
leaked SCALAR(0x8c6acf3fdd8) from /home/cpan/bin/perl-blead/lib/site_perl/5.35.4/Test2/Event/V2.pm line 42.
leaked SCALAR(0x8c6acf3fdc0) from /home/cpan/bin/perl-blead/lib/site_perl/5.35.4/Test2/Event/V2.pm line 42.
leaked SCALAR(0x8c6acf3fda8) from /home/cpan/bin/perl-blead/lib/site_perl/5.35.4/Test2/Event/V2.pm line 42.
leaked SCALAR(0x8c6acf3fd90) from /home/cpan/bin/perl-blead/lib/site_perl/5.35.4/Test2/Event/V2.pm line 42.
leaked HASH(0x8c6acf3fd78) from /home/cpan/bin/perl-blead/lib/site_perl/5.35.4/Test2/Event/V2.pm line 42.
leaked ARRAY(0x8c6acf3fd60) from /home/cpan/bin/perl-blead/lib/site_perl/5.35.4/Test2/Event/V2.pm line 42.
leaked SCALAR(0x8c6acf3fd48) from /home/cpan/bin/perl-blead/lib/site_perl/5.35.4/Test2/Event/V2.pm line 42.
leaked SCALAR(0x8c6acf3fd30) from /home/cpan/bin/perl-blead/lib/site_perl/5.35.4/Test2/Event/V2.pm line 42.
leaked SCALAR(0x8c6acf3fd18) from /home/cpan/bin/perl-blead/lib/site_perl/5.35.4/Test2/Event/V2.pm line 42.
leaked SCALAR(0x8c6acf3fd00) from /home/cpan/bin/perl-blead/lib/site_perl/5.35.4/Test2/Event/V2.pm line 42.
leaked SCALAR(0x8c6acf3fce8) from /home/cpan/bin/perl-blead/lib/site_perl/5.35.4/Test2/Event/V2.pm line 42.
leaked SCALAR(0x8c6acf3fcd0) from /home/cpan/bin/perl-blead/lib/site_perl/5.35.4/Test2/Event/V2.pm line 42.
leaked SCALAR(0x8c6acf3fcb8) from /home/cpan/bin/perl-blead/lib/site_perl/5.35.4/Test2/Event/V2.pm line 42.
leaked SCALAR(0x8c6acf3fca0) from /home/cpan/bin/perl-blead/lib/site_perl/5.35.4/Test2/Event/V2.pm line 42.
leaked SCALAR(0x8c6acf3fc88) from /home/cpan/bin/perl-blead/lib/site_perl/5.35.4/Test2/Event/V2.pm line 42.
leaked SCALAR(0x8c6acf3fc70) from /home/cpan/bin/perl-blead/lib/site_perl/5.35.4/Test2/Event/V2.pm line 42.
leaked SCALAR(0x8c6acf3fc58) from /home/cpan/bin/perl-blead/lib/site_perl/5.35.4/Test2/Event/V2.pm line 42.
leaked ARRAY(0x8c6acf3fc40) from /home/cpan/bin/perl-blead/lib/site_perl/5.35.4/Test2/Event/V2.pm line 42.
leaked REF(0x8c6acf3fbf8) from /home/cpan/bin/perl-blead/lib/site_perl/5.35.4/Test2/Util/HashBase.pm line 153.
leaked GLOB(0x8c6acf3fb98) from /home/cpan/bin/perl-blead/lib/site_perl/5.35.4/Test/Builder.pm line 64.
leaked GLOB(0x8c6acf5a118) from /home/cpan/bin/perl-blead/lib/site_perl/5.35.4/Test2/API/Context.pm line 232.
leaked GLOB(0x8c6acf5a028) from /home/cpan/bin/perl-blead/lib/site_perl/5.35.4/Test2/Formatter/TAP.pm line 195.
t/05_script.t ...... ok
t/06_threads.t ..... skipped: require threads
t/07_eval.t ........ ok
t/08_leaktrace.t ... ok
t/09_info_more.t ... ok
t/10_bad_use.t ..... ok
t/11_logfp.t ....... ok
t/12_padstale.t .... ok
t/13_do.t .......... ok
All tests successful.
Files=14, Tests=126, 3 wallclock secs ( 0.11 usr 0.09 sys + 2.44 cusr 0.58 csys = 3.22 CPU)
Result: PASS
------------------------------
PREREQUISITES
------------------------------
Prerequisite modules loaded:
requires:
Module Need Have
------------------- ---- --------
Exporter 5.57 5.77
build_requires:
Module Need Have
------------------- ---- --------
ExtUtils::MakeMaker 0 7.62
Test::More 0.62 1.302186
configure_requires:
Module Need Have
------------------- ---- --------
ExtUtils::MakeMaker 0 7.62
------------------------------
ENVIRONMENT AND OTHER CONTEXT
------------------------------
Environment variables:
AUTOMATED_TESTING = 1
DATE_MANIP_TEST_DM5 = 1
LC_ALL = C
NONINTERACTIVE_TESTING = 1
PATH = /home/cpan/bin/perl-blead/bin:/home/cpan/bin:/home/cpan/bin:/bin:/sbin:/usr/bin:/usr/sbin:/usr/X11R6/bin:/usr/local/bin:/usr/local/sbin:/usr/games
PERL5LIB =
PERL5OPT =
PERL5_CPANPLUS_IS_RUNNING = 63139
PERL5_CPAN_IS_RUNNING = 63139
PERL_MM_USE_DEFAULT = 1
PERL_USE_UNSAFE_INC = 1
PERL_VERSION = blead
SHELL = /usr/local/bin/bash
TERM = screen
TMPDIR = /home/cpan/tmp
Perl special variables (and OS-specific diagnostics, for MSWin32):
$^X = /home/cpan/bin/perl-blead/bin/perl5.35.4
$UID/$EUID = 1001 / 1001
$GID = 1001 1001
$EGID = 1001 1001
Perl module toolchain versions installed:
Module Have
------------------- --------
CPAN 2.28
CPAN::Meta 2.150010
Cwd 3.82
ExtUtils::CBuilder 0.280236
ExtUtils::Command 7.62
ExtUtils::Install 2.20
ExtUtils::MakeMaker 7.62
ExtUtils::Manifest 1.73
ExtUtils::ParseXS 3.43
File::Spec 3.81
JSON 4.03
JSON::PP 4.06
Module::Build 0.4231
Module::Signature 0.87
Parse::CPAN::Meta 2.150010
Test::Harness 3.43
Test::More 1.302186
YAML 1.30
YAML::Syck 1.34
version 0.9929
--
Summary of my perl5 (revision 5 version 35 subversion 4) configuration:
Commit id: 63a8776eba7e6662181265643188f7889588ba11
Platform:
osname=openbsd
osvers=6.9
archname=OpenBSD.amd64-openbsd
uname='openbsd cjg-openbsd6 6.9 generic#5 amd64 '
config_args='-des -Dprefix=~/bin/perl-blead -Dscriptdir=~/bin/perl-blead/bin -Dusedevel -Duse64bitall'
hint=recommended
useposix=true
d_sigaction=define
useithreads=undef
usemultiplicity=undef
use64bitint=define
use64bitall=define
uselongdouble=undef
usemymalloc=n
default_inc_excludes_dot=define
Compiler:
cc='cc'
ccflags ='-fno-strict-aliasing -pipe -fstack-protector-strong -I/usr/local/include'
optimize='-O2'
cppflags='-fno-strict-aliasing -pipe -fstack-protector-strong -I/usr/local/include'
ccversion=''
gccversion='OpenBSD Clang 10.0.1 '
gccosandvers=''
intsize=4
longsize=8
ptrsize=8
doublesize=8
byteorder=12345678
doublekind=3
d_longlong=define
longlongsize=8
d_longdbl=define
longdblsize=16
longdblkind=3
ivtype='long'
ivsize=8
nvtype='double'
nvsize=8
Off_t='off_t'
lseeksize=8
alignbytes=8
prototype=define
Linker and Libraries:
ld='cc'
ldflags ='-Wl,-E -fstack-protector-strong -L/usr/local/lib'
libpth=/usr/lib /usr/local/lib
libs=-lpthread -lm -lutil -lc
perllibs=-lpthread -lm -lutil -lc
libc=/usr/lib/libc.so.96.0
so=so
useshrplib=false
libperl=libperl.a
gnulibc_version=''
Dynamic Linking:
dlsrc=dl_dlopen.xs
dlext=so
d_dlsymun=undef
ccdlflags=' '
cccdlflags='-DPIC -fPIC '
lddlflags='-shared -fPIC -L/usr/local/lib -fstack-protector-strong'
Characteristics of this binary (from libperl):
Compile-time options:
HAS_TIMES
PERLIO_LAYERS
PERL_COPY_ON_WRITE
PERL_DONT_CREATE_GVSV
PERL_MALLOC_WRAP
PERL_OP_PARENT
PERL_PRESERVE_IVUV
PERL_USE_DEVEL
USE_64_BIT_ALL
USE_64_BIT_INT
USE_LARGE_FILES
USE_LOCALE
USE_LOCALE_COLLATE
USE_LOCALE_CTYPE
USE_LOCALE_NUMERIC
USE_LOCALE_TIME
USE_PERLIO
USE_PERL_ATOF
Built under openbsd
Compiled at Sep 3 2021 02:20:14
%ENV:
PERL5LIB=""
PERL5OPT=""
PERL5_CPANPLUS_IS_RUNNING="63139"
PERL5_CPAN_IS_RUNNING="63139"
PERL_MM_USE_DEFAULT="1"
PERL_USE_UNSAFE_INC="1"
PERL_VERSION="blead"
@INC:
/home/cpan/bin/perl-blead/lib/site_perl/5.35.4/OpenBSD.amd64-openbsd
/home/cpan/bin/perl-blead/lib/site_perl/5.35.4
/home/cpan/bin/perl-blead/lib/5.35.4/OpenBSD.amd64-openbsd
/home/cpan/bin/perl-blead/lib/5.35.4
.