Report for Module-Build-Deprecated-0.4209

Back
From: metabase:user:dc1c8589-6bf4-1014-abca-562cf06b08ef
Subject: PASS Module-Build-Deprecated-0.4209 v5.20.0 GNU/Linux
Date: 2014-08-17T01:49:50Z

This distribution has been tested as part of the CPAN Testers
project, supporting the Perl programming language.  See
http://wiki.cpantesters.org/ for more information or email
questions to cpan-testers-discuss@perl.org


--
Dear Leon Timmermans,

This is a computer-generated report for Module-Build-Deprecated-0.4209
on perl 5.20.0, created by CPAN-Reporter-1.2011.

Thank you for uploading your work to CPAN.  Congratulations!
All tests were successful.

Sections of this report:

    * Tester comments
    * Program output
    * Prerequisites
    * Environment and other context

------------------------------
TESTER COMMENTS
------------------------------

Additional comments from tester:

none provided

------------------------------
PROGRAM OUTPUT
------------------------------

Output from './Build test':

t/00-compile.t ............ ok
t/release-pod-coverage.t .. skipped: these tests are for release candidate testing
t/release-pod-syntax.t .... skipped: these tests are for release candidate testing
All tests successful.
Files=3, Tests=4,  1 wallclock secs ( 0.01 usr  0.03 sys +  0.21 cusr  0.04 csys =  0.29 CPU)
Result: PASS

------------------------------
PREREQUISITES
------------------------------

Prerequisite modules loaded:

requires:

    Module           Need   Have    
    ---------------- ------ --------
    base             0      2.22    
    CPAN::Meta::YAML 0.002  0.012   
    Module::Metadata 0      1.000024
    parent           0      0.228   
    perl             5.006  5.020000
    strict           0      1.08    
    version          0.87   0.9908  
    warnings         0      1.23    

build_requires:

    Module           Need   Have    
    ---------------- ------ --------
    File::Spec       0      3.47    
    IO::Handle       0      1.35    
    IPC::Open3       0      1.16    
    Module::Build    0.3601 0.4207  
    perl             5.006  5.020000
    Test::More       0      1.001003

configure_requires:

    Module           Need   Have    
    ---------------- ------ --------
    Module::Build    0.3601 0.4207  


------------------------------
ENVIRONMENT AND OTHER CONTEXT
------------------------------

Environment variables:

    LANG = ko_KR.UTF-8
    PATH = /home/aero/perl5/perlbrew/bin:/home/aero/perl5/perlbrew/perls/perl-5.20/bin:/home/aero/.goenv/shims:/home/aero/.goenv/bin:/home/aero/.rbenv/shims:/home/aero/.rbenv/bin:/home/aero/.nvm/v0.10.28/bin:/home/aero/.pythonbrew/bin:/home/aero/.pythonbrew/pythons/Python-2.7.4/bin:/usr/kerberos/bin:/usr/local/bin:/bin:/usr/bin:/home/aero/bin
    PERL5LIB = 
    PERL5OPT = 
    PERL5_CPANPLUS_IS_RUNNING = 22551
    PERL5_CPAN_IS_RUNNING = 22551
    PERLBREW_BASHRC_VERSION = 0.69
    PERLBREW_HOME = /home/aero/.perlbrew
    PERLBREW_MANPATH = /home/aero/perl5/perlbrew/perls/perl-5.20/man
    PERLBREW_PATH = /home/aero/perl5/perlbrew/bin:/home/aero/perl5/perlbrew/perls/perl-5.20/bin
    PERLBREW_PERL = perl-5.20
    PERLBREW_ROOT = /home/aero/perl5/perlbrew
    PERLBREW_VERSION = 0.69
    SHELL = /bin/bash
    TERM = xterm

Perl special variables (and OS-specific diagnostics, for MSWin32):

    $^X = /home/aero/perl5/perlbrew/perls/perl-5.20/bin/perl
    $UID/$EUID = 501 / 501
    $GID = 501 10 501
    $EGID = 501 10 501

Perl module toolchain versions installed:

    Module              Have    
    ------------------- --------
    CPAN                2.05    
    CPAN::Meta          2.142060
    Cwd                 3.47    
    ExtUtils::CBuilder  0.280216
    ExtUtils::Command   1.18    
    ExtUtils::Install   1.68    
    ExtUtils::MakeMaker 6.98    
    ExtUtils::Manifest  1.65    
    ExtUtils::ParseXS   3.24    
    File::Spec          3.47    
    JSON                2.90    
    JSON::PP            2.27203 
    Module::Build       0.4207  
    Module::Signature   0.73    
    Parse::CPAN::Meta   1.4414  
    Test::Harness       3.33    
    Test::More          1.001003
    YAML                0.97    
    YAML::Syck          1.27    
    version             0.9908  


--

Summary of my perl5 (revision 5 version 20 subversion 0) configuration:
   
  Platform:
    osname=linux, osvers=2.6.18-371.6.1.el5xen, archname=x86_64-linux-thread-multi
    uname='linux gis 2.6.18-371.6.1.el5xen #1 smp wed mar 12 20:49:09 edt 2014 x86_64 x86_64 x86_64 gnulinux '
    config_args='-de -Dprefix=/home/aero/perl5/perlbrew/perls/perl-5.20 -Dusethreads -Aeval:scriptdir=/home/aero/perl5/perlbrew/perls/perl-5.20/bin'
    hint=recommended, useposix=true, d_sigaction=define
    useithreads=define, usemultiplicity=define
    use64bitint=define, use64bitall=define, uselongdouble=undef
    usemymalloc=n, bincompat5005=undef
  Compiler:
    cc='cc', ccflags ='-D_REENTRANT -D_GNU_SOURCE -fno-strict-aliasing -pipe -fstack-protector -I/usr/local/include -D_LARGEFILE_SOURCE -D_FILE_OFFSET_BITS=64',
    optimize='-O2',
    cppflags='-D_REENTRANT -D_GNU_SOURCE -fno-strict-aliasing -pipe -fstack-protector -I/usr/local/include'
    ccversion='', gccversion='4.1.2 20080704 (Red Hat 4.1.2-54)', gccosandvers=''
    intsize=4, longsize=8, ptrsize=8, doublesize=8, byteorder=12345678
    d_longlong=define, longlongsize=8, d_longdbl=define, longdblsize=16
    ivtype='long', ivsize=8, nvtype='double', nvsize=8, Off_t='off_t', lseeksize=8
    alignbytes=8, prototype=define
  Linker and Libraries:
    ld='cc', ldflags =' -fstack-protector -L/usr/local/lib'
    libpth=/usr/local/lib /usr/lib /lib /lib64 /usr/lib64 /usr/local/lib64
    libs=-lnsl -ldb -ldl -lm -lcrypt -lutil -lpthread -lc
    perllibs=-lnsl -ldl -lm -lcrypt -lutil -lpthread -lc
    libc=/lib/libc-2.5.so, so=so, useshrplib=false, libperl=libperl.a
    gnulibc_version='2.5'
  Dynamic Linking:
    dlsrc=dl_dlopen.xs, dlext=so, d_dlsymun=undef, ccdlflags='-Wl,-E'
    cccdlflags='-fPIC', lddlflags='-shared -O2 -L/usr/local/lib -fstack-protector'


Characteristics of this binary (from libperl): 
  Compile-time options: HAS_TIMES MULTIPLICITY PERLIO_LAYERS
                        PERL_DONT_CREATE_GVSV
                        PERL_HASH_FUNC_ONE_AT_A_TIME_HARD
                        PERL_IMPLICIT_CONTEXT PERL_MALLOC_WRAP
                        PERL_NEW_COPY_ON_WRITE PERL_PRESERVE_IVUV
                        USE_64_BIT_ALL USE_64_BIT_INT USE_ITHREADS
                        USE_LARGE_FILES USE_LOCALE USE_LOCALE_COLLATE
                        USE_LOCALE_CTYPE USE_LOCALE_NUMERIC USE_PERLIO
                        USE_PERL_ATOF USE_REENTRANT_API
  Built under linux
  Compiled at May 27 2014 10:49:52
  %ENV:
    PERL5LIB=""
    PERL5OPT=""
    PERL5_CPANPLUS_IS_RUNNING="22551"
    PERL5_CPAN_IS_RUNNING="22551"
    PERLBREW_BASHRC_VERSION="0.69"
    PERLBREW_HOME="/home/aero/.perlbrew"
    PERLBREW_MANPATH="/home/aero/perl5/perlbrew/perls/perl-5.20/man"
    PERLBREW_PATH="/home/aero/perl5/perlbrew/bin:/home/aero/perl5/perlbrew/perls/perl-5.20/bin"
    PERLBREW_PERL="perl-5.20"
    PERLBREW_ROOT="/home/aero/perl5/perlbrew"
    PERLBREW_VERSION="0.69"
  @INC:
    /home/aero/perl5/perlbrew/perls/perl-5.20/lib/site_perl/5.20.0/x86_64-linux-thread-multi
    /home/aero/perl5/perlbrew/perls/perl-5.20/lib/site_perl/5.20.0
    /home/aero/perl5/perlbrew/perls/perl-5.20/lib/5.20.0/x86_64-linux-thread-multi
    /home/aero/perl5/perlbrew/perls/perl-5.20/lib/5.20.0
    .