Time-Duration-Parse-AsHash v0.10.6 Perl 5 v5.30.1 amd64-netbsd
- Status
- Pass
- From
- Nigel Horne
- Dist
-
Time-Duration-Parse-AsHash v0.10.6
- Platform
- Perl 5 v5.30.1 amd64-netbsd
- Date
- 2020-06-19 10:00:59
- ID
- c6a27178-b213-11ea-8ea9-96d8912e08a8
This distribution has been tested as part of the CPAN Testers
project, supporting the Perl programming language. See
http://wiki.cpantesters.org/ for more information or email
questions to cpan-testers-discuss@perl.org
--
Dear perlancar,
This is a computer-generated report for Time-Duration-Parse-AsHash-0.10.6
on perl 5.30.1, created by CPAN-Reporter-1.2018.
Thank you for uploading your work to CPAN. Congratulations!
All tests were successful.
Sections of this report:
* Tester comments
* Program output
* Prerequisites
* Environment and other context
------------------------------
TESTER COMMENTS
------------------------------
Additional comments from tester:
this report is from an automated smoke testing program
and was not reviewed by a human for accuracy
------------------------------
PROGRAM OUTPUT
------------------------------
Output from '/usr/bin/make test':
PERL_DL_NONLAZY=1 "/home/njh/perl5/perlbrew/perls/perl-5.30.1/bin/perl" "-MExtUtils::Command::MM" "-MTest::Harness" "-e" "undef *Test::Harness::Switches; test_harness(0, 'blib/lib', 'blib/arch')" t/*.t
t/00-compile.t ........... ok
t/01_parse.t ............. ok
t/author-pod-coverage.t .. skipped: these tests are for testing by the author
t/author-pod-syntax.t .... skipped: these tests are for testing by the author
All tests successful.
Files=4, Tests=49, 1 wallclock secs ( 0.05 usr 0.00 sys + 0.21 cusr 0.07 csys = 0.33 CPU)
Result: PASS
------------------------------
PREREQUISITES
------------------------------
Prerequisite modules loaded:
requires:
Module Need Have
------------------- -------- --------
Exporter 0 5.73
perl 5.010001 5.030001
strict 0 1.11
warnings 0 1.44
build_requires:
Module Need Have
------------------- -------- --------
ExtUtils::MakeMaker 0 7.44
File::Spec 0 3.78
IO::Handle 0 1.40
IPC::Open3 0 1.20
Test::More 0.98 1.302175
configure_requires:
Module Need Have
------------------- -------- --------
ExtUtils::MakeMaker 0 7.44
------------------------------
ENVIRONMENT AND OTHER CONTEXT
------------------------------
Environment variables:
AUTOMATED_TESTING = 1
NONINTERACTIVE_TESTING = 1
PATH = /home/njh/perl5/perlbrew/bin:/home/njh/perl5/perlbrew/perls/perl-5.30.1/bin:/home/njh/src/njh/smoker/bin:/usr/bin:/bin:/usr/pkg/bin:/usr/local/bin
PERL5LIB = /home/njh/.cpan/build/Nodejs-Util-0.012-3/blib/arch:/home/njh/.cpan/build/Nodejs-Util-0.012-3/blib/lib:/home/njh/.cpan/build/Log-ger-0.037-0/blib/arch:/home/njh/.cpan/build/Log-ger-0.037-0/blib/lib:/home/njh/.cpan/build/IPC-System-Options-0.337-3/blib/arch:/home/njh/.cpan/build/IPC-System-Options-0.337-3/blib/lib:/home/njh/.cpan/build/String-ShellQuote-1.04-3/blib/arch:/home/njh/.cpan/build/String-ShellQuote-1.04-3/blib/lib:/home/njh/.cpan/build/Proc-ChildError-0.04-3/blib/arch:/home/njh/.cpan/build/Proc-ChildError-0.04-3/blib/lib:/home/njh/.cpan/build/Data-Dmp-0.240-3/blib/arch:/home/njh/.cpan/build/Data-Dmp-0.240-3/blib/lib:/home/njh/.cpan/build/Regexp-Stringify-0.06-3/blib/arch:/home/njh/.cpan/build/Regexp-Stringify-0.06-3/blib/lib:/home/njh/.cpan/build/PINE64-MCP300x-0.91-3/blib/arch:/home/njh/.cpan/build/PINE64-MCP300x-0.91-3/blib/lib:/home/njh/.cpan/build/PINE64-GPIO-0.92-3/blib/arch:/home/njh/.cpan/build/PINE64-GPIO-0.92-3/blib/lib
PERL5OPT =
PERL5_CPANPLUS_IS_RUNNING = 4444
PERL5_CPAN_IS_RUNNING = 4444
PERL5_CPAN_IS_RUNNING_IN_RECURSION = 26883,4444
PERLBREW_HOME = /home/njh/.perlbrew
PERLBREW_MANPATH = /home/njh/perl5/perlbrew/perls/perl-5.30.1/man
PERLBREW_PATH = /home/njh/perl5/perlbrew/bin:/home/njh/perl5/perlbrew/perls/perl-5.30.1/bin
PERLBREW_PERL = perl-5.30.1
PERLBREW_ROOT = /home/njh/perl5/perlbrew
PERLBREW_SHELLRC_VERSION = 0.88
PERLBREW_VERSION = 0.88
PERL_MM_USE_DEFAULT = 1
PERL_USE_UNSAFE_INC = 1
SHELL = /usr/bin/bash
TMPDIR = /tmp/testwrapper.14119
Perl special variables (and OS-specific diagnostics, for MSWin32):
$^X = /home/njh/perl5/perlbrew/perls/perl-5.30.1/bin/perl
$UID/$EUID = 1000 / 1000
$GID = 100 100 0
$EGID = 100 100 0
Perl module toolchain versions installed:
Module Have
------------------- --------
CPAN 2.28
CPAN::Meta 2.150010
Cwd 3.78
ExtUtils::CBuilder 0.280234
ExtUtils::Command 7.44
ExtUtils::Install 2.14
ExtUtils::MakeMaker 7.44
ExtUtils::Manifest 1.72
ExtUtils::ParseXS 3.40
File::Spec 3.78
JSON 4.02
JSON::PP 4.04
Module::Build 0.4229
Module::Signature n/a
Parse::CPAN::Meta 2.150010
Test::Harness 3.42
Test::More 1.302175
YAML 1.30
YAML::Syck 1.32
version 0.9924
--
Summary of my perl5 (revision 5 version 30 subversion 1) configuration:
Platform:
osname=netbsd
osvers=7.1.2
archname=amd64-netbsd
uname='netbsd vultr2.bandsman.co.uk 7.1.2 netbsd 7.1.2 (generic.201803151611z) amd64 '
config_args='-de -Dprefix=/home/njh/perl5/perlbrew/perls/perl-5.30.1 -Aeval:scriptdir=/home/njh/perl5/perlbrew/perls/perl-5.30.1/bin'
hint=recommended
useposix=true
d_sigaction=define
useithreads=undef
usemultiplicity=undef
use64bitint=define
use64bitall=define
uselongdouble=undef
usemymalloc=n
default_inc_excludes_dot=define
bincompat5005=undef
Compiler:
cc='cc'
ccflags ='-fwrapv -fno-strict-aliasing -pipe -fstack-protector -I/usr/pkg/include -D_FORTIFY_SOURCE=2'
optimize='-O'
cppflags='-fwrapv -fno-strict-aliasing -pipe -fstack-protector -I/usr/pkg/include'
ccversion=''
gccversion='4.8.5'
gccosandvers=''
intsize=4
longsize=8
ptrsize=8
doublesize=8
byteorder=12345678
doublekind=3
d_longlong=define
longlongsize=8
d_longdbl=define
longdblsize=16
longdblkind=3
ivtype='long'
ivsize=8
nvtype='double'
nvsize=8
Off_t='off_t'
lseeksize=8
alignbytes=8
prototype=define
Linker and Libraries:
ld='cc'
ldflags =' -Wl,-rpath,/usr/pkg/lib -Wl,-rpath,/usr/local/lib -fstack-protector -L/usr/pkg/lib'
libpth=/usr/include/gcc-4.8 /usr/lib /usr/pkg/lib /lib
libs=-lpthread -lm -lcrypt -lutil -lc -lposix
perllibs=-lpthread -lm -lcrypt -lutil -lc -lposix
libc=/lib/libc.so
so=so
useshrplib=false
libperl=libperl.a
gnulibc_version=''
Dynamic Linking:
dlsrc=dl_dlopen.xs
dlext=so
d_dlsymun=undef
ccdlflags='-Wl,-E '
cccdlflags='-DPIC -fPIC '
lddlflags='-shared -L/usr/pkg/lib -fstack-protector'
Characteristics of this binary (from libperl):
Compile-time options:
HAS_TIMES
PERLIO_LAYERS
PERL_COPY_ON_WRITE
PERL_DONT_CREATE_GVSV
PERL_MALLOC_WRAP
PERL_OP_PARENT
PERL_PRESERVE_IVUV
USE_64_BIT_ALL
USE_64_BIT_INT
USE_LARGE_FILES
USE_LOCALE
USE_LOCALE_COLLATE
USE_LOCALE_CTYPE
USE_LOCALE_NUMERIC
USE_LOCALE_TIME
USE_PERLIO
USE_PERL_ATOF
Locally applied patches:
Devel::PatchPerl 1.48
Built under netbsd
Compiled at Nov 10 2019 17:41:38
%ENV:
PERL5LIB="/home/njh/.cpan/build/Nodejs-Util-0.012-3/blib/arch:/home/njh/.cpan/build/Nodejs-Util-0.012-3/blib/lib:/home/njh/.cpan/build/Log-ger-0.037-0/blib/arch:/home/njh/.cpan/build/Log-ger-0.037-0/blib/lib:/home/njh/.cpan/build/IPC-System-Options-0.337-3/blib/arch:/home/njh/.cpan/build/IPC-System-Options-0.337-3/blib/lib:/home/njh/.cpan/build/String-ShellQuote-1.04-3/blib/arch:/home/njh/.cpan/build/String-ShellQuote-1.04-3/blib/lib:/home/njh/.cpan/build/Proc-ChildError-0.04-3/blib/arch:/home/njh/.cpan/build/Proc-ChildError-0.04-3/blib/lib:/home/njh/.cpan/build/Data-Dmp-0.240-3/blib/arch:/home/njh/.cpan/build/Data-Dmp-0.240-3/blib/lib:/home/njh/.cpan/build/Regexp-Stringify-0.06-3/blib/arch:/home/njh/.cpan/build/Regexp-Stringify-0.06-3/blib/lib:/home/njh/.cpan/build/PINE64-MCP300x-0.91-3/blib/arch:/home/njh/.cpan/build/PINE64-MCP300x-0.91-3/blib/lib:/home/njh/.cpan/build/PINE64-GPIO-0.92-3/blib/arch:/home/njh/.cpan/build/PINE64-GPIO-0.92-3/blib/lib"
PERL5OPT=""
PERL5_CPANPLUS_IS_RUNNING="4444"
PERL5_CPAN_IS_RUNNING="4444"
PERL5_CPAN_IS_RUNNING_IN_RECURSION="26883,4444"
PERLBREW_HOME="/home/njh/.perlbrew"
PERLBREW_MANPATH="/home/njh/perl5/perlbrew/perls/perl-5.30.1/man"
PERLBREW_PATH="/home/njh/perl5/perlbrew/bin:/home/njh/perl5/perlbrew/perls/perl-5.30.1/bin"
PERLBREW_PERL="perl-5.30.1"
PERLBREW_ROOT="/home/njh/perl5/perlbrew"
PERLBREW_SHELLRC_VERSION="0.88"
PERLBREW_VERSION="0.88"
PERL_MM_USE_DEFAULT="1"
PERL_USE_UNSAFE_INC="1"
@INC:
/home/njh/.cpan/build/Nodejs-Util-0.012-3/blib/arch
/home/njh/.cpan/build/Nodejs-Util-0.012-3/blib/lib
/home/njh/.cpan/build/Log-ger-0.037-0/blib/arch
/home/njh/.cpan/build/Log-ger-0.037-0/blib/lib
/home/njh/.cpan/build/IPC-System-Options-0.337-3/blib/arch
/home/njh/.cpan/build/IPC-System-Options-0.337-3/blib/lib
/home/njh/.cpan/build/String-ShellQuote-1.04-3/blib/arch
/home/njh/.cpan/build/String-ShellQuote-1.04-3/blib/lib
/home/njh/.cpan/build/Proc-ChildError-0.04-3/blib/arch
/home/njh/.cpan/build/Proc-ChildError-0.04-3/blib/lib
/home/njh/.cpan/build/Data-Dmp-0.240-3/blib/arch
/home/njh/.cpan/build/Data-Dmp-0.240-3/blib/lib
/home/njh/.cpan/build/Regexp-Stringify-0.06-3/blib/arch
/home/njh/.cpan/build/Regexp-Stringify-0.06-3/blib/lib
/home/njh/.cpan/build/PINE64-MCP300x-0.91-3/blib/arch
/home/njh/.cpan/build/PINE64-MCP300x-0.91-3/blib/lib
/home/njh/.cpan/build/PINE64-GPIO-0.92-3/blib/arch
/home/njh/.cpan/build/PINE64-GPIO-0.92-3/blib/lib
/home/njh/perl5/perlbrew/perls/perl-5.30.1/lib/site_perl/5.30.1/amd64-netbsd
/home/njh/perl5/perlbrew/perls/perl-5.30.1/lib/site_perl/5.30.1
/home/njh/perl5/perlbrew/perls/perl-5.30.1/lib/5.30.1/amd64-netbsd
/home/njh/perl5/perlbrew/perls/perl-5.30.1/lib/5.30.1
.