Back
From: metabase:user:9c36dc84-a30f-11e0-a9fc-0a18abbd4f2f
Subject: PASS Test-LWP-Recorder-0.1.1 v5.24.0 GNU/Linux
Date: 2016-06-18T02:45:53Z
This distribution has been tested as part of the CPAN Testers
project, supporting the Perl programming language. See
http://wiki.cpantesters.org/ for more information or email
questions to cpan-testers-discuss@perl.org
--
Dear Edward J. Allen III,
This is a computer-generated report for Test-LWP-Recorder-0.1.1
on perl 5.24.0, created by CPAN-Reporter-1.2017.
Thank you for uploading your work to CPAN. Congratulations!
All tests were successful.
Sections of this report:
* Tester comments
* Program output
* Prerequisites
* Environment and other context
------------------------------
TESTER COMMENTS
------------------------------
Additional comments from tester:
this report is from an automated smoke testing program
and was not reviewed by a human for accuracy
------------------------------
PROGRAM OUTPUT
------------------------------
Output from './Build test':
t/00-compile.t ................ ok
#
#
# perl: v5.24.0 (wanted 5.006) on linux from /home/alceu/perl5/perlbrew/perls/perl-5.24.0/bin/perl
#
# Carp => 1.40 (want any version)
# Digest::MD5 => 2.55 (want any version)
# File::Find => 1.34 (want any version)
# File::Slurp => 9999.19 (want any version)
# File::Spec => 3.63 (want any version)
# File::Temp => 0.2304 (want any version)
# HTTP::Response => 6.11 (want any version)
# HTTP::Status => 6.11 (want any version)
# LWP::UserAgent => 6.15 (want any version)
# LWPx::Record::DataSection => 0.01 (want any version)
# List::Util => 1.45 (want any version)
# Module::Build => 0.4218 (want 0.3601)
# Pod::Coverage::TrustPod => 0.100003 (want any version)
# Test::More => 1.302022 (want 0.88)
# Test::Pod => 1.51 (want 1.41)
# Test::Pod::Coverage => 1.10 (want 1.08)
# base => 2.23 (want any version)
# lib => 0.63 (want any version)
# strict => 1.11 (want any version)
# warnings => 1.36 (want any version)
#
# Thanks for using my code. I hope it works for you.
# If not, please try and include this output in the bug report.
# That will help me reproduce the issue and solve you problem.
#
t/000-report-versions-tiny.t .. ok
t/author-critic.t ............. skipped: these tests are for testing by the author
t/author-pod-spell.t .......... skipped: these tests are for testing by the author
t/lwpxtest.t .................. ok
t/lwpxtest_02.t ............... ok
t/release-pod-coverage.t ...... skipped: these tests are for release candidate testing
t/release-pod-linkcheck.t ..... skipped: these tests are for release candidate testing
t/release-pod-syntax.t ........ skipped: these tests are for release candidate testing
All tests successful.
Files=9, Tests=14, 1 wallclock secs ( 0.04 usr 0.02 sys + 0.71 cusr 0.22 csys = 0.99 CPU)
Result: PASS
------------------------------
PREREQUISITES
------------------------------
Prerequisite modules loaded:
requires:
Module Need Have
------------------------- ------ --------
base 0 2.23
Carp 0 1.40
Digest::MD5 0 2.55
File::Slurp 0 9999.19
File::Spec 0 3.63
HTTP::Response 0 6.11
HTTP::Status 0 6.11
List::Util 0 1.45
LWP::UserAgent 0 6.15
perl 5.006 5.024000
strict 0 1.11
warnings 0 1.36
build_requires:
Module Need Have
------------------------- ------ --------
File::Find 0 1.34
File::Temp 0 0.2304
lib 0 0.63
LWPx::Record::DataSection 0 0.01
Module::Build 0.3601 0.4218
Test::More 0.88 1.302022
configure_requires:
Module Need Have
------------------------- ------ --------
Module::Build 0.3601 0.4218
------------------------------
ENVIRONMENT AND OTHER CONTEXT
------------------------------
Environment variables:
AUTOMATED_TESTING = 1
PATH = /home/alceu/perl5/perlbrew/bin:/home/alceu/perl5/perlbrew/perls/perl-5.24.0/bin:/usr/local/sbin:/usr/local/bin:/usr/sbin:/usr/bin:/sbin:/bin
PERL5LIB = /home/alceu/.cpan/build/LWPx-Record-DataSection-0.01-XYG3bZ/blib/arch:/home/alceu/.cpan/build/LWPx-Record-DataSection-0.01-XYG3bZ/blib/lib:/home/alceu/.cpan/build/CGI-Simple-1.115-_7oY5A/blib/arch:/home/alceu/.cpan/build/CGI-Simple-1.115-_7oY5A/blib/lib:/home/alceu/.cpan/build/Data-Section-Simple-0.07-0JsGC_/blib/arch:/home/alceu/.cpan/build/Data-Section-Simple-0.07-0JsGC_/blib/lib
PERL5OPT =
PERL5_CPANPLUS_IS_RUNNING = 17802
PERL5_CPAN_IS_RUNNING = 17802
PERL5_CPAN_IS_RUNNING_IN_RECURSION = 14,17802
PERLBREW_BASHRC_VERSION = 0.75
PERLBREW_HOME = /home/alceu/.perlbrew
PERLBREW_MANPATH = /home/alceu/perl5/perlbrew/perls/perl-5.24.0/man
PERLBREW_PATH = /home/alceu/perl5/perlbrew/bin:/home/alceu/perl5/perlbrew/perls/perl-5.24.0/bin
PERLBREW_PERL = perl-5.24.0
PERLBREW_ROOT = /home/alceu/perl5/perlbrew
PERLBREW_VERSION = 0.75
PERL_CR_SMOKER_CURRENT = Geo-Address-Formatter-1.57
PERL_EXTUTILS_AUTOINSTALL = --defaultdeps
PERL_MM_USE_DEFAULT = 1
TERM = xterm
Perl special variables (and OS-specific diagnostics, for MSWin32):
$^X = /home/alceu/perl5/perlbrew/perls/perl-5.24.0/bin/perl
$UID/$EUID = 1000 / 1000
$GID = 1000
$EGID = 1000
Perl module toolchain versions installed:
Module Have
------------------- --------
CPAN 2.11
CPAN::Meta 2.150005
Cwd 3.63
ExtUtils::CBuilder 0.280225
ExtUtils::Command 7.18
ExtUtils::Install 2.04
ExtUtils::MakeMaker 7.18
ExtUtils::Manifest 1.70
ExtUtils::ParseXS 3.31
File::Spec 3.63
JSON 2.90
JSON::PP 2.27400
Module::Build 0.4218
Module::Signature n/a
Parse::CPAN::Meta 1.4417
Test::Harness 3.36
Test::More 1.302022
YAML 1.15
YAML::Syck 1.29
version 0.9917
--
Summary of my perl5 (revision 5 version 24 subversion 0) configuration:
Platform:
osname=linux, osvers=3.13.0-86-generic, archname=x86_64-linux
uname='linux yggdrasil 3.13.0-86-generic #130-ubuntu smp mon apr 18 18:27:15 utc 2016 x86_64 x86_64 x86_64 gnulinux '
config_args='-de -Dprefix=/home/alceu/perl5/perlbrew/perls/perl-5.24.0 -Aeval:scriptdir=/home/alceu/perl5/perlbrew/perls/perl-5.24.0/bin'
hint=recommended, useposix=true, d_sigaction=define
useithreads=undef, usemultiplicity=undef
use64bitint=define, use64bitall=define, uselongdouble=undef
usemymalloc=n, bincompat5005=undef
Compiler:
cc='cc', ccflags ='-fwrapv -fno-strict-aliasing -pipe -fstack-protector -I/usr/local/include -D_LARGEFILE_SOURCE -D_FILE_OFFSET_BITS=64',
optimize='-O2',
cppflags='-fwrapv -fno-strict-aliasing -pipe -fstack-protector -I/usr/local/include'
ccversion='', gccversion='4.8.4', gccosandvers=''
intsize=4, longsize=8, ptrsize=8, doublesize=8, byteorder=12345678, doublekind=3
d_longlong=define, longlongsize=8, d_longdbl=define, longdblsize=16, longdblkind=3
ivtype='long', ivsize=8, nvtype='double', nvsize=8, Off_t='off_t', lseeksize=8
alignbytes=8, prototype=define
Linker and Libraries:
ld='cc', ldflags =' -fstack-protector -L/usr/local/lib'
libpth=/usr/local/lib /usr/lib/gcc/x86_64-linux-gnu/4.8/include-fixed /usr/include/x86_64-linux-gnu /usr/lib /lib/x86_64-linux-gnu /lib/../lib /usr/lib/x86_64-linux-gnu /usr/lib/../lib /lib
libs=-lpthread -lnsl -ldl -lm -lcrypt -lutil -lc
perllibs=-lpthread -lnsl -ldl -lm -lcrypt -lutil -lc
libc=libc-2.19.so, so=so, useshrplib=false, libperl=libperl.a
gnulibc_version='2.19'
Dynamic Linking:
dlsrc=dl_dlopen.xs, dlext=so, d_dlsymun=undef, ccdlflags='-Wl,-E'
cccdlflags='-fPIC', lddlflags='-shared -O2 -L/usr/local/lib -fstack-protector'
Characteristics of this binary (from libperl):
Compile-time options: HAS_TIMES PERLIO_LAYERS PERL_COPY_ON_WRITE
PERL_DONT_CREATE_GVSV
PERL_HASH_FUNC_ONE_AT_A_TIME_HARD PERL_MALLOC_WRAP
PERL_PRESERVE_IVUV USE_64_BIT_ALL USE_64_BIT_INT
USE_LARGE_FILES USE_LOCALE USE_LOCALE_COLLATE
USE_LOCALE_CTYPE USE_LOCALE_NUMERIC USE_LOCALE_TIME
USE_PERLIO USE_PERL_ATOF
Locally applied patches:
Devel::PatchPerl 1.38
Built under linux
Compiled at May 16 2016 11:05:28
%ENV:
PERL5LIB="/home/alceu/.cpan/build/LWPx-Record-DataSection-0.01-XYG3bZ/blib/arch:/home/alceu/.cpan/build/LWPx-Record-DataSection-0.01-XYG3bZ/blib/lib:/home/alceu/.cpan/build/CGI-Simple-1.115-_7oY5A/blib/arch:/home/alceu/.cpan/build/CGI-Simple-1.115-_7oY5A/blib/lib:/home/alceu/.cpan/build/Data-Section-Simple-0.07-0JsGC_/blib/arch:/home/alceu/.cpan/build/Data-Section-Simple-0.07-0JsGC_/blib/lib"
PERL5OPT=""
PERL5_CPANPLUS_IS_RUNNING="17802"
PERL5_CPAN_IS_RUNNING="17802"
PERL5_CPAN_IS_RUNNING_IN_RECURSION="14,17802"
PERLBREW_BASHRC_VERSION="0.75"
PERLBREW_HOME="/home/alceu/.perlbrew"
PERLBREW_MANPATH="/home/alceu/perl5/perlbrew/perls/perl-5.24.0/man"
PERLBREW_PATH="/home/alceu/perl5/perlbrew/bin:/home/alceu/perl5/perlbrew/perls/perl-5.24.0/bin"
PERLBREW_PERL="perl-5.24.0"
PERLBREW_ROOT="/home/alceu/perl5/perlbrew"
PERLBREW_VERSION="0.75"
PERL_CR_SMOKER_CURRENT="Geo-Address-Formatter-1.57"
PERL_EXTUTILS_AUTOINSTALL="--defaultdeps"
PERL_MM_USE_DEFAULT="1"
@INC:
/home/alceu/.cpan/build/LWPx-Record-DataSection-0.01-XYG3bZ/blib/arch
/home/alceu/.cpan/build/LWPx-Record-DataSection-0.01-XYG3bZ/blib/lib
/home/alceu/.cpan/build/CGI-Simple-1.115-_7oY5A/blib/arch
/home/alceu/.cpan/build/CGI-Simple-1.115-_7oY5A/blib/lib
/home/alceu/.cpan/build/Data-Section-Simple-0.07-0JsGC_/blib/arch
/home/alceu/.cpan/build/Data-Section-Simple-0.07-0JsGC_/blib/lib
/home/alceu/perl5/perlbrew/perls/perl-5.24.0/lib/site_perl/5.24.0/x86_64-linux
/home/alceu/perl5/perlbrew/perls/perl-5.24.0/lib/site_perl/5.24.0
/home/alceu/perl5/perlbrew/perls/perl-5.24.0/lib/5.24.0/x86_64-linux
/home/alceu/perl5/perlbrew/perls/perl-5.24.0/lib/5.24.0
.