YAML v1.27 Perl 5 v5.28.2 RC1 x86_64-linux
- Status
- Pass
- From
- Tomasz Czepiel
- Dist
-
YAML v1.27
- Platform
- Perl 5 v5.28.2 RC1 x86_64-linux
- Date
- 2019-04-22 11:57:16
- ID
- c5f3f984-64f5-11e9-a99b-21274e302e32
This distribution has been tested as part of the CPAN Testers
project, supporting the Perl programming language. See
http://wiki.cpantesters.org/ for more information or email
questions to cpan-testers-discuss@perl.org
--
Dear TINITA,
This is a computer-generated report for YAML-1.27
on perl 5.28.2, created by App::cpanminus::reporter 0.17 (1.7044).
Thank you for uploading your work to CPAN. Congratulations!
All tests were successful.
Sections of this report:
* Tester comments
* Program output
* Prerequisites
* Environment and other context
------------------------------
TESTER COMMENTS
------------------------------
Additional comments from tester:
none provided
------------------------------
PROGRAM OUTPUT
------------------------------
Output from '':
Building and testing YAML-1.27
cp lib/YAML/Loader/Base.pm blib/lib/YAML/Loader/Base.pm
cp lib/YAML/Tag.pm blib/lib/YAML/Tag.pm
cp lib/YAML/Node.pod blib/lib/YAML/Node.pod
cp lib/YAML/Loader/Base.pod blib/lib/YAML/Loader/Base.pod
cp lib/YAML/Dumper.pod blib/lib/YAML/Dumper.pod
cp lib/YAML/Marshall.pod blib/lib/YAML/Marshall.pod
cp lib/YAML/Mo.pm blib/lib/YAML/Mo.pm
cp lib/YAML.pm blib/lib/YAML.pm
cp lib/YAML/Dumper/Base.pod blib/lib/YAML/Dumper/Base.pod
cp lib/YAML/Dumper/Base.pm blib/lib/YAML/Dumper/Base.pm
cp lib/YAML/Any.pod blib/lib/YAML/Any.pod
cp lib/YAML/Types.pm blib/lib/YAML/Types.pm
cp lib/YAML/Loader.pod blib/lib/YAML/Loader.pod
cp lib/YAML/Error.pod blib/lib/YAML/Error.pod
cp lib/YAML/Dumper.pm blib/lib/YAML/Dumper.pm
cp lib/YAML/Any.pm blib/lib/YAML/Any.pm
cp lib/YAML/Marshall.pm blib/lib/YAML/Marshall.pm
cp lib/YAML.pod blib/lib/YAML.pod
cp lib/YAML/Types.pod blib/lib/YAML/Types.pod
cp lib/YAML/Error.pm blib/lib/YAML/Error.pm
cp lib/YAML/Loader.pm blib/lib/YAML/Loader.pm
cp lib/YAML/Tag.pod blib/lib/YAML/Tag.pod
cp lib/YAML/Node.pm blib/lib/YAML/Node.pm
Manifying 11 pod documents
PERL_DL_NONLAZY=1 "/home/tjmc/.plenv/versions/5.28.2-RC1/bin/perl5.28.2" "-MExtUtils::Command::MM" "-MTest::Harness" "-e" "undef *Test::Harness::Switches; test_harness(0, 'blib/lib', 'blib/arch')" t/*.t
t/000-compile-modules.t ............ ok
t/2-scalars.t ...................... ok
t/author-pod-syntax.t .............. skipped: these tests are for testing by the author
t/basic-tests.t .................... ok
t/bugs-emailed.t ................... ok
t/bugs-rt.t ........................ ok
t/changes.t ........................ ok
t/dump-basics.t .................... ok
t/dump-blessed-glob.t .............. ok
t/dump-blessed.t ................... ok
t/dump-code.t ...................... ok
t/dump-file-utf8.t ................. ok
t/dump-file.t ...................... ok
t/dump-nested.t .................... ok
t/dump-opts.t ...................... ok
t/dump-perl-types-512.t ............ skipped: test only for perls before v5.13.5-11-gfb85c04
t/dump-perl-types-514.t ............ ok
t/dump-perl-types.t ................ ok
t/dump-stringify.t ................. ok
t/dump-stringy-numbers.t ........... ok
t/dump-synopsis.t .................. ok
t/dump-tests-512.t ................. skipped: test only for perls before v5.13.5-11-gfb85c04
t/dump-tests-514.t ................. ok
t/dump-tests.t ..................... ok
t/dump-works.t ..................... ok
t/errors.t ......................... ok
t/export.t ......................... ok
t/freeze-thaw.t .................... ok
t/global-api.t ..................... ok
t/inbox.t .......................... ok
t/io-handle.t ...................... ok
t/issue-149.t ...................... ok
t/issue-69.t ....................... ok
t/load-code.t ...................... ok
t/load-fails.t ..................... ok
t/load-passes.t .................... ok
t/load-slides.t .................... ok
t/load-spec.t ...................... ok
t/load-tests.t ..................... ok
t/load-works.t ..................... ok
t/marshall.t ....................... ok
t/no-load-blessed.t ................ ok
t/node-info.t ...................... ok
t/numify.t ......................... ok
t/preserve.t ....................... ok
t/pugs-objects.t ................... ok
t/references.t ..................... ok
t/regexp.t ......................... ok
t/roundtrip.t ...................... ok
t/rt-90593.t ....................... ok
t/svk.t ............................ ok
t/test.t ........................... ok
t/trailing-comments-content.t ...... ok
t/trailing-comments-non-content.t .. ok
All tests successful.
Files=54, Tests=541, 7 wallclock secs ( 0.14 usr 0.06 sys + 6.77 cusr 0.64 csys = 7.61 CPU)
Result: PASS
------------------------------
PREREQUISITES
------------------------------
Prerequisite modules loaded:
No requirements found
------------------------------
ENVIRONMENT AND OTHER CONTEXT
------------------------------
Environment variables:
LANG = en_US.UTF-8
PATH = /home/tjmc/.plenv/versions/5.28.2-RC1/bin:/home/tjmc/.plenv/libexec:/home/tjmc/.plenv/plugins/perl-build/bin:/home/tjmc/.rvm/gems/ruby-2.3.0/bin:/home/tjmc/.rvm/gems/ruby-2.3.0@global/bin:/home/tjmc/.rvm/rubies/ruby-2.3.0/bin:/home/tjmc/.plenv/shims:/usr/lib64/qt-3.3/bin:/usr/share/Modules/bin:/usr/lib64/ccache:/usr/local/bin:/usr/local/sbin:/usr/bin:/usr/sbin:/home/tjmc/.plenv/bin:/home/tjmc/bin:/home/tjmc/bin/:/opt/quality/bin:/home/tjmc/.rvm/bin:/home/tjmc/.local/bin:/home/tjmc/bin:/home/tjmc/.plenv/bin:/home/tjmc/bin:/home/tjmc/bin/:/opt/quality/bin:/home/tjmc/.rvm/bin
SHELL = /bin/bash
TERM = xterm-256color
Perl special variables (and OS-specific diagnostics, for MSWin32):
EGID = 1000 10 18 1000 1001
EUID = 1000
EXECUTABLE_NAME = /home/tjmc/.plenv/versions/5.28.2-RC1/bin/perl5.28.2
GID = 1000 10 18 1000 1001
UID = 1000
Perl module toolchain versions installed:
Module Have
------------------- --------
CPAN 2.20
CPAN::Meta 2.150010
Cwd 3.74
ExtUtils::CBuilder 0.280230
ExtUtils::Command 7.34
ExtUtils::Install 2.14
ExtUtils::MakeMaker 7.34
ExtUtils::Manifest 1.70
ExtUtils::ParseXS 3.39
File::Spec 3.74
JSON 4.02
JSON::PP 2.97001
Module::Build 0.4224
Module::Signature n/a
Parse::CPAN::Meta 2.150010
Test::Harness 3.42
Test::More 1.302162
YAML 1.27
YAML::Syck n/a
version 0.9923
--
Summary of my perl5 (revision 5 version 28 subversion 2) configuration:
Platform:
osname=linux
osvers=5.0.6-150.vanilla.knurd.1.fc28.x86_64
archname=x86_64-linux
uname='linux localhost.localdomain 5.0.6-150.vanilla.knurd.1.fc28.x86_64 #1 smp wed apr 3 05:10:02 utc 2019 x86_64 x86_64 x86_64 gnulinux '
config_args='-Dprefix=/home/tjmc/.plenv/versions/5.28.2-RC1 -de -Dversiononly -A'eval:scriptdir=/home/tjmc/.plenv/versions/5.28.2-RC1/bin''
hint=recommended
useposix=true
d_sigaction=define
useithreads=undef
usemultiplicity=undef
use64bitint=define
use64bitall=define
uselongdouble=undef
usemymalloc=n
default_inc_excludes_dot=define
bincompat5005=undef
Compiler:
cc='cc'
ccflags ='-fwrapv -fno-strict-aliasing -pipe -fstack-protector-strong -I/usr/local/include -D_LARGEFILE_SOURCE -D_FILE_OFFSET_BITS=64'
optimize='-O2'
cppflags='-fwrapv -fno-strict-aliasing -pipe -fstack-protector-strong -I/usr/local/include'
ccversion=''
gccversion='8.3.1 20190223 (Red Hat 8.3.1-2)'
gccosandvers=''
intsize=4
longsize=8
ptrsize=8
doublesize=8
byteorder=12345678
doublekind=3
d_longlong=define
longlongsize=8
d_longdbl=define
longdblsize=16
longdblkind=3
ivtype='long'
ivsize=8
nvtype='double'
nvsize=8
Off_t='off_t'
lseeksize=8
alignbytes=8
prototype=define
Linker and Libraries:
ld='cc'
ldflags =' -fstack-protector-strong -L/usr/local/lib'
libpth=/usr/local/lib /usr/lib /lib/../lib64 /usr/lib/../lib64 /lib /lib64 /usr/lib64 /usr/local/lib64
libs=-lpthread -lnsl -lgdbm -ldb -ldl -lm -lcrypt -lutil -lc -lgdbm_compat
perllibs=-lpthread -lnsl -ldl -lm -lcrypt -lutil -lc
libc=libc-2.27.so
so=so
useshrplib=false
libperl=libperl.a
gnulibc_version='2.27'
Dynamic Linking:
dlsrc=dl_dlopen.xs
dlext=so
d_dlsymun=undef
ccdlflags='-Wl,-E'
cccdlflags='-fPIC'
lddlflags='-shared -O2 -L/usr/local/lib -fstack-protector-strong'
Characteristics of this binary (from libperl):
Compile-time options:
HAS_TIMES
PERLIO_LAYERS
PERL_COPY_ON_WRITE
PERL_DONT_CREATE_GVSV
PERL_MALLOC_WRAP
PERL_OP_PARENT
PERL_PRESERVE_IVUV
USE_64_BIT_ALL
USE_64_BIT_INT
USE_LARGE_FILES
USE_LOCALE
USE_LOCALE_COLLATE
USE_LOCALE_CTYPE
USE_LOCALE_NUMERIC
USE_LOCALE_TIME
USE_PERLIO
USE_PERL_ATOF
Locally applied patches:
RC1
Devel::PatchPerl 1.52
Built under linux
Compiled at Apr 7 2019 13:23:45
@INC:
/home/tjmc/.plenv/versions/5.28.2-RC1/lib/perl5/site_perl/5.28.2/x86_64-linux
/home/tjmc/.plenv/versions/5.28.2-RC1/lib/perl5/site_perl/5.28.2
/home/tjmc/.plenv/versions/5.28.2-RC1/lib/perl5/5.28.2/x86_64-linux
/home/tjmc/.plenv/versions/5.28.2-RC1/lib/perl5/5.28.2