Back
From: metabase:user:9820532a-708b-1014-9a05-b18a96298da1
Subject: PASS Net-HTTP-Spore-0.04 v5.15.4 GNU/Linux
Date: 2011-10-25T09:50:28Z
This distribution has been tested as part of the CPAN Testers
project, supporting the Perl programming language. See
http://wiki.cpantesters.org/ for more information or email
questions to cpan-testers-discuss@perl.org
--
Dear Franck Cuny,
This is a computer-generated report for Net-HTTP-Spore-0.04
on perl 5.15.4, created by CPAN-Reporter-1.2002.
Thank you for uploading your work to CPAN. Congratulations!
All tests were successful.
Sections of this report:
* Tester comments
* Program output
* Prerequisites
* Environment and other context
------------------------------
TESTER COMMENTS
------------------------------
Additional comments from tester:
this report is from an automated smoke testing program
and was not reviewed by a human for accuracy
------------------------------
PROGRAM OUTPUT
------------------------------
Output from '/usr/bin/make test':
PERL_DL_NONLAZY=1 /home/test/perl5/perlbrew/perls/perl-5.15.4-ld/bin/perl5.15.4 "-MExtUtils::Command::MM" "-e" "test_harness(0, 'blib/lib', 'blib/arch')" t/*.t t/spore-method/*.t t/spore-middleware/*.t t/spore-request/*.t t/spore-response/*.t t/spore-role/*.t t/spore/*.t
t/release-eol.t ...................... skipped: these tests are for release candidate testing
t/release-no-tabs.t .................. skipped: these tests are for release candidate testing
t/release-pod-coverage.t ............. skipped: these tests are for release candidate testing
t/release-pod-syntax.t ............... skipped: these tests are for release candidate testing
Providing an optimized subroutine ref for type constraints is deprecated. Use the inlining feature (inline_as) instead. at /home/test/.cpan/build/Net-HTTP-Spore-0.04-EAo4_i/blib/lib/Net/HTTP/Spore/Meta/Method.pm line 13
Net::HTTP::Spore::Meta::Method::BEGIN() called at /home/test/perl5/perlbrew/perls/perl-5.15.4-ld/lib/site_perl/5.15.4/MooseX/Types/URI.pm line 0
eval {...} called at /home/test/perl5/perlbrew/perls/perl-5.15.4-ld/lib/site_perl/5.15.4/MooseX/Types/URI.pm line 0
require Net/HTTP/Spore/Meta/Method.pm called at t/spore-method/base.t line 5
main::BEGIN() called at /home/test/perl5/perlbrew/perls/perl-5.15.4-ld/lib/site_perl/5.15.4/MooseX/Types/URI.pm line 0
eval {...} called at /home/test/perl5/perlbrew/perls/perl-5.15.4-ld/lib/site_perl/5.15.4/MooseX/Types/URI.pm line 0
t/spore-method/base.t ................ ok
Providing an optimized subroutine ref for type constraints is deprecated. Use the inlining feature (inline_as) instead. at /home/test/.cpan/build/Net-HTTP-Spore-0.04-EAo4_i/blib/lib/Net/HTTP/Spore/Meta/Method.pm line 13
Net::HTTP::Spore::Meta::Method::BEGIN() called at /home/test/perl5/perlbrew/perls/perl-5.15.4-ld/lib/site_perl/5.15.4/MooseX/Types/URI.pm line 0
eval {...} called at /home/test/perl5/perlbrew/perls/perl-5.15.4-ld/lib/site_perl/5.15.4/MooseX/Types/URI.pm line 0
require Net/HTTP/Spore/Meta/Method.pm called at /home/test/.cpan/build/Net-HTTP-Spore-0.04-EAo4_i/blib/lib/Net/HTTP/Spore/Meta/Method/Spore.pm line 11
Net::HTTP::Spore::Meta::Method::Spore::BEGIN() called at /home/test/perl5/perlbrew/perls/perl-5.15.4-ld/lib/site_perl/5.15.4/MooseX/Types/URI.pm line 0
eval {...} called at /home/test/perl5/perlbrew/perls/perl-5.15.4-ld/lib/site_perl/5.15.4/MooseX/Types/URI.pm line 0
require Net/HTTP/Spore/Meta/Method/Spore.pm called at /home/test/perl5/perlbrew/perls/perl-5.15.4-ld/lib/site_perl/5.15.4/Module/Runtime.pm line 205
Module::Runtime::require_module('Net::HTTP::Spore::Meta::Method::Spore') called at /home/test/perl5/perlbrew/perls/perl-5.15.4-ld/lib/site_perl/5.15.4/Class/Load.pm line 199
Class::Load::__ANON__() called at /home/test/perl5/perlbrew/perls/perl-5.15.4-ld/lib/site_perl/5.15.4/Try/Tiny.pm line 71
eval {...} called at /home/test/perl5/perlbrew/perls/perl-5.15.4-ld/lib/site_perl/5.15.4/Try/Tiny.pm line 67
Try::Tiny::try('CODE(0x2f9c2b8)', 'Try::Tiny::Catch=REF(0x2f76ae8)') called at /home/test/perl5/perlbrew/perls/perl-5.15.4-ld/lib/site_perl/5.15.4/Class/Load.pm line 205
Class::Load::try_load_class('Net::HTTP::Spore::Meta::Method::Spore', undef) called at /home/test/perl5/perlbrew/perls/perl-5.15.4-ld/lib/site_perl/5.15.4/Class/Load.pm line 64
Class::Load::load_class('Net::HTTP::Spore::Meta::Method::Spore', undef) called at /home/test/perl5/perlbrew/perls/perl-5.15.4-ld/lib/site_perl/5.15.4/x86_64-linux-ld/Moose/Util.pm line 132
Moose::Util::_apply_all_roles('Moose::Meta::Role=HASH(0x2f86c10)', undef, 'Net::HTTP::Spore::Meta::Method::Spore') called at /home/test/perl5/perlbrew/perls/perl-5.15.4-ld/lib/site_perl/5.15.4/x86_64-linux-ld/Moose/Util.pm line 99
Moose::Util::apply_all_roles('Moose::Meta::Role=HASH(0x2f86c10)', 'Net::HTTP::Spore::Meta::Method::Spore') called at /home/test/perl5/perlbrew/perls/perl-5.15.4-ld/lib/site_perl/5.15.4/x86_64-linux-ld/Moose/Role.pm line 29
Moose::Role::with('Moose::Meta::Role=HASH(0x2f86c10)', 'Net::HTTP::Spore::Meta::Method::Spore') called at /home/test/perl5/perlbrew/perls/perl-5.15.4-ld/lib/site_perl/5.15.4/x86_64-linux-ld/Moose/Exporter.pm line 370
Moose::Role::with('Net::HTTP::Spore::Meta::Method::Spore') called at /home/test/.cpan/build/Net-HTTP-Spore-0.04-EAo4_i/blib/lib/Net/HTTP/Spore/Meta/Class.pm line 10
require Net/HTTP/Spore/Meta/Class.pm called at /home/test/perl5/perlbrew/perls/perl-5.15.4-ld/lib/site_perl/5.15.4/Module/Runtime.pm line 205
Module::Runtime::require_module('Net::HTTP::Spore::Meta::Class') called at /home/test/perl5/perlbrew/perls/perl-5.15.4-ld/lib/site_perl/5.15.4/Class/Load.pm line 199
Class::Load::__ANON__() called at /home/test/perl5/perlbrew/perls/perl-5.15.4-ld/lib/site_perl/5.15.4/Try/Tiny.pm line 71
eval {...} called at /home/test/perl5/perlbrew/perls/perl-5.15.4-ld/lib/site_perl/5.15.4/Try/Tiny.pm line 67
Try::Tiny::try('CODE(0x2f73958)', 'Try::Tiny::Catch=REF(0x2e7dc08)') called at /home/test/perl5/perlbrew/perls/perl-5.15.4-ld/lib/site_perl/5.15.4/Class/Load.pm line 205
Class::Load::try_load_class('Net::HTTP::Spore::Meta::Class', undef) called at /home/test/perl5/perlbrew/perls/perl-5.15.4-ld/lib/site_perl/5.15.4/Class/Load.pm line 64
Class::Load::load_class('Net::HTTP::Spore::Meta::Class', undef) called at /home/test/perl5/perlbrew/perls/perl-5.15.4-ld/lib/site_perl/5.15.4/x86_64-linux-ld/Moose/Util.pm line 132
Moose::Util::_apply_all_roles('Moose::Meta::Class=HASH(0x2f73e68)', undef, 'Net::HTTP::Spore::Meta::Class') called at /home/test/perl5/perlbrew/perls/perl-5.15.4-ld/lib/site_perl/5.15.4/x86_64-linux-ld/Moose/Util.pm line 99
Moose::Util::apply_all_roles('Moose::Meta::Class=HASH(0x2f73e68)', 'Net::HTTP::Spore::Meta::Class') called at /home/test/perl5/perlbrew/perls/perl-5.15.4-ld/lib/site_perl/5.15.4/x86_64-linux-ld/Moose/Meta/Class.pm line 104
Moose::Meta::Class::create('Moose::Meta::Class', 'Moose::Meta::Class::__ANON__::SERIAL::1', 'roles', 'ARRAY(0x2ec7a38)', 'weaken', '', 'superclasses', 'ARRAY(0x2f739a0)') called at /home/test/perl5/perlbrew/perls/perl-5.15.4-ld/lib/site_perl/5.15.4/x86_64-linux-ld/Class/MOP/Package.pm line 120
Class::MOP::Package::create_anon('Moose::Meta::Class', 'superclasses', 'ARRAY(0x2f739a0)', 'roles', 'ARRAY(0x2ec7a38)', 'cache', 1) called at /home/test/perl5/perlbrew/perls/perl-5.15.4-ld/lib/site_perl/5.15.4/x86_64-linux-ld/Class/MOP/Class.pm line 474
Class::MOP::Class::create_anon_class('Moose::Meta::Class', 'superclasses', 'ARRAY(0x2f739a0)', 'roles', 'ARRAY(0x2ec7a38)', 'cache', 1) called at /home/test/perl5/perlbrew/perls/perl-5.15.4-ld/lib/site_perl/5.15.4/x86_64-linux-ld/Moose/Util/MetaRole.pm line 134
Moose::Util::MetaRole::_make_new_class('Moose::Meta::Class', 'ARRAY(0x2ec7a38)') called at /home/test/perl5/perlbrew/perls/perl-5.15.4-ld/lib/site_perl/5.15.4/x86_64-linux-ld/Moose/Util/MetaRole.pm line 79
Moose::Util::MetaRole::_make_new_metaclass('Moose::Meta::Class=HASH(0x2f73010)', 'HASH(0x2ec2df0)', 'class') called at /home/test/perl5/perlbrew/perls/perl-5.15.4-ld/lib/site_perl/5.15.4/x86_64-linux-ld/Moose/Util/MetaRole.pm line 28
Moose::Util::MetaRole::apply_metaroles('for', 'Net::HTTP::Spore::Core', 'class_metaroles', 'HASH(0x2ec2df0)') called at /home/test/.cpan/build/Net-HTTP-Spore-0.04-EAo4_i/blib/lib/Net/HTTP/Spore/Meta.pm line 28
Net::HTTP::Spore::Meta::init_meta('Net::HTTP::Spore::Meta', 'for_class', 'MooseX::Types::URI', 'metaclass', undef, 'meta_name', 'meta') called at /home/test/perl5/perlbrew/perls/perl-5.15.4-ld/lib/site_perl/5.15.4/x86_64-linux-ld/Moose/Exporter.pm line 435
Moose::Exporter::__ANON__('Net::HTTP::Spore::Meta') called at /home/test/.cpan/build/Net-HTTP-Spore-0.04-EAo4_i/blib/lib/Net/HTTP/Spore/Core.pm line 6
Net::HTTP::Spore::Core::BEGIN() called at /home/test/perl5/perlbrew/perls/perl-5.15.4-ld/lib/site_perl/5.15.4/MooseX/Types/URI.pm line 0
eval {...} called at /home/test/perl5/perlbrew/perls/perl-5.15.4-ld/lib/site_perl/5.15.4/MooseX/Types/URI.pm line 0
require Net/HTTP/Spore/Core.pm called at /home/test/.cpan/build/Net-HTTP-Spore-0.04-EAo4_i/blib/lib/Net/HTTP/Spore.pm line 13
Net::HTTP::Spore::BEGIN() called at /home/test/perl5/perlbrew/perls/perl-5.15.4-ld/lib/site_perl/5.15.4/MooseX/Types/URI.pm line 0
eval {...} called at /home/test/perl5/perlbrew/perls/perl-5.15.4-ld/lib/site_perl/5.15.4/MooseX/Types/URI.pm line 0
require Net/HTTP/Spore.pm called at t/spore-method/payload.t line 8
main::BEGIN() called at /home/test/perl5/perlbrew/perls/perl-5.15.4-ld/lib/site_perl/5.15.4/MooseX/Types/URI.pm line 0
eval {...} called at /home/test/perl5/perlbrew/perls/perl-5.15.4-ld/lib/site_perl/5.15.4/MooseX/Types/URI.pm line 0
t/spore-method/payload.t ............. ok
Providing an optimized subroutine ref for type constraints is deprecated. Use the inlining feature (inline_as) instead. at /home/test/.cpan/build/Net-HTTP-Spore-0.04-EAo4_i/blib/lib/Net/HTTP/Spore/Meta/Method.pm line 13
Net::HTTP::Spore::Meta::Method::BEGIN() called at /home/test/perl5/perlbrew/perls/perl-5.15.4-ld/lib/site_perl/5.15.4/MooseX/Types/URI.pm line 0
eval {...} called at /home/test/perl5/perlbrew/perls/perl-5.15.4-ld/lib/site_perl/5.15.4/MooseX/Types/URI.pm line 0
require Net/HTTP/Spore/Meta/Method.pm called at /home/test/.cpan/build/Net-HTTP-Spore-0.04-EAo4_i/blib/lib/Net/HTTP/Spore/Meta/Method/Spore.pm line 11
Net::HTTP::Spore::Meta::Method::Spore::BEGIN() called at /home/test/perl5/perlbrew/perls/perl-5.15.4-ld/lib/site_perl/5.15.4/MooseX/Types/URI.pm line 0
eval {...} called at /home/test/perl5/perlbrew/perls/perl-5.15.4-ld/lib/site_perl/5.15.4/MooseX/Types/URI.pm line 0
require Net/HTTP/Spore/Meta/Method/Spore.pm called at /home/test/perl5/perlbrew/perls/perl-5.15.4-ld/lib/site_perl/5.15.4/Module/Runtime.pm line 205
Module::Runtime::require_module('Net::HTTP::Spore::Meta::Method::Spore') called at /home/test/perl5/perlbrew/perls/perl-5.15.4-ld/lib/site_perl/5.15.4/Class/Load.pm line 199
Class::Load::__ANON__() called at /home/test/perl5/perlbrew/perls/perl-5.15.4-ld/lib/site_perl/5.15.4/Try/Tiny.pm line 71
eval {...} called at /home/test/perl5/perlbrew/perls/perl-5.15.4-ld/lib/site_perl/5.15.4/Try/Tiny.pm line 67
Try::Tiny::try('CODE(0x2be11e0)', 'Try::Tiny::Catch=REF(0x2b9a950)') called at /home/test/perl5/perlbrew/perls/perl-5.15.4-ld/lib/site_perl/5.15.4/Class/Load.pm line 205
Class::Load::try_load_class('Net::HTTP::Spore::Meta::Method::Spore', undef) called at /home/test/perl5/perlbrew/perls/perl-5.15.4-ld/lib/site_perl/5.15.4/Class/Load.pm line 64
Class::Load::load_class('Net::HTTP::Spore::Meta::Method::Spore', undef) called at /home/test/perl5/perlbrew/perls/perl-5.15.4-ld/lib/site_perl/5.15.4/x86_64-linux-ld/Moose/Util.pm line 132
Moose::Util::_apply_all_roles('Moose::Meta::Role=HASH(0x2b90fc0)', undef, 'Net::HTTP::Spore::Meta::Method::Spore') called at /home/test/perl5/perlbrew/perls/perl-5.15.4-ld/lib/site_perl/5.15.4/x86_64-linux-ld/Moose/Util.pm line 99
Moose::Util::apply_all_roles('Moose::Meta::Role=HASH(0x2b90fc0)', 'Net::HTTP::Spore::Meta::Method::Spore') called at /home/test/perl5/perlbrew/perls/perl-5.15.4-ld/lib/site_perl/5.15.4/x86_64-linux-ld/Moose/Role.pm line 29
Moose::Role::with('Moose::Meta::Role=HASH(0x2b90fc0)', 'Net::HTTP::Spore::Meta::Method::Spore') called at /home/test/perl5/perlbrew/perls/perl-5.15.4-ld/lib/site_perl/5.15.4/x86_64-linux-ld/Moose/Exporter.pm line 370
Moose::Role::with('Net::HTTP::Spore::Meta::Method::Spore') called at /home/test/.cpan/build/Net-HTTP-Spore-0.04-EAo4_i/blib/lib/Net/HTTP/Spore/Meta/Class.pm line 10
require Net/HTTP/Spore/Meta/Class.pm called at /home/test/perl5/perlbrew/perls/perl-5.15.4-ld/lib/site_perl/5.15.4/Module/Runtime.pm line 205
Module::Runtime::require_module('Net::HTTP::Spore::Meta::Class') called at /home/test/perl5/perlbrew/perls/perl-5.15.4-ld/lib/site_perl/5.15.4/Class/Load.pm line 199
Class::Load::__ANON__() called at /home/test/perl5/perlbrew/perls/perl-5.15.4-ld/lib/site_perl/5.15.4/Try/Tiny.pm line 71
eval {...} called at /home/test/perl5/perlbrew/perls/perl-5.15.4-ld/lib/site_perl/5.15.4/Try/Tiny.pm line 67
Try::Tiny::try('CODE(0x2b99d98)', 'Try::Tiny::Catch=REF(0x2a49108)') called at /home/test/perl5/perlbrew/perls/perl-5.15.4-ld/lib/site_perl/5.15.4/Class/Load.pm line 205
Class::Load::try_load_class('Net::HTTP::Spore::Meta::Class', undef) called at /home/test/perl5/perlbrew/perls/perl-5.15.4-ld/lib/site_perl/5.15.4/Class/Load.pm line 64
Class::Load::load_class('Net::HTTP::Spore::Meta::Class', undef) called at /home/test/perl5/perlbrew/perls/perl-5.15.4-ld/lib/site_perl/5.15.4/x86_64-linux-ld/Moose/Util.pm line 132
Moose::Util::_apply_all_roles('Moose::Meta::Class=HASH(0x2b9a2a8)', undef, 'Net::HTTP::Spore::Meta::Class') called at /home/test/perl5/perlbrew/perls/perl-5.15.4-ld/lib/site_perl/5.15.4/x86_64-linux-ld/Moose/Util.pm line 99
Moose::Util::apply_all_roles('Moose::Meta::Class=HASH(0x2b9a2a8)', 'Net::HTTP::Spore::Meta::Class') called at /home/test/perl5/perlbrew/perls/perl-5.15.4-ld/lib/site_perl/5.15.4/x86_64-linux-ld/Moose/Meta/Class.pm line 104
Moose::Meta::Class::create('Moose::Meta::Class', 'Moose::Meta::Class::__ANON__::SERIAL::1', 'roles', 'ARRAY(0x20fb110)', 'weaken', '', 'superclasses', 'ARRAY(0x2b99de0)') called at /home/test/perl5/perlbrew/perls/perl-5.15.4-ld/lib/site_perl/5.15.4/x86_64-linux-ld/Class/MOP/Package.pm line 120
Class::MOP::Package::create_anon('Moose::Meta::Class', 'superclasses', 'ARRAY(0x2b99de0)', 'roles', 'ARRAY(0x20fb110)', 'cache', 1) called at /home/test/perl5/perlbrew/perls/perl-5.15.4-ld/lib/site_perl/5.15.4/x86_64-linux-ld/Class/MOP/Class.pm line 474
Class::MOP::Class::create_anon_class('Moose::Meta::Class', 'superclasses', 'ARRAY(0x2b99de0)', 'roles', 'ARRAY(0x20fb110)', 'cache', 1) called at /home/test/perl5/perlbrew/perls/perl-5.15.4-ld/lib/site_perl/5.15.4/x86_64-linux-ld/Moose/Util/MetaRole.pm line 134
Moose::Util::MetaRole::_make_new_class('Moose::Meta::Class', 'ARRAY(0x20fb110)') called at /home/test/perl5/perlbrew/perls/perl-5.15.4-ld/lib/site_perl/5.15.4/x86_64-linux-ld/Moose/Util/MetaRole.pm line 79
Moose::Util::MetaRole::_make_new_metaclass('Moose::Meta::Class=HASH(0x213a6f8)', 'HASH(0x2aafae0)', 'class') called at /home/test/perl5/perlbrew/perls/perl-5.15.4-ld/lib/site_perl/5.15.4/x86_64-linux-ld/Moose/Util/MetaRole.pm line 28
Moose::Util::MetaRole::apply_metaroles('for', 'Net::HTTP::Spore::Core', 'class_metaroles', 'HASH(0x2aafae0)') called at /home/test/.cpan/build/Net-HTTP-Spore-0.04-EAo4_i/blib/lib/Net/HTTP/Spore/Meta.pm line 28
Net::HTTP::Spore::Meta::init_meta('Net::HTTP::Spore::Meta', 'for_class', 'MooseX::Types::URI', 'metaclass', undef, 'meta_name', 'meta') called at /home/test/perl5/perlbrew/perls/perl-5.15.4-ld/lib/site_perl/5.15.4/x86_64-linux-ld/Moose/Exporter.pm line 435
Moose::Exporter::__ANON__('Net::HTTP::Spore::Meta') called at /home/test/.cpan/build/Net-HTTP-Spore-0.04-EAo4_i/blib/lib/Net/HTTP/Spore/Core.pm line 6
Net::HTTP::Spore::Core::BEGIN() called at /home/test/perl5/perlbrew/perls/perl-5.15.4-ld/lib/site_perl/5.15.4/MooseX/Types/URI.pm line 0
eval {...} called at /home/test/perl5/perlbrew/perls/perl-5.15.4-ld/lib/site_perl/5.15.4/MooseX/Types/URI.pm line 0
require Net/HTTP/Spore/Core.pm called at /home/test/.cpan/build/Net-HTTP-Spore-0.04-EAo4_i/blib/lib/Net/HTTP/Spore.pm line 13
Net::HTTP::Spore::BEGIN() called at /home/test/perl5/perlbrew/perls/perl-5.15.4-ld/lib/site_perl/5.15.4/MooseX/Types/URI.pm line 0
eval {...} called at /home/test/perl5/perlbrew/perls/perl-5.15.4-ld/lib/site_perl/5.15.4/MooseX/Types/URI.pm line 0
require Net/HTTP/Spore.pm called at t/spore-middleware/auth-basic.t line 8
main::BEGIN() called at /home/test/perl5/perlbrew/perls/perl-5.15.4-ld/lib/site_perl/5.15.4/MooseX/Types/URI.pm line 0
eval {...} called at /home/test/perl5/perlbrew/perls/perl-5.15.4-ld/lib/site_perl/5.15.4/MooseX/Types/URI.pm line 0
t/spore-middleware/auth-basic.t ...... ok
Providing an optimized subroutine ref for type constraints is deprecated. Use the inlining feature (inline_as) instead. at /home/test/.cpan/build/Net-HTTP-Spore-0.04-EAo4_i/blib/lib/Net/HTTP/Spore/Meta/Method.pm line 13
Net::HTTP::Spore::Meta::Method::BEGIN() called at /home/test/perl5/perlbrew/perls/perl-5.15.4-ld/lib/site_perl/5.15.4/MooseX/Types/URI.pm line 0
eval {...} called at /home/test/perl5/perlbrew/perls/perl-5.15.4-ld/lib/site_perl/5.15.4/MooseX/Types/URI.pm line 0
require Net/HTTP/Spore/Meta/Method.pm called at /home/test/.cpan/build/Net-HTTP-Spore-0.04-EAo4_i/blib/lib/Net/HTTP/Spore/Meta/Method/Spore.pm line 11
Net::HTTP::Spore::Meta::Method::Spore::BEGIN() called at /home/test/perl5/perlbrew/perls/perl-5.15.4-ld/lib/site_perl/5.15.4/MooseX/Types/URI.pm line 0
eval {...} called at /home/test/perl5/perlbrew/perls/perl-5.15.4-ld/lib/site_perl/5.15.4/MooseX/Types/URI.pm line 0
require Net/HTTP/Spore/Meta/Method/Spore.pm called at /home/test/perl5/perlbrew/perls/perl-5.15.4-ld/lib/site_perl/5.15.4/Module/Runtime.pm line 205
Module::Runtime::require_module('Net::HTTP::Spore::Meta::Method::Spore') called at /home/test/perl5/perlbrew/perls/perl-5.15.4-ld/lib/site_perl/5.15.4/Class/Load.pm line 199
Class::Load::__ANON__() called at /home/test/perl5/perlbrew/perls/perl-5.15.4-ld/lib/site_perl/5.15.4/Try/Tiny.pm line 71
eval {...} called at /home/test/perl5/perlbrew/perls/perl-5.15.4-ld/lib/site_perl/5.15.4/Try/Tiny.pm line 67
Try::Tiny::try('CODE(0x304ecc0)', 'Try::Tiny::Catch=REF(0x300ae30)') called at /home/test/perl5/perlbrew/perls/perl-5.15.4-ld/lib/site_perl/5.15.4/Class/Load.pm line 205
Class::Load::try_load_class('Net::HTTP::Spore::Meta::Method::Spore', undef) called at /home/test/perl5/perlbrew/perls/perl-5.15.4-ld/lib/site_perl/5.15.4/Class/Load.pm line 64
Class::Load::load_class('Net::HTTP::Spore::Meta::Method::Spore', undef) called at /home/test/perl5/perlbrew/perls/perl-5.15.4-ld/lib/site_perl/5.15.4/x86_64-linux-ld/Moose/Util.pm line 132
Moose::Util::_apply_all_roles('Moose::Meta::Role=HASH(0x3011028)', undef, 'Net::HTTP::Spore::Meta::Method::Spore') called at /home/test/perl5/perlbrew/perls/perl-5.15.4-ld/lib/site_perl/5.15.4/x86_64-linux-ld/Moose/Util.pm line 99
Moose::Util::apply_all_roles('Moose::Meta::Role=HASH(0x3011028)', 'Net::HTTP::Spore::Meta::Method::Spore') called at /home/test/perl5/perlbrew/perls/perl-5.15.4-ld/lib/site_perl/5.15.4/x86_64-linux-ld/Moose/Role.pm line 29
Moose::Role::with('Moose::Meta::Role=HASH(0x3011028)', 'Net::HTTP::Spore::Meta::Method::Spore') called at /home/test/perl5/perlbrew/perls/perl-5.15.4-ld/lib/site_perl/5.15.4/x86_64-linux-ld/Moose/Exporter.pm line 370
Moose::Role::with('Net::HTTP::Spore::Meta::Method::Spore') called at /home/test/.cpan/build/Net-HTTP-Spore-0.04-EAo4_i/blib/lib/Net/HTTP/Spore/Meta/Class.pm line 10
require Net/HTTP/Spore/Meta/Class.pm called at /home/test/perl5/perlbrew/perls/perl-5.15.4-ld/lib/site_perl/5.15.4/Module/Runtime.pm line 205
Module::Runtime::require_module('Net::HTTP::Spore::Meta::Class') called at /home/test/perl5/perlbrew/perls/perl-5.15.4-ld/lib/site_perl/5.15.4/Class/Load.pm line 199
Class::Load::__ANON__() called at /home/test/perl5/perlbrew/perls/perl-5.15.4-ld/lib/site_perl/5.15.4/Try/Tiny.pm line 71
eval {...} called at /home/test/perl5/perlbrew/perls/perl-5.15.4-ld/lib/site_perl/5.15.4/Try/Tiny.pm line 67
Try::Tiny::try('CODE(0x2fee3a0)', 'Try::Tiny::Catch=REF(0x2eb5310)') called at /home/test/perl5/perlbrew/perls/perl-5.15.4-ld/lib/site_perl/5.15.4/Class/Load.pm line 205
Class::Load::try_load_class('Net::HTTP::Spore::Meta::Class', undef) called at /home/test/perl5/perlbrew/perls/perl-5.15.4-ld/lib/site_perl/5.15.4/Class/Load.pm line 64
Class::Load::load_class('Net::HTTP::Spore::Meta::Class', undef) called at /home/test/perl5/perlbrew/perls/perl-5.15.4-ld/lib/site_perl/5.15.4/x86_64-linux-ld/Moose/Util.pm line 132
Moose::Util::_apply_all_roles('Moose::Meta::Class=HASH(0x2fee8b0)', undef, 'Net::HTTP::Spore::Meta::Class') called at /home/test/perl5/perlbrew/perls/perl-5.15.4-ld/lib/site_perl/5.15.4/x86_64-linux-ld/Moose/Util.pm line 99
Moose::Util::apply_all_roles('Moose::Meta::Class=HASH(0x2fee8b0)', 'Net::HTTP::Spore::Meta::Class') called at /home/test/perl5/perlbrew/perls/perl-5.15.4-ld/lib/site_perl/5.15.4/x86_64-linux-ld/Moose/Meta/Class.pm line 104
Moose::Meta::Class::create('Moose::Meta::Class', 'Moose::Meta::Class::__ANON__::SERIAL::1', 'roles', 'ARRAY(0x25633b8)', 'weaken', '', 'superclasses', 'ARRAY(0x2fee3e8)') called at /home/test/perl5/perlbrew/perls/perl-5.15.4-ld/lib/site_perl/5.15.4/x86_64-linux-ld/Class/MOP/Package.pm line 120
Class::MOP::Package::create_anon('Moose::Meta::Class', 'superclasses', 'ARRAY(0x2fee3e8)', 'roles', 'ARRAY(0x25633b8)', 'cache', 1) called at /home/test/perl5/perlbrew/perls/perl-5.15.4-ld/lib/site_perl/5.15.4/x86_64-linux-ld/Class/MOP/Class.pm line 474
Class::MOP::Class::create_anon_class('Moose::Meta::Class', 'superclasses', 'ARRAY(0x2fee3e8)', 'roles', 'ARRAY(0x25633b8)', 'cache', 1) called at /home/test/perl5/perlbrew/perls/perl-5.15.4-ld/lib/site_perl/5.15.4/x86_64-linux-ld/Moose/Util/MetaRole.pm line 134
Moose::Util::MetaRole::_make_new_class('Moose::Meta::Class', 'ARRAY(0x25633b8)') called at /home/test/perl5/perlbrew/perls/perl-5.15.4-ld/lib/site_perl/5.15.4/x86_64-linux-ld/Moose/Util/MetaRole.pm line 79
Moose::Util::MetaRole::_make_new_metaclass('Moose::Meta::Class=HASH(0x2ffd000)', 'HASH(0x2ecaa38)', 'class') called at /home/test/perl5/perlbrew/perls/perl-5.15.4-ld/lib/site_perl/5.15.4/x86_64-linux-ld/Moose/Util/MetaRole.pm line 28
Moose::Util::MetaRole::apply_metaroles('for', 'Net::HTTP::Spore::Core', 'class_metaroles', 'HASH(0x2ecaa38)') called at /home/test/.cpan/build/Net-HTTP-Spore-0.04-EAo4_i/blib/lib/Net/HTTP/Spore/Meta.pm line 28
Net::HTTP::Spore::Meta::init_meta('Net::HTTP::Spore::Meta', 'for_class', 'MooseX::Types::URI', 'metaclass', undef, 'meta_name', 'meta') called at /home/test/perl5/perlbrew/perls/perl-5.15.4-ld/lib/site_perl/5.15.4/x86_64-linux-ld/Moose/Exporter.pm line 435
Moose::Exporter::__ANON__('Net::HTTP::Spore::Meta') called at /home/test/.cpan/build/Net-HTTP-Spore-0.04-EAo4_i/blib/lib/Net/HTTP/Spore/Core.pm line 6
Net::HTTP::Spore::Core::BEGIN() called at /home/test/perl5/perlbrew/perls/perl-5.15.4-ld/lib/site_perl/5.15.4/MooseX/Types/URI.pm line 0
eval {...} called at /home/test/perl5/perlbrew/perls/perl-5.15.4-ld/lib/site_perl/5.15.4/MooseX/Types/URI.pm line 0
require Net/HTTP/Spore/Core.pm called at /home/test/.cpan/build/Net-HTTP-Spore-0.04-EAo4_i/blib/lib/Net/HTTP/Spore.pm line 13
Net::HTTP::Spore::BEGIN() called at /home/test/perl5/perlbrew/perls/perl-5.15.4-ld/lib/site_perl/5.15.4/MooseX/Types/URI.pm line 0
eval {...} called at /home/test/perl5/perlbrew/perls/perl-5.15.4-ld/lib/site_perl/5.15.4/MooseX/Types/URI.pm line 0
require Net/HTTP/Spore.pm called at t/spore-middleware/auth-header.t line 6
main::BEGIN() called at /home/test/perl5/perlbrew/perls/perl-5.15.4-ld/lib/site_perl/5.15.4/MooseX/Types/URI.pm line 0
eval {...} called at /home/test/perl5/perlbrew/perls/perl-5.15.4-ld/lib/site_perl/5.15.4/MooseX/Types/URI.pm line 0
t/spore-middleware/auth-header.t ..... ok
Providing an optimized subroutine ref for type constraints is deprecated. Use the inlining feature (inline_as) instead. at /home/test/.cpan/build/Net-HTTP-Spore-0.04-EAo4_i/blib/lib/Net/HTTP/Spore/Meta/Method.pm line 13
Net::HTTP::Spore::Meta::Method::BEGIN() called at /home/test/perl5/perlbrew/perls/perl-5.15.4-ld/lib/site_perl/5.15.4/MooseX/Types/URI.pm line 0
eval {...} called at /home/test/perl5/perlbrew/perls/perl-5.15.4-ld/lib/site_perl/5.15.4/MooseX/Types/URI.pm line 0
require Net/HTTP/Spore/Meta/Method.pm called at /home/test/.cpan/build/Net-HTTP-Spore-0.04-EAo4_i/blib/lib/Net/HTTP/Spore/Meta/Method/Spore.pm line 11
Net::HTTP::Spore::Meta::Method::Spore::BEGIN() called at /home/test/perl5/perlbrew/perls/perl-5.15.4-ld/lib/site_perl/5.15.4/MooseX/Types/URI.pm line 0
eval {...} called at /home/test/perl5/perlbrew/perls/perl-5.15.4-ld/lib/site_perl/5.15.4/MooseX/Types/URI.pm line 0
require Net/HTTP/Spore/Meta/Method/Spore.pm called at /home/test/perl5/perlbrew/perls/perl-5.15.4-ld/lib/site_perl/5.15.4/Module/Runtime.pm line 205
Module::Runtime::require_module('Net::HTTP::Spore::Meta::Method::Spore') called at /home/test/perl5/perlbrew/perls/perl-5.15.4-ld/lib/site_perl/5.15.4/Class/Load.pm line 199
Class::Load::__ANON__() called at /home/test/perl5/perlbrew/perls/perl-5.15.4-ld/lib/site_perl/5.15.4/Try/Tiny.pm line 71
eval {...} called at /home/test/perl5/perlbrew/perls/perl-5.15.4-ld/lib/site_perl/5.15.4/Try/Tiny.pm line 67
Try::Tiny::try('CODE(0x1eca958)', 'Try::Tiny::Catch=REF(0x1e87b38)') called at /home/test/perl5/perlbrew/perls/perl-5.15.4-ld/lib/site_perl/5.15.4/Class/Load.pm line 205
Class::Load::try_load_class('Net::HTTP::Spore::Meta::Method::Spore', undef) called at /home/test/perl5/perlbrew/perls/perl-5.15.4-ld/lib/site_perl/5.15.4/Class/Load.pm line 64
Class::Load::load_class('Net::HTTP::Spore::Meta::Method::Spore', undef) called at /home/test/perl5/perlbrew/perls/perl-5.15.4-ld/lib/site_perl/5.15.4/x86_64-linux-ld/Moose/Util.pm line 132
Moose::Util::_apply_all_roles('Moose::Meta::Role=HASH(0x1e7e158)', undef, 'Net::HTTP::Spore::Meta::Method::Spore') called at /home/test/perl5/perlbrew/perls/perl-5.15.4-ld/lib/site_perl/5.15.4/x86_64-linux-ld/Moose/Util.pm line 99
Moose::Util::apply_all_roles('Moose::Meta::Role=HASH(0x1e7e158)', 'Net::HTTP::Spore::Meta::Method::Spore') called at /home/test/perl5/perlbrew/perls/perl-5.15.4-ld/lib/site_perl/5.15.4/x86_64-linux-ld/Moose/Role.pm line 29
Moose::Role::with('Moose::Meta::Role=HASH(0x1e7e158)', 'Net::HTTP::Spore::Meta::Method::Spore') called at /home/test/perl5/perlbrew/perls/perl-5.15.4-ld/lib/site_perl/5.15.4/x86_64-linux-ld/Moose/Exporter.pm line 370
Moose::Role::with('Net::HTTP::Spore::Meta::Method::Spore') called at /home/test/.cpan/build/Net-HTTP-Spore-0.04-EAo4_i/blib/lib/Net/HTTP/Spore/Meta/Class.pm line 10
require Net/HTTP/Spore/Meta/Class.pm called at /home/test/perl5/perlbrew/perls/perl-5.15.4-ld/lib/site_perl/5.15.4/Module/Runtime.pm line 205
Module::Runtime::require_module('Net::HTTP::Spore::Meta::Class') called at /home/test/perl5/perlbrew/perls/perl-5.15.4-ld/lib/site_perl/5.15.4/Class/Load.pm line 199
Class::Load::__ANON__() called at /home/test/perl5/perlbrew/perls/perl-5.15.4-ld/lib/site_perl/5.15.4/Try/Tiny.pm line 71
eval {...} called at /home/test/perl5/perlbrew/perls/perl-5.15.4-ld/lib/site_perl/5.15.4/Try/Tiny.pm line 67
Try::Tiny::try('CODE(0x14c2628)', 'Try::Tiny::Catch=REF(0x1d31038)') called at /home/test/perl5/perlbrew/perls/perl-5.15.4-ld/lib/site_perl/5.15.4/Class/Load.pm line 205
Class::Load::try_load_class('Net::HTTP::Spore::Meta::Class', undef) called at /home/test/perl5/perlbrew/perls/perl-5.15.4-ld/lib/site_perl/5.15.4/Class/Load.pm line 64
Class::Load::load_class('Net::HTTP::Spore::Meta::Class', undef) called at /home/test/perl5/perlbrew/perls/perl-5.15.4-ld/lib/site_perl/5.15.4/x86_64-linux-ld/Moose/Util.pm line 132
Moose::Util::_apply_all_roles('Moose::Meta::Class=HASH(0x1e87490)', undef, 'Net::HTTP::Spore::Meta::Class') called at /home/test/perl5/perlbrew/perls/perl-5.15.4-ld/lib/site_perl/5.15.4/x86_64-linux-ld/Moose/Util.pm line 99
Moose::Util::apply_all_roles('Moose::Meta::Class=HASH(0x1e87490)', 'Net::HTTP::Spore::Meta::Class') called at /home/test/perl5/perlbrew/perls/perl-5.15.4-ld/lib/site_perl/5.15.4/x86_64-linux-ld/Moose/Meta/Class.pm line 104
Moose::Meta::Class::create('Moose::Meta::Class', 'Moose::Meta::Class::__ANON__::SERIAL::1', 'roles', 'ARRAY(0x13ee8b8)', 'weaken', '', 'superclasses', 'ARRAY(0x1e86fc8)') called at /home/test/perl5/perlbrew/perls/perl-5.15.4-ld/lib/site_perl/5.15.4/x86_64-linux-ld/Class/MOP/Package.pm line 120
Class::MOP::Package::create_anon('Moose::Meta::Class', 'superclasses', 'ARRAY(0x1e86fc8)', 'roles', 'ARRAY(0x13ee8b8)', 'cache', 1) called at /home/test/perl5/perlbrew/perls/perl-5.15.4-ld/lib/site_perl/5.15.4/x86_64-linux-ld/Class/MOP/Class.pm line 474
Class::MOP::Class::create_anon_class('Moose::Meta::Class', 'superclasses', 'ARRAY(0x1e86fc8)', 'roles', 'ARRAY(0x13ee8b8)', 'cache', 1) called at /home/test/perl5/perlbrew/perls/perl-5.15.4-ld/lib/site_perl/5.15.4/x86_64-linux-ld/Moose/Util/MetaRole.pm line 134
Moose::Util::MetaRole::_make_new_class('Moose::Meta::Class', 'ARRAY(0x13ee8b8)') called at /home/test/perl5/perlbrew/perls/perl-5.15.4-ld/lib/site_perl/5.15.4/x86_64-linux-ld/Moose/Util/MetaRole.pm line 79
Moose::Util::MetaRole::_make_new_metaclass('Moose::Meta::Class=HASH(0x14c1ce0)', 'HASH(0x1d9d378)', 'class') called at /home/test/perl5/perlbrew/perls/perl-5.15.4-ld/lib/site_perl/5.15.4/x86_64-linux-ld/Moose/Util/MetaRole.pm line 28
Moose::Util::MetaRole::apply_metaroles('for', 'Net::HTTP::Spore::Core', 'class_metaroles', 'HASH(0x1d9d378)') called at /home/test/.cpan/build/Net-HTTP-Spore-0.04-EAo4_i/blib/lib/Net/HTTP/Spore/Meta.pm line 28
Net::HTTP::Spore::Meta::init_meta('Net::HTTP::Spore::Meta', 'for_class', 'MooseX::Types::URI', 'metaclass', undef, 'meta_name', 'meta') called at /home/test/perl5/perlbrew/perls/perl-5.15.4-ld/lib/site_perl/5.15.4/x86_64-linux-ld/Moose/Exporter.pm line 435
Moose::Exporter::__ANON__('Net::HTTP::Spore::Meta') called at /home/test/.cpan/build/Net-HTTP-Spore-0.04-EAo4_i/blib/lib/Net/HTTP/Spore/Core.pm line 6
Net::HTTP::Spore::Core::BEGIN() called at /home/test/perl5/perlbrew/perls/perl-5.15.4-ld/lib/site_perl/5.15.4/MooseX/Types/URI.pm line 0
eval {...} called at /home/test/perl5/perlbrew/perls/perl-5.15.4-ld/lib/site_perl/5.15.4/MooseX/Types/URI.pm line 0
require Net/HTTP/Spore/Core.pm called at /home/test/.cpan/build/Net-HTTP-Spore-0.04-EAo4_i/blib/lib/Net/HTTP/Spore.pm line 13
Net::HTTP::Spore::BEGIN() called at /home/test/perl5/perlbrew/perls/perl-5.15.4-ld/lib/site_perl/5.15.4/MooseX/Types/URI.pm line 0
eval {...} called at /home/test/perl5/perlbrew/perls/perl-5.15.4-ld/lib/site_perl/5.15.4/MooseX/Types/URI.pm line 0
require Net/HTTP/Spore.pm called at t/spore-middleware/auth-oauth.t line 6
main::BEGIN() called at /home/test/perl5/perlbrew/perls/perl-5.15.4-ld/lib/site_perl/5.15.4/MooseX/Types/URI.pm line 0
eval {...} called at /home/test/perl5/perlbrew/perls/perl-5.15.4-ld/lib/site_perl/5.15.4/MooseX/Types/URI.pm line 0
t/spore-middleware/auth-oauth.t ...... ok
Providing an optimized subroutine ref for type constraints is deprecated. Use the inlining feature (inline_as) instead. at /home/test/.cpan/build/Net-HTTP-Spore-0.04-EAo4_i/blib/lib/Net/HTTP/Spore/Meta/Method.pm line 13
Net::HTTP::Spore::Meta::Method::BEGIN() called at /home/test/perl5/perlbrew/perls/perl-5.15.4-ld/lib/site_perl/5.15.4/MooseX/Types/URI.pm line 0
eval {...} called at /home/test/perl5/perlbrew/perls/perl-5.15.4-ld/lib/site_perl/5.15.4/MooseX/Types/URI.pm line 0
require Net/HTTP/Spore/Meta/Method.pm called at /home/test/.cpan/build/Net-HTTP-Spore-0.04-EAo4_i/blib/lib/Net/HTTP/Spore/Meta/Method/Spore.pm line 11
Net::HTTP::Spore::Meta::Method::Spore::BEGIN() called at /home/test/perl5/perlbrew/perls/perl-5.15.4-ld/lib/site_perl/5.15.4/MooseX/Types/URI.pm line 0
eval {...} called at /home/test/perl5/perlbrew/perls/perl-5.15.4-ld/lib/site_perl/5.15.4/MooseX/Types/URI.pm line 0
require Net/HTTP/Spore/Meta/Method/Spore.pm called at /home/test/perl5/perlbrew/perls/perl-5.15.4-ld/lib/site_perl/5.15.4/Module/Runtime.pm line 205
Module::Runtime::require_module('Net::HTTP::Spore::Meta::Method::Spore') called at /home/test/perl5/perlbrew/perls/perl-5.15.4-ld/lib/site_perl/5.15.4/Class/Load.pm line 199
Class::Load::__ANON__() called at /home/test/perl5/perlbrew/perls/perl-5.15.4-ld/lib/site_perl/5.15.4/Try/Tiny.pm line 71
eval {...} called at /home/test/perl5/perlbrew/perls/perl-5.15.4-ld/lib/site_perl/5.15.4/Try/Tiny.pm line 67
Try::Tiny::try('CODE(0x2629a38)', 'Try::Tiny::Catch=REF(0x2606138)') called at /home/test/perl5/perlbrew/perls/perl-5.15.4-ld/lib/site_perl/5.15.4/Class/Load.pm line 205
Class::Load::try_load_class('Net::HTTP::Spore::Meta::Method::Spore', undef) called at /home/test/perl5/perlbrew/perls/perl-5.15.4-ld/lib/site_perl/5.15.4/Class/Load.pm line 64
Class::Load::load_class('Net::HTTP::Spore::Meta::Method::Spore', undef) called at /home/test/perl5/perlbrew/perls/perl-5.15.4-ld/lib/site_perl/5.15.4/x86_64-linux-ld/Moose/Util.pm line 132
Moose::Util::_apply_all_roles('Moose::Meta::Role=HASH(0x2614200)', undef, 'Net::HTTP::Spore::Meta::Method::Spore') called at /home/test/perl5/perlbrew/perls/perl-5.15.4-ld/lib/site_perl/5.15.4/x86_64-linux-ld/Moose/Util.pm line 99
Moose::Util::apply_all_roles('Moose::Meta::Role=HASH(0x2614200)', 'Net::HTTP::Spore::Meta::Method::Spore') called at /home/test/perl5/perlbrew/perls/perl-5.15.4-ld/lib/site_perl/5.15.4/x86_64-linux-ld/Moose/Role.pm line 29
Moose::Role::with('Moose::Meta::Role=HASH(0x2614200)', 'Net::HTTP::Spore::Meta::Method::Spore') called at /home/test/perl5/perlbrew/perls/perl-5.15.4-ld/lib/site_perl/5.15.4/x86_64-linux-ld/Moose/Exporter.pm line 370
Moose::Role::with('Net::HTTP::Spore::Meta::Method::Spore') called at /home/test/.cpan/build/Net-HTTP-Spore-0.04-EAo4_i/blib/lib/Net/HTTP/Spore/Meta/Class.pm line 10
require Net/HTTP/Spore/Meta/Class.pm called at /home/test/perl5/perlbrew/perls/perl-5.15.4-ld/lib/site_perl/5.15.4/Module/Runtime.pm line 205
Module::Runtime::require_module('Net::HTTP::Spore::Meta::Class') called at /home/test/perl5/perlbrew/perls/perl-5.15.4-ld/lib/site_perl/5.15.4/Class/Load.pm line 199
Class::Load::__ANON__() called at /home/test/perl5/perlbrew/perls/perl-5.15.4-ld/lib/site_perl/5.15.4/Try/Tiny.pm line 71
eval {...} called at /home/test/perl5/perlbrew/perls/perl-5.15.4-ld/lib/site_perl/5.15.4/Try/Tiny.pm line 67
Try::Tiny::try('CODE(0x2602088)', 'Try::Tiny::Catch=REF(0x2512598)') called at /home/test/perl5/perlbrew/perls/perl-5.15.4-ld/lib/site_perl/5.15.4/Class/Load.pm line 205
Class::Load::try_load_class('Net::HTTP::Spore::Meta::Class', undef) called at /home/test/perl5/perlbrew/perls/perl-5.15.4-ld/lib/site_perl/5.15.4/Class/Load.pm line 64
Class::Load::load_class('Net::HTTP::Spore::Meta::Class', undef) called at /home/test/perl5/perlbrew/perls/perl-5.15.4-ld/lib/site_perl/5.15.4/x86_64-linux-ld/Moose/Util.pm line 132
Moose::Util::_apply_all_roles('Moose::Meta::Class=HASH(0x2602598)', undef, 'Net::HTTP::Spore::Meta::Class') called at /home/test/perl5/perlbrew/perls/perl-5.15.4-ld/lib/site_perl/5.15.4/x86_64-linux-ld/Moose/Util.pm line 99
Moose::Util::apply_all_roles('Moose::Meta::Class=HASH(0x2602598)', 'Net::HTTP::Spore::Meta::Class') called at /home/test/perl5/perlbrew/perls/perl-5.15.4-ld/lib/site_perl/5.15.4/x86_64-linux-ld/Moose/Meta/Class.pm line 104
Moose::Meta::Class::create('Moose::Meta::Class', 'Moose::Meta::Class::__ANON__::SERIAL::1', 'roles', 'ARRAY(0x2556898)', 'weaken', '', 'superclasses', 'ARRAY(0x26020d0)') called at /home/test/perl5/perlbrew/perls/perl-5.15.4-ld/lib/site_perl/5.15.4/x86_64-linux-ld/Class/MOP/Package.pm line 120
Class::MOP::Package::create_anon('Moose::Meta::Class', 'superclasses', 'ARRAY(0x26020d0)', 'roles', 'ARRAY(0x2556898)', 'cache', 1) called at /home/test/perl5/perlbrew/perls/perl-5.15.4-ld/lib/site_perl/5.15.4/x86_64-linux-ld/Class/MOP/Class.pm line 474
Class::MOP::Class::create_anon_class('Moose::Meta::Class', 'superclasses', 'ARRAY(0x26020d0)', 'roles', 'ARRAY(0x2556898)', 'cache', 1) called at /home/test/perl5/perlbrew/perls/perl-5.15.4-ld/lib/site_perl/5.15.4/x86_64-linux-ld/Moose/Util/MetaRole.pm line 134
Moose::Util::MetaRole::_make_new_class('Moose::Meta::Class', 'ARRAY(0x2556898)') called at /home/test/perl5/perlbrew/perls/perl-5.15.4-ld/lib/site_perl/5.15.4/x86_64-linux-ld/Moose/Util/MetaRole.pm line 79
Moose::Util::MetaRole::_make_new_metaclass('Moose::Meta::Class=HASH(0x25fe798)', 'HASH(0x2553730)', 'class') called at /home/test/perl5/perlbrew/perls/perl-5.15.4-ld/lib/site_perl/5.15.4/x86_64-linux-ld/Moose/Util/MetaRole.pm line 28
Moose::Util::MetaRole::apply_metaroles('for', 'Net::HTTP::Spore::Core', 'class_metaroles', 'HASH(0x2553730)') called at /home/test/.cpan/build/Net-HTTP-Spore-0.04-EAo4_i/blib/lib/Net/HTTP/Spore/Meta.pm line 28
Net::HTTP::Spore::Meta::init_meta('Net::HTTP::Spore::Meta', 'for_class', 'MooseX::Types::URI', 'metaclass', undef, 'meta_name', 'meta') called at /home/test/perl5/perlbrew/perls/perl-5.15.4-ld/lib/site_perl/5.15.4/x86_64-linux-ld/Moose/Exporter.pm line 435
Moose::Exporter::__ANON__('Net::HTTP::Spore::Meta') called at /home/test/.cpan/build/Net-HTTP-Spore-0.04-EAo4_i/blib/lib/Net/HTTP/Spore/Core.pm line 6
Net::HTTP::Spore::Core::BEGIN() called at /home/test/perl5/perlbrew/perls/perl-5.15.4-ld/lib/site_perl/5.15.4/MooseX/Types/URI.pm line 0
eval {...} called at /home/test/perl5/perlbrew/perls/perl-5.15.4-ld/lib/site_perl/5.15.4/MooseX/Types/URI.pm line 0
require Net/HTTP/Spore/Core.pm called at /home/test/.cpan/build/Net-HTTP-Spore-0.04-EAo4_i/blib/lib/Net/HTTP/Spore.pm line 13
Net::HTTP::Spore::BEGIN() called at /home/test/perl5/perlbrew/perls/perl-5.15.4-ld/lib/site_perl/5.15.4/MooseX/Types/URI.pm line 0
eval {...} called at /home/test/perl5/perlbrew/perls/perl-5.15.4-ld/lib/site_perl/5.15.4/MooseX/Types/URI.pm line 0
require Net/HTTP/Spore.pm called at t/spore-middleware/format-auto.t line 9
main::BEGIN() called at /home/test/perl5/perlbrew/perls/perl-5.15.4-ld/lib/site_perl/5.15.4/MooseX/Types/URI.pm line 0
eval {...} called at /home/test/perl5/perlbrew/perls/perl-5.15.4-ld/lib/site_perl/5.15.4/MooseX/Types/URI.pm line 0
t/spore-middleware/format-auto.t ..... ok
Providing an optimized subroutine ref for type constraints is deprecated. Use the inlining feature (inline_as) instead. at /home/test/.cpan/build/Net-HTTP-Spore-0.04-EAo4_i/blib/lib/Net/HTTP/Spore/Meta/Method.pm line 13
Net::HTTP::Spore::Meta::Method::BEGIN() called at /home/test/perl5/perlbrew/perls/perl-5.15.4-ld/lib/site_perl/5.15.4/MooseX/Types/URI.pm line 0
eval {...} called at /home/test/perl5/perlbrew/perls/perl-5.15.4-ld/lib/site_perl/5.15.4/MooseX/Types/URI.pm line 0
require Net/HTTP/Spore/Meta/Method.pm called at /home/test/.cpan/build/Net-HTTP-Spore-0.04-EAo4_i/blib/lib/Net/HTTP/Spore/Meta/Method/Spore.pm line 11
Net::HTTP::Spore::Meta::Method::Spore::BEGIN() called at /home/test/perl5/perlbrew/perls/perl-5.15.4-ld/lib/site_perl/5.15.4/MooseX/Types/URI.pm line 0
eval {...} called at /home/test/perl5/perlbrew/perls/perl-5.15.4-ld/lib/site_perl/5.15.4/MooseX/Types/URI.pm line 0
require Net/HTTP/Spore/Meta/Method/Spore.pm called at /home/test/perl5/perlbrew/perls/perl-5.15.4-ld/lib/site_perl/5.15.4/Module/Runtime.pm line 205
Module::Runtime::require_module('Net::HTTP::Spore::Meta::Method::Spore') called at /home/test/perl5/perlbrew/perls/perl-5.15.4-ld/lib/site_perl/5.15.4/Class/Load.pm line 199
Class::Load::__ANON__() called at /home/test/perl5/perlbrew/perls/perl-5.15.4-ld/lib/site_perl/5.15.4/Try/Tiny.pm line 71
eval {...} called at /home/test/perl5/perlbrew/perls/perl-5.15.4-ld/lib/site_perl/5.15.4/Try/Tiny.pm line 67
Try::Tiny::try('CODE(0x3013bd0)', 'Try::Tiny::Catch=REF(0x2ff0170)') called at /home/test/perl5/perlbrew/perls/perl-5.15.4-ld/lib/site_perl/5.15.4/Class/Load.pm line 205
Class::Load::try_load_class('Net::HTTP::Spore::Meta::Method::Spore', undef) called at /home/test/perl5/perlbrew/perls/perl-5.15.4-ld/lib/site_perl/5.15.4/Class/Load.pm line 64
Class::Load::load_class('Net::HTTP::Spore::Meta::Method::Spore', undef) called at /home/test/perl5/perlbrew/perls/perl-5.15.4-ld/lib/site_perl/5.15.4/x86_64-linux-ld/Moose/Util.pm line 132
Moose::Util::_apply_all_roles('Moose::Meta::Role=HASH(0x2ffe288)', undef, 'Net::HTTP::Spore::Meta::Method::Spore') called at /home/test/perl5/perlbrew/perls/perl-5.15.4-ld/lib/site_perl/5.15.4/x86_64-linux-ld/Moose/Util.pm line 99
Moose::Util::apply_all_roles('Moose::Meta::Role=HASH(0x2ffe288)', 'Net::HTTP::Spore::Meta::Method::Spore') called at /home/test/perl5/perlbrew/perls/perl-5.15.4-ld/lib/site_perl/5.15.4/x86_64-linux-ld/Moose/Role.pm line 29
Moose::Role::with('Moose::Meta::Role=HASH(0x2ffe288)', 'Net::HTTP::Spore::Meta::Method::Spore') called at /home/test/perl5/perlbrew/perls/perl-5.15.4-ld/lib/site_perl/5.15.4/x86_64-linux-ld/Moose/Exporter.pm line 370
Moose::Role::with('Net::HTTP::Spore::Meta::Method::Spore') called at /home/test/.cpan/build/Net-HTTP-Spore-0.04-EAo4_i/blib/lib/Net/HTTP/Spore/Meta/Class.pm line 10
require Net/HTTP/Spore/Meta/Class.pm called at /home/test/perl5/perlbrew/perls/perl-5.15.4-ld/lib/site_perl/5.15.4/Module/Runtime.pm line 205
Module::Runtime::require_module('Net::HTTP::Spore::Meta::Class') called at /home/test/perl5/perlbrew/perls/perl-5.15.4-ld/lib/site_perl/5.15.4/Class/Load.pm line 199
Class::Load::__ANON__() called at /home/test/perl5/perlbrew/perls/perl-5.15.4-ld/lib/site_perl/5.15.4/Try/Tiny.pm line 71
eval {...} called at /home/test/perl5/perlbrew/perls/perl-5.15.4-ld/lib/site_perl/5.15.4/Try/Tiny.pm line 67
Try::Tiny::try('CODE(0x2fecff0)', 'Try::Tiny::Catch=REF(0x2efc510)') called at /home/test/perl5/perlbrew/perls/perl-5.15.4-ld/lib/site_perl/5.15.4/Class/Load.pm line 205
Class::Load::try_load_class('Net::HTTP::Spore::Meta::Class', undef) called at /home/test/perl5/perlbrew/perls/perl-5.15.4-ld/lib/site_perl/5.15.4/Class/Load.pm line 64
Class::Load::load_class('Net::HTTP::Spore::Meta::Class', undef) called at /home/test/perl5/perlbrew/perls/perl-5.15.4-ld/lib/site_perl/5.15.4/x86_64-linux-ld/Moose/Util.pm line 132
Moose::Util::_apply_all_roles('Moose::Meta::Class=HASH(0x2fed500)', undef, 'Net::HTTP::Spore::Meta::Class') called at /home/test/perl5/perlbrew/perls/perl-5.15.4-ld/lib/site_perl/5.15.4/x86_64-linux-ld/Moose/Util.pm line 99
Moose::Util::apply_all_roles('Moose::Meta::Class=HASH(0x2fed500)', 'Net::HTTP::Spore::Meta::Class') called at /home/test/perl5/perlbrew/perls/perl-5.15.4-ld/lib/site_perl/5.15.4/x86_64-linux-ld/Moose/Meta/Class.pm line 104
Moose::Meta::Class::create('Moose::Meta::Class', 'Moose::Meta::Class::__ANON__::SERIAL::1', 'roles', 'ARRAY(0x2f63388)', 'weaken', '', 'superclasses', 'ARRAY(0x2fed038)') called at /home/test/perl5/perlbrew/perls/perl-5.15.4-ld/lib/site_perl/5.15.4/x86_64-linux-ld/Class/MOP/Package.pm line 120
Class::MOP::Package::create_anon('Moose::Meta::Class', 'superclasses', 'ARRAY(0x2fed038)', 'roles', 'ARRAY(0x2f63388)', 'cache', 1) called at /home/test/perl5/perlbrew/perls/perl-5.15.4-ld/lib/site_perl/5.15.4/x86_64-linux-ld/Class/MOP/Class.pm line 474
Class::MOP::Class::create_anon_class('Moose::Meta::Class', 'superclasses', 'ARRAY(0x2fed038)', 'roles', 'ARRAY(0x2f63388)', 'cache', 1) called at /home/test/perl5/perlbrew/perls/perl-5.15.4-ld/lib/site_perl/5.15.4/x86_64-linux-ld/Moose/Util/MetaRole.pm line 134
Moose::Util::MetaRole::_make_new_class('Moose::Meta::Class', 'ARRAY(0x2f63388)') called at /home/test/perl5/perlbrew/perls/perl-5.15.4-ld/lib/site_perl/5.15.4/x86_64-linux-ld/Moose/Util/MetaRole.pm line 79
Moose::Util::MetaRole::_make_new_metaclass('Moose::Meta::Class=HASH(0x2fe86b0)', 'HASH(0x2f3d878)', 'class') called at /home/test/perl5/perlbrew/perls/perl-5.15.4-ld/lib/site_perl/5.15.4/x86_64-linux-ld/Moose/Util/MetaRole.pm line 28
Moose::Util::MetaRole::apply_metaroles('for', 'Net::HTTP::Spore::Core', 'class_metaroles', 'HASH(0x2f3d878)') called at /home/test/.cpan/build/Net-HTTP-Spore-0.04-EAo4_i/blib/lib/Net/HTTP/Spore/Meta.pm line 28
Net::HTTP::Spore::Meta::init_meta('Net::HTTP::Spore::Meta', 'for_class', 'MooseX::Types::URI', 'metaclass', undef, 'meta_name', 'meta') called at /home/test/perl5/perlbrew/perls/perl-5.15.4-ld/lib/site_perl/5.15.4/x86_64-linux-ld/Moose/Exporter.pm line 435
Moose::Exporter::__ANON__('Net::HTTP::Spore::Meta') called at /home/test/.cpan/build/Net-HTTP-Spore-0.04-EAo4_i/blib/lib/Net/HTTP/Spore/Core.pm line 6
Net::HTTP::Spore::Core::BEGIN() called at /home/test/perl5/perlbrew/perls/perl-5.15.4-ld/lib/site_perl/5.15.4/MooseX/Types/URI.pm line 0
eval {...} called at /home/test/perl5/perlbrew/perls/perl-5.15.4-ld/lib/site_perl/5.15.4/MooseX/Types/URI.pm line 0
require Net/HTTP/Spore/Core.pm called at /home/test/.cpan/build/Net-HTTP-Spore-0.04-EAo4_i/blib/lib/Net/HTTP/Spore.pm line 13
Net::HTTP::Spore::BEGIN() called at /home/test/perl5/perlbrew/perls/perl-5.15.4-ld/lib/site_perl/5.15.4/MooseX/Types/URI.pm line 0
eval {...} called at /home/test/perl5/perlbrew/perls/perl-5.15.4-ld/lib/site_perl/5.15.4/MooseX/Types/URI.pm line 0
require Net/HTTP/Spore.pm called at t/spore-middleware/format-json.t line 7
main::BEGIN() called at /home/test/perl5/perlbrew/perls/perl-5.15.4-ld/lib/site_perl/5.15.4/MooseX/Types/URI.pm line 0
eval {...} called at /home/test/perl5/perlbrew/perls/perl-5.15.4-ld/lib/site_perl/5.15.4/MooseX/Types/URI.pm line 0
t/spore-middleware/format-json.t ..... ok
Providing an optimized subroutine ref for type constraints is deprecated. Use the inlining feature (inline_as) instead. at /home/test/.cpan/build/Net-HTTP-Spore-0.04-EAo4_i/blib/lib/Net/HTTP/Spore/Meta/Method.pm line 13
Net::HTTP::Spore::Meta::Method::BEGIN() called at /home/test/perl5/perlbrew/perls/perl-5.15.4-ld/lib/site_perl/5.15.4/MooseX/Types/URI.pm line 0
eval {...} called at /home/test/perl5/perlbrew/perls/perl-5.15.4-ld/lib/site_perl/5.15.4/MooseX/Types/URI.pm line 0
require Net/HTTP/Spore/Meta/Method.pm called at /home/test/.cpan/build/Net-HTTP-Spore-0.04-EAo4_i/blib/lib/Net/HTTP/Spore/Meta/Method/Spore.pm line 11
Net::HTTP::Spore::Meta::Method::Spore::BEGIN() called at /home/test/perl5/perlbrew/perls/perl-5.15.4-ld/lib/site_perl/5.15.4/MooseX/Types/URI.pm line 0
eval {...} called at /home/test/perl5/perlbrew/perls/perl-5.15.4-ld/lib/site_perl/5.15.4/MooseX/Types/URI.pm line 0
require Net/HTTP/Spore/Meta/Method/Spore.pm called at /home/test/perl5/perlbrew/perls/perl-5.15.4-ld/lib/site_perl/5.15.4/Module/Runtime.pm line 205
Module::Runtime::require_module('Net::HTTP::Spore::Meta::Method::Spore') called at /home/test/perl5/perlbrew/perls/perl-5.15.4-ld/lib/site_perl/5.15.4/Class/Load.pm line 199
Class::Load::__ANON__() called at /home/test/perl5/perlbrew/perls/perl-5.15.4-ld/lib/site_perl/5.15.4/Try/Tiny.pm line 71
eval {...} called at /home/test/perl5/perlbrew/perls/perl-5.15.4-ld/lib/site_perl/5.15.4/Try/Tiny.pm line 67
Try::Tiny::try('CODE(0x2becd78)', 'Try::Tiny::Catch=REF(0x2c071a0)') called at /home/test/perl5/perlbrew/perls/perl-5.15.4-ld/lib/site_perl/5.15.4/Class/Load.pm line 205
Class::Load::try_load_class('Net::HTTP::Spore::Meta::Method::Spore', undef) called at /home/test/perl5/perlbrew/perls/perl-5.15.4-ld/lib/site_perl/5.15.4/Class/Load.pm line 64
Class::Load::load_class('Net::HTTP::Spore::Meta::Method::Spore', undef) called at /home/test/perl5/perlbrew/perls/perl-5.15.4-ld/lib/site_perl/5.15.4/x86_64-linux-ld/Moose/Util.pm line 132
Moose::Util::_apply_all_roles('Moose::Meta::Role=HASH(0x2c0d368)', undef, 'Net::HTTP::Spore::Meta::Method::Spore') called at /home/test/perl5/perlbrew/perls/perl-5.15.4-ld/lib/site_perl/5.15.4/x86_64-linux-ld/Moose/Util.pm line 99
Moose::Util::apply_all_roles('Moose::Meta::Role=HASH(0x2c0d368)', 'Net::HTTP::Spore::Meta::Method::Spore') called at /home/test/perl5/perlbrew/perls/perl-5.15.4-ld/lib/site_perl/5.15.4/x86_64-linux-ld/Moose/Role.pm line 29
Moose::Role::with('Moose::Meta::Role=HASH(0x2c0d368)', 'Net::HTTP::Spore::Meta::Method::Spore') called at /home/test/perl5/perlbrew/perls/perl-5.15.4-ld/lib/site_perl/5.15.4/x86_64-linux-ld/Moose/Exporter.pm line 370
Moose::Role::with('Net::HTTP::Spore::Meta::Method::Spore') called at /home/test/.cpan/build/Net-HTTP-Spore-0.04-EAo4_i/blib/lib/Net/HTTP/Spore/Meta/Class.pm line 10
require Net/HTTP/Spore/Meta/Class.pm called at /home/test/perl5/perlbrew/perls/perl-5.15.4-ld/lib/site_perl/5.15.4/Module/Runtime.pm line 205
Module::Runtime::require_module('Net::HTTP::Spore::Meta::Class') called at /home/test/perl5/perlbrew/perls/perl-5.15.4-ld/lib/site_perl/5.15.4/Class/Load.pm line 199
Class::Load::__ANON__() called at /home/test/perl5/perlbrew/perls/perl-5.15.4-ld/lib/site_perl/5.15.4/Try/Tiny.pm line 71
eval {...} called at /home/test/perl5/perlbrew/perls/perl-5.15.4-ld/lib/site_perl/5.15.4/Try/Tiny.pm line 67
Try::Tiny::try('CODE(0x2c02bf0)', 'Try::Tiny::Catch=REF(0x2aaf588)') called at /home/test/perl5/perlbrew/perls/perl-5.15.4-ld/lib/site_perl/5.15.4/Class/Load.pm line 205
Class::Load::try_load_class('Net::HTTP::Spore::Meta::Class', undef) called at /home/test/perl5/perlbrew/perls/perl-5.15.4-ld/lib/site_perl/5.15.4/Class/Load.pm line 64
Class::Load::load_class('Net::HTTP::Spore::Meta::Class', undef) called at /home/test/perl5/perlbrew/perls/perl-5.15.4-ld/lib/site_perl/5.15.4/x86_64-linux-ld/Moose/Util.pm line 132
Moose::Util::_apply_all_roles('Moose::Meta::Class=HASH(0x2c03100)', undef, 'Net::HTTP::Spore::Meta::Class') called at /home/test/perl5/perlbrew/perls/perl-5.15.4-ld/lib/site_perl/5.15.4/x86_64-linux-ld/Moose/Util.pm line 99
Moose::Util::apply_all_roles('Moose::Meta::Class=HASH(0x2c03100)', 'Net::HTTP::Spore::Meta::Class') called at /home/test/perl5/perlbrew/perls/perl-5.15.4-ld/lib/site_perl/5.15.4/x86_64-linux-ld/Moose/Meta/Class.pm line 104
Moose::Meta::Class::create('Moose::Meta::Class', 'Moose::Meta::Class::__ANON__::SERIAL::1', 'roles', 'ARRAY(0x215e8b0)', 'weaken', '', 'superclasses', 'ARRAY(0x2c02c38)') called at /home/test/perl5/perlbrew/perls/perl-5.15.4-ld/lib/site_perl/5.15.4/x86_64-linux-ld/Class/MOP/Package.pm line 120
Class::MOP::Package::create_anon('Moose::Meta::Class', 'superclasses', 'ARRAY(0x2c02c38)', 'roles', 'ARRAY(0x215e8b0)', 'cache', 1) called at /home/test/perl5/perlbrew/perls/perl-5.15.4-ld/lib/site_perl/5.15.4/x86_64-linux-ld/Class/MOP/Class.pm line 474
Class::MOP::Class::create_anon_class('Moose::Meta::Class', 'superclasses', 'ARRAY(0x2c02c38)', 'roles', 'ARRAY(0x215e8b0)', 'cache', 1) called at /home/test/perl5/perlbrew/perls/perl-5.15.4-ld/lib/site_perl/5.15.4/x86_64-linux-ld/Moose/Util/MetaRole.pm line 134
Moose::Util::MetaRole::_make_new_class('Moose::Meta::Class', 'ARRAY(0x215e8b0)') called at /home/test/perl5/perlbrew/perls/perl-5.15.4-ld/lib/site_perl/5.15.4/x86_64-linux-ld/Moose/Util/MetaRole.pm line 79
Moose::Util::MetaRole::_make_new_metaclass('Moose::Meta::Class=HASH(0x2bfa0b0)', 'HASH(0x2af38b0)', 'class') called at /home/test/perl5/perlbrew/perls/perl-5.15.4-ld/lib/site_perl/5.15.4/x86_64-linux-ld/Moose/Util/MetaRole.pm line 28
Moose::Util::MetaRole::apply_metaroles('for', 'Net::HTTP::Spore::Core', 'class_metaroles', 'HASH(0x2af38b0)') called at /home/test/.cpan/build/Net-HTTP-Spore-0.04-EAo4_i/blib/lib/Net/HTTP/Spore/Meta.pm line 28
Net::HTTP::Spore::Meta::init_meta('Net::HTTP::Spore::Meta', 'for_class', 'MooseX::Types::URI', 'metaclass', undef, 'meta_name', 'meta') called at /home/test/perl5/perlbrew/perls/perl-5.15.4-ld/lib/site_perl/5.15.4/x86_64-linux-ld/Moose/Exporter.pm line 435
Moose::Exporter::__ANON__('Net::HTTP::Spore::Meta') called at /home/test/.cpan/build/Net-HTTP-Spore-0.04-EAo4_i/blib/lib/Net/HTTP/Spore/Core.pm line 6
Net::HTTP::Spore::Core::BEGIN() called at /home/test/perl5/perlbrew/perls/perl-5.15.4-ld/lib/site_perl/5.15.4/MooseX/Types/URI.pm line 0
eval {...} called at /home/test/perl5/perlbrew/perls/perl-5.15.4-ld/lib/site_perl/5.15.4/MooseX/Types/URI.pm line 0
require Net/HTTP/Spore/Core.pm called at /home/test/.cpan/build/Net-HTTP-Spore-0.04-EAo4_i/blib/lib/Net/HTTP/Spore.pm line 13
Net::HTTP::Spore::BEGIN() called at /home/test/perl5/perlbrew/perls/perl-5.15.4-ld/lib/site_perl/5.15.4/MooseX/Types/URI.pm line 0
eval {...} called at /home/test/perl5/perlbrew/perls/perl-5.15.4-ld/lib/site_perl/5.15.4/MooseX/Types/URI.pm line 0
require Net/HTTP/Spore.pm called at t/spore-middleware/format-xml.t line 7
main::BEGIN() called at /home/test/perl5/perlbrew/perls/perl-5.15.4-ld/lib/site_perl/5.15.4/MooseX/Types/URI.pm line 0
eval {...} called at /home/test/perl5/perlbrew/perls/perl-5.15.4-ld/lib/site_perl/5.15.4/MooseX/Types/URI.pm line 0
t/spore-middleware/format-xml.t ...... ok
Providing an optimized subroutine ref for type constraints is deprecated. Use the inlining feature (inline_as) instead. at /home/test/.cpan/build/Net-HTTP-Spore-0.04-EAo4_i/blib/lib/Net/HTTP/Spore/Meta/Method.pm line 13
Net::HTTP::Spore::Meta::Method::BEGIN() called at /home/test/perl5/perlbrew/perls/perl-5.15.4-ld/lib/site_perl/5.15.4/MooseX/Types/URI.pm line 0
eval {...} called at /home/test/perl5/perlbrew/perls/perl-5.15.4-ld/lib/site_perl/5.15.4/MooseX/Types/URI.pm line 0
require Net/HTTP/Spore/Meta/Method.pm called at /home/test/.cpan/build/Net-HTTP-Spore-0.04-EAo4_i/blib/lib/Net/HTTP/Spore/Meta/Method/Spore.pm line 11
Net::HTTP::Spore::Meta::Method::Spore::BEGIN() called at /home/test/perl5/perlbrew/perls/perl-5.15.4-ld/lib/site_perl/5.15.4/MooseX/Types/URI.pm line 0
eval {...} called at /home/test/perl5/perlbrew/perls/perl-5.15.4-ld/lib/site_perl/5.15.4/MooseX/Types/URI.pm line 0
require Net/HTTP/Spore/Meta/Method/Spore.pm called at /home/test/perl5/perlbrew/perls/perl-5.15.4-ld/lib/site_perl/5.15.4/Module/Runtime.pm line 205
Module::Runtime::require_module('Net::HTTP::Spore::Meta::Method::Spore') called at /home/test/perl5/perlbrew/perls/perl-5.15.4-ld/lib/site_perl/5.15.4/Class/Load.pm line 199
Class::Load::__ANON__() called at /home/test/perl5/perlbrew/perls/perl-5.15.4-ld/lib/site_perl/5.15.4/Try/Tiny.pm line 71
eval {...} called at /home/test/perl5/perlbrew/perls/perl-5.15.4-ld/lib/site_perl/5.15.4/Try/Tiny.pm line 67
Try::Tiny::try('CODE(0x17f9c60)', 'Try::Tiny::Catch=REF(0x17b5770)') called at /home/test/perl5/perlbrew/perls/perl-5.15.4-ld/lib/site_perl/5.15.4/Class/Load.pm line 205
Class::Load::try_load_class('Net::HTTP::Spore::Meta::Method::Spore', undef) called at /home/test/perl5/perlbrew/perls/perl-5.15.4-ld/lib/site_perl/5.15.4/Class/Load.pm line 64
Class::Load::load_class('Net::HTTP::Spore::Meta::Method::Spore', undef) called at /home/test/perl5/perlbrew/perls/perl-5.15.4-ld/lib/site_perl/5.15.4/x86_64-linux-ld/Moose/Util.pm line 132
Moose::Util::_apply_all_roles('Moose::Meta::Role=HASH(0x17c0370)', undef, 'Net::HTTP::Spore::Meta::Method::Spore') called at /home/test/perl5/perlbrew/perls/perl-5.15.4-ld/lib/site_perl/5.15.4/x86_64-linux-ld/Moose/Util.pm line 99
Moose::Util::apply_all_roles('Moose::Meta::Role=HASH(0x17c0370)', 'Net::HTTP::Spore::Meta::Method::Spore') called at /home/test/perl5/perlbrew/perls/perl-5.15.4-ld/lib/site_perl/5.15.4/x86_64-linux-ld/Moose/Role.pm line 29
Moose::Role::with('Moose::Meta::Role=HASH(0x17c0370)', 'Net::HTTP::Spore::Meta::Method::Spore') called at /home/test/perl5/perlbrew/perls/perl-5.15.4-ld/lib/site_perl/5.15.4/x86_64-linux-ld/Moose/Exporter.pm line 370
Moose::Role::with('Net::HTTP::Spore::Meta::Method::Spore') called at /home/test/.cpan/build/Net-HTTP-Spore-0.04-EAo4_i/blib/lib/Net/HTTP/Spore/Meta/Class.pm line 10
require Net/HTTP/Spore/Meta/Class.pm called at /home/test/perl5/perlbrew/perls/perl-5.15.4-ld/lib/site_perl/5.15.4/Module/Runtime.pm line 205
Module::Runtime::require_module('Net::HTTP::Spore::Meta::Class') called at /home/test/perl5/perlbrew/perls/perl-5.15.4-ld/lib/site_perl/5.15.4/Class/Load.pm line 199
Class::Load::__ANON__() called at /home/test/perl5/perlbrew/perls/perl-5.15.4-ld/lib/site_perl/5.15.4/Try/Tiny.pm line 71
eval {...} called at /home/test/perl5/perlbrew/perls/perl-5.15.4-ld/lib/site_perl/5.15.4/Try/Tiny.pm line 67
Try::Tiny::try('CODE(0x17b4bb8)', 'Try::Tiny::Catch=REF(0x1663f08)') called at /home/test/perl5/perlbrew/perls/perl-5.15.4-ld/lib/site_perl/5.15.4/Class/Load.pm line 205
Class::Load::try_load_class('Net::HTTP::Spore::Meta::Class', undef) called at /home/test/perl5/perlbrew/perls/perl-5.15.4-ld/lib/site_perl/5.15.4/Class/Load.pm line 64
Class::Load::load_class('Net::HTTP::Spore::Meta::Class', undef) called at /home/test/perl5/perlbrew/perls/perl-5.15.4-ld/lib/site_perl/5.15.4/x86_64-linux-ld/Moose/Util.pm line 132
Moose::Util::_apply_all_roles('Moose::Meta::Class=HASH(0x17b50c8)', undef, 'Net::HTTP::Spore::Meta::Class') called at /home/test/perl5/perlbrew/perls/perl-5.15.4-ld/lib/site_perl/5.15.4/x86_64-linux-ld/Moose/Util.pm line 99
Moose::Util::apply_all_roles('Moose::Meta::Class=HASH(0x17b50c8)', 'Net::HTTP::Spore::Meta::Class') called at /home/test/perl5/perlbrew/perls/perl-5.15.4-ld/lib/site_perl/5.15.4/x86_64-linux-ld/Moose/Meta/Class.pm line 104
Moose::Meta::Class::create('Moose::Meta::Class', 'Moose::Meta::Class::__ANON__::SERIAL::1', 'roles', 'ARRAY(0xc3f4b8)', 'weaken', '', 'superclasses', 'ARRAY(0x17b4c00)') called at /home/test/perl5/perlbrew/perls/perl-5.15.4-ld/lib/site_perl/5.15.4/x86_64-linux-ld/Class/MOP/Package.pm line 120
Class::MOP::Package::create_anon('Moose::Meta::Class', 'superclasses', 'ARRAY(0x17b4c00)', 'roles', 'ARRAY(0xc3f4b8)', 'cache', 1) called at /home/test/perl5/perlbrew/perls/perl-5.15.4-ld/lib/site_perl/5.15.4/x86_64-linux-ld/Class/MOP/Class.pm line 474
Class::MOP::Class::create_anon_class('Moose::Meta::Class', 'superclasses', 'ARRAY(0x17b4c00)', 'roles', 'ARRAY(0xc3f4b8)', 'cache', 1) called at /home/test/perl5/perlbrew/perls/perl-5.15.4-ld/lib/site_perl/5.15.4/x86_64-linux-ld/Moose/Util/MetaRole.pm line 134
Moose::Util::MetaRole::_make_new_class('Moose::Meta::Class', 'ARRAY(0xc3f4b8)') called at /home/test/perl5/perlbrew/perls/perl-5.15.4-ld/lib/site_perl/5.15.4/x86_64-linux-ld/Moose/Util/MetaRole.pm line 79
Moose::Util::MetaRole::_make_new_metaclass('Moose::Meta::Class=HASH(0x17ad0f8)', 'HASH(0x16a6120)', 'class') called at /home/test/perl5/perlbrew/perls/perl-5.15.4-ld/lib/site_perl/5.15.4/x86_64-linux-ld/Moose/Util/MetaRole.pm line 28
Moose::Util::MetaRole::apply_metaroles('for', 'Net::HTTP::Spore::Core', 'class_metaroles', 'HASH(0x16a6120)') called at /home/test/.cpan/build/Net-HTTP-Spore-0.04-EAo4_i/blib/lib/Net/HTTP/Spore/Meta.pm line 28
Net::HTTP::Spore::Meta::init_meta('Net::HTTP::Spore::Meta', 'for_class', 'MooseX::Types::URI', 'metaclass', undef, 'meta_name', 'meta') called at /home/test/perl5/perlbrew/perls/perl-5.15.4-ld/lib/site_perl/5.15.4/x86_64-linux-ld/Moose/Exporter.pm line 435
Moose::Exporter::__ANON__('Net::HTTP::Spore::Meta') called at /home/test/.cpan/build/Net-HTTP-Spore-0.04-EAo4_i/blib/lib/Net/HTTP/Spore/Core.pm line 6
Net::HTTP::Spore::Core::BEGIN() called at /home/test/perl5/perlbrew/perls/perl-5.15.4-ld/lib/site_perl/5.15.4/MooseX/Types/URI.pm line 0
eval {...} called at /home/test/perl5/perlbrew/perls/perl-5.15.4-ld/lib/site_perl/5.15.4/MooseX/Types/URI.pm line 0
require Net/HTTP/Spore/Core.pm called at /home/test/.cpan/build/Net-HTTP-Spore-0.04-EAo4_i/blib/lib/Net/HTTP/Spore.pm line 13
Net::HTTP::Spore::BEGIN() called at /home/test/perl5/perlbrew/perls/perl-5.15.4-ld/lib/site_perl/5.15.4/MooseX/Types/URI.pm line 0
eval {...} called at /home/test/perl5/perlbrew/perls/perl-5.15.4-ld/lib/site_perl/5.15.4/MooseX/Types/URI.pm line 0
require Net/HTTP/Spore.pm called at t/spore-middleware/format-yaml.t line 7
main::BEGIN() called at /home/test/perl5/perlbrew/perls/perl-5.15.4-ld/lib/site_perl/5.15.4/MooseX/Types/URI.pm line 0
eval {...} called at /home/test/perl5/perlbrew/perls/perl-5.15.4-ld/lib/site_perl/5.15.4/MooseX/Types/URI.pm line 0
t/spore-middleware/format-yaml.t ..... ok
Providing an optimized subroutine ref for type constraints is deprecated. Use the inlining feature (inline_as) instead. at /home/test/.cpan/build/Net-HTTP-Spore-0.04-EAo4_i/blib/lib/Net/HTTP/Spore/Meta/Method.pm line 13
Net::HTTP::Spore::Meta::Method::BEGIN() called at /home/test/perl5/perlbrew/perls/perl-5.15.4-ld/lib/site_perl/5.15.4/MooseX/Types/URI.pm line 0
eval {...} called at /home/test/perl5/perlbrew/perls/perl-5.15.4-ld/lib/site_perl/5.15.4/MooseX/Types/URI.pm line 0
require Net/HTTP/Spore/Meta/Method.pm called at /home/test/.cpan/build/Net-HTTP-Spore-0.04-EAo4_i/blib/lib/Net/HTTP/Spore/Meta/Method/Spore.pm line 11
Net::HTTP::Spore::Meta::Method::Spore::BEGIN() called at /home/test/perl5/perlbrew/perls/perl-5.15.4-ld/lib/site_perl/5.15.4/MooseX/Types/URI.pm line 0
eval {...} called at /home/test/perl5/perlbrew/perls/perl-5.15.4-ld/lib/site_perl/5.15.4/MooseX/Types/URI.pm line 0
require Net/HTTP/Spore/Meta/Method/Spore.pm called at /home/test/perl5/perlbrew/perls/perl-5.15.4-ld/lib/site_perl/5.15.4/Module/Runtime.pm line 205
Module::Runtime::require_module('Net::HTTP::Spore::Meta::Method::Spore') called at /home/test/perl5/perlbrew/perls/perl-5.15.4-ld/lib/site_perl/5.15.4/Class/Load.pm line 199
Class::Load::__ANON__() called at /home/test/perl5/perlbrew/perls/perl-5.15.4-ld/lib/site_perl/5.15.4/Try/Tiny.pm line 71
eval {...} called at /home/test/perl5/perlbrew/perls/perl-5.15.4-ld/lib/site_perl/5.15.4/Try/Tiny.pm line 67
Try::Tiny::try('CODE(0x2a90bf8)', 'Try::Tiny::Catch=REF(0x2a4cea8)') called at /home/test/perl5/perlbrew/perls/perl-5.15.4-ld/lib/site_perl/5.15.4/Class/Load.pm line 205
Class::Load::try_load_class('Net::HTTP::Spore::Meta::Method::Spore', undef) called at /home/test/perl5/perlbrew/perls/perl-5.15.4-ld/lib/site_perl/5.15.4/Class/Load.pm line 64
Class::Load::load_class('Net::HTTP::Spore::Meta::Method::Spore', undef) called at /home/test/perl5/perlbrew/perls/perl-5.15.4-ld/lib/site_perl/5.15.4/x86_64-linux-ld/Moose/Util.pm line 132
Moose::Util::_apply_all_roles('Moose::Meta::Role=HASH(0x2a53090)', undef, 'Net::HTTP::Spore::Meta::Method::Spore') called at /home/test/perl5/perlbrew/perls/perl-5.15.4-ld/lib/site_perl/5.15.4/x86_64-linux-ld/Moose/Util.pm line 99
Moose::Util::apply_all_roles('Moose::Meta::Role=HASH(0x2a53090)', 'Net::HTTP::Spore::Meta::Method::Spore') called at /home/test/perl5/perlbrew/perls/perl-5.15.4-ld/lib/site_perl/5.15.4/x86_64-linux-ld/Moose/Role.pm line 29
Moose::Role::with('Moose::Meta::Role=HASH(0x2a53090)', 'Net::HTTP::Spore::Meta::Method::Spore') called at /home/test/perl5/perlbrew/perls/perl-5.15.4-ld/lib/site_perl/5.15.4/x86_64-linux-ld/Moose/Exporter.pm line 370
Moose::Role::with('Net::HTTP::Spore::Meta::Method::Spore') called at /home/test/.cpan/build/Net-HTTP-Spore-0.04-EAo4_i/blib/lib/Net/HTTP/Spore/Meta/Class.pm line 10
require Net/HTTP/Spore/Meta/Class.pm called at /home/test/perl5/perlbrew/perls/perl-5.15.4-ld/lib/site_perl/5.15.4/Module/Runtime.pm line 205
Module::Runtime::require_module('Net::HTTP::Spore::Meta::Class') called at /home/test/perl5/perlbrew/perls/perl-5.15.4-ld/lib/site_perl/5.15.4/Class/Load.pm line 199
Class::Load::__ANON__() called at /home/test/perl5/perlbrew/perls/perl-5.15.4-ld/lib/site_perl/5.15.4/Try/Tiny.pm line 71
eval {...} called at /home/test/perl5/perlbrew/perls/perl-5.15.4-ld/lib/site_perl/5.15.4/Try/Tiny.pm line 67
Try::Tiny::try('CODE(0x2a30398)', 'Try::Tiny::Catch=REF(0x28f8fb8)') called at /home/test/perl5/perlbrew/perls/perl-5.15.4-ld/lib/site_perl/5.15.4/Class/Load.pm line 205
Class::Load::try_load_class('Net::HTTP::Spore::Meta::Class', undef) called at /home/test/perl5/perlbrew/perls/perl-5.15.4-ld/lib/site_perl/5.15.4/Class/Load.pm line 64
Class::Load::load_class('Net::HTTP::Spore::Meta::Class', undef) called at /home/test/perl5/perlbrew/perls/perl-5.15.4-ld/lib/site_perl/5.15.4/x86_64-linux-ld/Moose/Util.pm line 132
Moose::Util::_apply_all_roles('Moose::Meta::Class=HASH(0x2a308a8)', undef, 'Net::HTTP::Spore::Meta::Class') called at /home/test/perl5/perlbrew/perls/perl-5.15.4-ld/lib/site_perl/5.15.4/x86_64-linux-ld/Moose/Util.pm line 99
Moose::Util::apply_all_roles('Moose::Meta::Class=HASH(0x2a308a8)', 'Net::HTTP::Spore::Meta::Class') called at /home/test/perl5/perlbrew/perls/perl-5.15.4-ld/lib/site_perl/5.15.4/x86_64-linux-ld/Moose/Meta/Class.pm line 104
Moose::Meta::Class::create('Moose::Meta::Class', 'Moose::Meta::Class::__ANON__::SERIAL::1', 'roles', 'ARRAY(0x1fa4f40)', 'weaken', '', 'superclasses', 'ARRAY(0x2a303e0)') called at /home/test/perl5/perlbrew/perls/perl-5.15.4-ld/lib/site_perl/5.15.4/x86_64-linux-ld/Class/MOP/Package.pm line 120
Class::MOP::Package::create_anon('Moose::Meta::Class', 'superclasses', 'ARRAY(0x2a303e0)', 'roles', 'ARRAY(0x1fa4f40)', 'cache', 1) called at /home/test/perl5/perlbrew/perls/perl-5.15.4-ld/lib/site_perl/5.15.4/x86_64-linux-ld/Class/MOP/Class.pm line 474
Class::MOP::Class::create_anon_class('Moose::Meta::Class', 'superclasses', 'ARRAY(0x2a303e0)', 'roles', 'ARRAY(0x1fa4f40)', 'cache', 1) called at /home/test/perl5/perlbrew/perls/perl-5.15.4-ld/lib/site_perl/5.15.4/x86_64-linux-ld/Moose/Util/MetaRole.pm line 134
Moose::Util::MetaRole::_make_new_class('Moose::Meta::Class', 'ARRAY(0x1fa4f40)') called at /home/test/perl5/perlbrew/perls/perl-5.15.4-ld/lib/site_perl/5.15.4/x86_64-linux-ld/Moose/Util/MetaRole.pm line 79
Moose::Util::MetaRole::_make_new_metaclass('Moose::Meta::Class=HASH(0x2a3efb8)', 'HASH(0x290c7b0)', 'class') called at /home/test/perl5/perlbrew/perls/perl-5.15.4-ld/lib/site_perl/5.15.4/x86_64-linux-ld/Moose/Util/MetaRole.pm line 28
Moose::Util::MetaRole::apply_metaroles('for', 'Net::HTTP::Spore::Core', 'class_metaroles', 'HASH(0x290c7b0)') called at /home/test/.cpan/build/Net-HTTP-Spore-0.04-EAo4_i/blib/lib/Net/HTTP/Spore/Meta.pm line 28
Net::HTTP::Spore::Meta::init_meta('Net::HTTP::Spore::Meta', 'for_class', 'MooseX::Types::URI', 'metaclass', undef, 'meta_name', 'meta') called at /home/test/perl5/perlbrew/perls/perl-5.15.4-ld/lib/site_perl/5.15.4/x86_64-linux-ld/Moose/Exporter.pm line 435
Moose::Exporter::__ANON__('Net::HTTP::Spore::Meta') called at /home/test/.cpan/build/Net-HTTP-Spore-0.04-EAo4_i/blib/lib/Net/HTTP/Spore/Core.pm line 6
Net::HTTP::Spore::Core::BEGIN() called at /home/test/perl5/perlbrew/perls/perl-5.15.4-ld/lib/site_perl/5.15.4/MooseX/Types/URI.pm line 0
eval {...} called at /home/test/perl5/perlbrew/perls/perl-5.15.4-ld/lib/site_perl/5.15.4/MooseX/Types/URI.pm line 0
require Net/HTTP/Spore/Core.pm called at /home/test/.cpan/build/Net-HTTP-Spore-0.04-EAo4_i/blib/lib/Net/HTTP/Spore.pm line 13
Net::HTTP::Spore::BEGIN() called at /home/test/perl5/perlbrew/perls/perl-5.15.4-ld/lib/site_perl/5.15.4/MooseX/Types/URI.pm line 0
eval {...} called at /home/test/perl5/perlbrew/perls/perl-5.15.4-ld/lib/site_perl/5.15.4/MooseX/Types/URI.pm line 0
require Net/HTTP/Spore.pm called at t/spore-middleware/ns.t line 4
main::BEGIN() called at /home/test/perl5/perlbrew/perls/perl-5.15.4-ld/lib/site_perl/5.15.4/MooseX/Types/URI.pm line 0
eval {...} called at /home/test/perl5/perlbrew/perls/perl-5.15.4-ld/lib/site_perl/5.15.4/MooseX/Types/URI.pm line 0
t/spore-middleware/ns.t .............. ok
Providing an optimized subroutine ref for type constraints is deprecated. Use the inlining feature (inline_as) instead. at /home/test/.cpan/build/Net-HTTP-Spore-0.04-EAo4_i/blib/lib/Net/HTTP/Spore/Meta/Method.pm line 13
Net::HTTP::Spore::Meta::Method::BEGIN() called at /home/test/perl5/perlbrew/perls/perl-5.15.4-ld/lib/site_perl/5.15.4/MooseX/Types/URI.pm line 0
eval {...} called at /home/test/perl5/perlbrew/perls/perl-5.15.4-ld/lib/site_perl/5.15.4/MooseX/Types/URI.pm line 0
require Net/HTTP/Spore/Meta/Method.pm called at /home/test/.cpan/build/Net-HTTP-Spore-0.04-EAo4_i/blib/lib/Net/HTTP/Spore/Meta/Method/Spore.pm line 11
Net::HTTP::Spore::Meta::Method::Spore::BEGIN() called at /home/test/perl5/perlbrew/perls/perl-5.15.4-ld/lib/site_perl/5.15.4/MooseX/Types/URI.pm line 0
eval {...} called at /home/test/perl5/perlbrew/perls/perl-5.15.4-ld/lib/site_perl/5.15.4/MooseX/Types/URI.pm line 0
require Net/HTTP/Spore/Meta/Method/Spore.pm called at /home/test/perl5/perlbrew/perls/perl-5.15.4-ld/lib/site_perl/5.15.4/Module/Runtime.pm line 205
Module::Runtime::require_module('Net::HTTP::Spore::Meta::Method::Spore') called at /home/test/perl5/perlbrew/perls/perl-5.15.4-ld/lib/site_perl/5.15.4/Class/Load.pm line 199
Class::Load::__ANON__() called at /home/test/perl5/perlbrew/perls/perl-5.15.4-ld/lib/site_perl/5.15.4/Try/Tiny.pm line 71
eval {...} called at /home/test/perl5/perlbrew/perls/perl-5.15.4-ld/lib/site_perl/5.15.4/Try/Tiny.pm line 67
Try::Tiny::try('CODE(0x24cea10)', 'Try::Tiny::Catch=REF(0x248ad60)') called at /home/test/perl5/perlbrew/perls/perl-5.15.4-ld/lib/site_perl/5.15.4/Class/Load.pm line 205
Class::Load::try_load_class('Net::HTTP::Spore::Meta::Method::Spore', undef) called at /home/test/perl5/perlbrew/perls/perl-5.15.4-ld/lib/site_perl/5.15.4/Class/Load.pm line 64
Class::Load::load_class('Net::HTTP::Spore::Meta::Method::Spore', undef) called at /home/test/perl5/perlbrew/perls/perl-5.15.4-ld/lib/site_perl/5.15.4/x86_64-linux-ld/Moose/Util.pm line 132
Moose::Util::_apply_all_roles('Moose::Meta::Role=HASH(0x2490f48)', undef, 'Net::HTTP::Spore::Meta::Method::Spore') called at /home/test/perl5/perlbrew/perls/perl-5.15.4-ld/lib/site_perl/5.15.4/x86_64-linux-ld/Moose/Util.pm line 99
Moose::Util::apply_all_roles('Moose::Meta::Role=HASH(0x2490f48)', 'Net::HTTP::Spore::Meta::Method::Spore') called at /home/test/perl5/perlbrew/perls/perl-5.15.4-ld/lib/site_perl/5.15.4/x86_64-linux-ld/Moose/Role.pm line 29
Moose::Role::with('Moose::Meta::Role=HASH(0x2490f48)', 'Net::HTTP::Spore::Meta::Method::Spore') called at /home/test/perl5/perlbrew/perls/perl-5.15.4-ld/lib/site_perl/5.15.4/x86_64-linux-ld/Moose/Exporter.pm line 370
Moose::Role::with('Net::HTTP::Spore::Meta::Method::Spore') called at /home/test/.cpan/build/Net-HTTP-Spore-0.04-EAo4_i/blib/lib/Net/HTTP/Spore/Meta/Class.pm line 10
require Net/HTTP/Spore/Meta/Class.pm called at /home/test/perl5/perlbrew/perls/perl-5.15.4-ld/lib/site_perl/5.15.4/Module/Runtime.pm line 205
Module::Runtime::require_module('Net::HTTP::Spore::Meta::Class') called at /home/test/perl5/perlbrew/perls/perl-5.15.4-ld/lib/site_perl/5.15.4/Class/Load.pm line 199
Class::Load::__ANON__() called at /home/test/perl5/perlbrew/perls/perl-5.15.4-ld/lib/site_perl/5.15.4/Try/Tiny.pm line 71
eval {...} called at /home/test/perl5/perlbrew/perls/perl-5.15.4-ld/lib/site_perl/5.15.4/Try/Tiny.pm line 67
Try::Tiny::try('CODE(0x246e240)', 'Try::Tiny::Catch=REF(0x2335160)') called at /home/test/perl5/perlbrew/perls/perl-5.15.4-ld/lib/site_perl/5.15.4/Class/Load.pm line 205
Class::Load::try_load_class('Net::HTTP::Spore::Meta::Class', undef) called at /home/test/perl5/perlbrew/perls/perl-5.15.4-ld/lib/site_perl/5.15.4/Class/Load.pm line 64
Class::Load::load_class('Net::HTTP::Spore::Meta::Class', undef) called at /home/test/perl5/perlbrew/perls/perl-5.15.4-ld/lib/site_perl/5.15.4/x86_64-linux-ld/Moose/Util.pm line 132
Moose::Util::_apply_all_roles('Moose::Meta::Class=HASH(0x246e750)', undef, 'Net::HTTP::Spore::Meta::Class') called at /home/test/perl5/perlbrew/perls/perl-5.15.4-ld/lib/site_perl/5.15.4/x86_64-linux-ld/Moose/Util.pm line 99
Moose::Util::apply_all_roles('Moose::Meta::Class=HASH(0x246e750)', 'Net::HTTP::Spore::Meta::Class') called at /home/test/perl5/perlbrew/perls/perl-5.15.4-ld/lib/site_perl/5.15.4/x86_64-linux-ld/Moose/Meta/Class.pm line 104
Moose::Meta::Class::create('Moose::Meta::Class', 'Moose::Meta::Class::__ANON__::SERIAL::1', 'roles', 'ARRAY(0x19e31a8)', 'weaken', '', 'superclasses', 'ARRAY(0x246e288)') called at /home/test/perl5/perlbrew/perls/perl-5.15.4-ld/lib/site_perl/5.15.4/x86_64-linux-ld/Class/MOP/Package.pm line 120
Class::MOP::Package::create_anon('Moose::Meta::Class', 'superclasses', 'ARRAY(0x246e288)', 'roles', 'ARRAY(0x19e31a8)', 'cache', 1) called at /home/test/perl5/perlbrew/perls/perl-5.15.4-ld/lib/site_perl/5.15.4/x86_64-linux-ld/Class/MOP/Class.pm line 474
Class::MOP::Class::create_anon_class('Moose::Meta::Class', 'superclasses', 'ARRAY(0x246e288)', 'roles', 'ARRAY(0x19e31a8)', 'cache', 1) called at /home/test/perl5/perlbrew/perls/perl-5.15.4-ld/lib/site_perl/5.15.4/x86_64-linux-ld/Moose/Util/MetaRole.pm line 134
Moose::Util::MetaRole::_make_new_class('Moose::Meta::Class', 'ARRAY(0x19e31a8)') called at /home/test/perl5/perlbrew/perls/perl-5.15.4-ld/lib/site_perl/5.15.4/x86_64-linux-ld/Moose/Util/MetaRole.pm line 79
Moose::Util::MetaRole::_make_new_metaclass('Moose::Meta::Class=HASH(0x247ceb0)', 'HASH(0x234a758)', 'class') called at /home/test/perl5/perlbrew/perls/perl-5.15.4-ld/lib/site_perl/5.15.4/x86_64-linux-ld/Moose/Util/MetaRole.pm line 28
Moose::Util::MetaRole::apply_metaroles('for', 'Net::HTTP::Spore::Core', 'class_metaroles', 'HASH(0x234a758)') called at /home/test/.cpan/build/Net-HTTP-Spore-0.04-EAo4_i/blib/lib/Net/HTTP/Spore/Meta.pm line 28
Net::HTTP::Spore::Meta::init_meta('Net::HTTP::Spore::Meta', 'for_class', 'MooseX::Types::URI', 'metaclass', undef, 'meta_name', 'meta') called at /home/test/perl5/perlbrew/perls/perl-5.15.4-ld/lib/site_perl/5.15.4/x86_64-linux-ld/Moose/Exporter.pm line 435
Moose::Exporter::__ANON__('Net::HTTP::Spore::Meta') called at /home/test/.cpan/build/Net-HTTP-Spore-0.04-EAo4_i/blib/lib/Net/HTTP/Spore/Core.pm line 6
Net::HTTP::Spore::Core::BEGIN() called at /home/test/perl5/perlbrew/perls/perl-5.15.4-ld/lib/site_perl/5.15.4/MooseX/Types/URI.pm line 0
eval {...} called at /home/test/perl5/perlbrew/perls/perl-5.15.4-ld/lib/site_perl/5.15.4/MooseX/Types/URI.pm line 0
require Net/HTTP/Spore/Core.pm called at /home/test/.cpan/build/Net-HTTP-Spore-0.04-EAo4_i/blib/lib/Net/HTTP/Spore.pm line 13
Net::HTTP::Spore::BEGIN() called at /home/test/perl5/perlbrew/perls/perl-5.15.4-ld/lib/site_perl/5.15.4/MooseX/Types/URI.pm line 0
eval {...} called at /home/test/perl5/perlbrew/perls/perl-5.15.4-ld/lib/site_perl/5.15.4/MooseX/Types/URI.pm line 0
require Net/HTTP/Spore.pm called at t/spore-middleware/redirection.t line 8
main::BEGIN() called at /home/test/perl5/perlbrew/perls/perl-5.15.4-ld/lib/site_perl/5.15.4/MooseX/Types/URI.pm line 0
eval {...} called at /home/test/perl5/perlbrew/perls/perl-5.15.4-ld/lib/site_perl/5.15.4/MooseX/Types/URI.pm line 0
t/spore-middleware/redirection.t ..... ok
Providing an optimized subroutine ref for type constraints is deprecated. Use the inlining feature (inline_as) instead. at /home/test/.cpan/build/Net-HTTP-Spore-0.04-EAo4_i/blib/lib/Net/HTTP/Spore/Meta/Method.pm line 13
Net::HTTP::Spore::Meta::Method::BEGIN() called at /home/test/perl5/perlbrew/perls/perl-5.15.4-ld/lib/site_perl/5.15.4/MooseX/Types/URI.pm line 0
eval {...} called at /home/test/perl5/perlbrew/perls/perl-5.15.4-ld/lib/site_perl/5.15.4/MooseX/Types/URI.pm line 0
require Net/HTTP/Spore/Meta/Method.pm called at /home/test/.cpan/build/Net-HTTP-Spore-0.04-EAo4_i/blib/lib/Net/HTTP/Spore/Meta/Method/Spore.pm line 11
Net::HTTP::Spore::Meta::Method::Spore::BEGIN() called at /home/test/perl5/perlbrew/perls/perl-5.15.4-ld/lib/site_perl/5.15.4/MooseX/Types/URI.pm line 0
eval {...} called at /home/test/perl5/perlbrew/perls/perl-5.15.4-ld/lib/site_perl/5.15.4/MooseX/Types/URI.pm line 0
require Net/HTTP/Spore/Meta/Method/Spore.pm called at /home/test/perl5/perlbrew/perls/perl-5.15.4-ld/lib/site_perl/5.15.4/Module/Runtime.pm line 205
Module::Runtime::require_module('Net::HTTP::Spore::Meta::Method::Spore') called at /home/test/perl5/perlbrew/perls/perl-5.15.4-ld/lib/site_perl/5.15.4/Class/Load.pm line 199
Class::Load::__ANON__() called at /home/test/perl5/perlbrew/perls/perl-5.15.4-ld/lib/site_perl/5.15.4/Try/Tiny.pm line 71
eval {...} called at /home/test/perl5/perlbrew/perls/perl-5.15.4-ld/lib/site_perl/5.15.4/Try/Tiny.pm line 67
Try::Tiny::try('CODE(0x2a73ac8)', 'Try::Tiny::Catch=REF(0x2a2fd58)') called at /home/test/perl5/perlbrew/perls/perl-5.15.4-ld/lib/site_perl/5.15.4/Class/Load.pm line 205
Class::Load::try_load_class('Net::HTTP::Spore::Meta::Method::Spore', undef) called at /home/test/perl5/perlbrew/perls/perl-5.15.4-ld/lib/site_perl/5.15.4/Class/Load.pm line 64
Class::Load::load_class('Net::HTTP::Spore::Meta::Method::Spore', undef) called at /home/test/perl5/perlbrew/perls/perl-5.15.4-ld/lib/site_perl/5.15.4/x86_64-linux-ld/Moose/Util.pm line 132
Moose::Util::_apply_all_roles('Moose::Meta::Role=HASH(0x2a35f40)', undef, 'Net::HTTP::Spore::Meta::Method::Spore') called at /home/test/perl5/perlbrew/perls/perl-5.15.4-ld/lib/site_perl/5.15.4/x86_64-linux-ld/Moose/Util.pm line 99
Moose::Util::apply_all_roles('Moose::Meta::Role=HASH(0x2a35f40)', 'Net::HTTP::Spore::Meta::Method::Spore') called at /home/test/perl5/perlbrew/perls/perl-5.15.4-ld/lib/site_perl/5.15.4/x86_64-linux-ld/Moose/Role.pm line 29
Moose::Role::with('Moose::Meta::Role=HASH(0x2a35f40)', 'Net::HTTP::Spore::Meta::Method::Spore') called at /home/test/perl5/perlbrew/perls/perl-5.15.4-ld/lib/site_perl/5.15.4/x86_64-linux-ld/Moose/Exporter.pm line 370
Moose::Role::with('Net::HTTP::Spore::Meta::Method::Spore') called at /home/test/.cpan/build/Net-HTTP-Spore-0.04-EAo4_i/blib/lib/Net/HTTP/Spore/Meta/Class.pm line 10
require Net/HTTP/Spore/Meta/Class.pm called at /home/test/perl5/perlbrew/perls/perl-5.15.4-ld/lib/site_perl/5.15.4/Module/Runtime.pm line 205
Module::Runtime::require_module('Net::HTTP::Spore::Meta::Class') called at /home/test/perl5/perlbrew/perls/perl-5.15.4-ld/lib/site_perl/5.15.4/Class/Load.pm line 199
Class::Load::__ANON__() called at /home/test/perl5/perlbrew/perls/perl-5.15.4-ld/lib/site_perl/5.15.4/Try/Tiny.pm line 71
eval {...} called at /home/test/perl5/perlbrew/perls/perl-5.15.4-ld/lib/site_perl/5.15.4/Try/Tiny.pm line 67
Try::Tiny::try('CODE(0x2a13208)', 'Try::Tiny::Catch=REF(0x28dbe08)') called at /home/test/perl5/perlbrew/perls/perl-5.15.4-ld/lib/site_perl/5.15.4/Class/Load.pm line 205
Class::Load::try_load_class('Net::HTTP::Spore::Meta::Class', undef) called at /home/test/perl5/perlbrew/perls/perl-5.15.4-ld/lib/site_perl/5.15.4/Class/Load.pm line 64
Class::Load::load_class('Net::HTTP::Spore::Meta::Class', undef) called at /home/test/perl5/perlbrew/perls/perl-5.15.4-ld/lib/site_perl/5.15.4/x86_64-linux-ld/Moose/Util.pm line 132
Moose::Util::_apply_all_roles('Moose::Meta::Class=HASH(0x2a13718)', undef, 'Net::HTTP::Spore::Meta::Class') called at /home/test/perl5/perlbrew/perls/perl-5.15.4-ld/lib/site_perl/5.15.4/x86_64-linux-ld/Moose/Util.pm line 99
Moose::Util::apply_all_roles('Moose::Meta::Class=HASH(0x2a13718)', 'Net::HTTP::Spore::Meta::Class') called at /home/test/perl5/perlbrew/perls/perl-5.15.4-ld/lib/site_perl/5.15.4/x86_64-linux-ld/Moose/Meta/Class.pm line 104
Moose::Meta::Class::create('Moose::Meta::Class', 'Moose::Meta::Class::__ANON__::SERIAL::1', 'roles', 'ARRAY(0x1f87e10)', 'weaken', '', 'superclasses', 'ARRAY(0x2a13250)') called at /home/test/perl5/perlbrew/perls/perl-5.15.4-ld/lib/site_perl/5.15.4/x86_64-linux-ld/Class/MOP/Package.pm line 120
Class::MOP::Package::create_anon('Moose::Meta::Class', 'superclasses', 'ARRAY(0x2a13250)', 'roles', 'ARRAY(0x1f87e10)', 'cache', 1) called at /home/test/perl5/perlbrew/perls/perl-5.15.4-ld/lib/site_perl/5.15.4/x86_64-linux-ld/Class/MOP/Class.pm line 474
Class::MOP::Class::create_anon_class('Moose::Meta::Class', 'superclasses', 'ARRAY(0x2a13250)', 'roles', 'ARRAY(0x1f87e10)', 'cache', 1) called at /home/test/perl5/perlbrew/perls/perl-5.15.4-ld/lib/site_perl/5.15.4/x86_64-linux-ld/Moose/Util/MetaRole.pm line 134
Moose::Util::MetaRole::_make_new_class('Moose::Meta::Class', 'ARRAY(0x1f87e10)') called at /home/test/perl5/perlbrew/perls/perl-5.15.4-ld/lib/site_perl/5.15.4/x86_64-linux-ld/Moose/Util/MetaRole.pm line 79
Moose::Util::MetaRole::_make_new_metaclass('Moose::Meta::Class=HASH(0x2a21e68)', 'HASH(0x28ef5e0)', 'class') called at /home/test/perl5/perlbrew/perls/perl-5.15.4-ld/lib/site_perl/5.15.4/x86_64-linux-ld/Moose/Util/MetaRole.pm line 28
Moose::Util::MetaRole::apply_metaroles('for', 'Net::HTTP::Spore::Core', 'class_metaroles', 'HASH(0x28ef5e0)') called at /home/test/.cpan/build/Net-HTTP-Spore-0.04-EAo4_i/blib/lib/Net/HTTP/Spore/Meta.pm line 28
Net::HTTP::Spore::Meta::init_meta('Net::HTTP::Spore::Meta', 'for_class', 'MooseX::Types::URI', 'metaclass', undef, 'meta_name', 'meta') called at /home/test/perl5/perlbrew/perls/perl-5.15.4-ld/lib/site_perl/5.15.4/x86_64-linux-ld/Moose/Exporter.pm line 435
Moose::Exporter::__ANON__('Net::HTTP::Spore::Meta') called at /home/test/.cpan/build/Net-HTTP-Spore-0.04-EAo4_i/blib/lib/Net/HTTP/Spore/Core.pm line 6
Net::HTTP::Spore::Core::BEGIN() called at /home/test/perl5/perlbrew/perls/perl-5.15.4-ld/lib/site_perl/5.15.4/MooseX/Types/URI.pm line 0
eval {...} called at /home/test/perl5/perlbrew/perls/perl-5.15.4-ld/lib/site_perl/5.15.4/MooseX/Types/URI.pm line 0
require Net/HTTP/Spore/Core.pm called at /home/test/.cpan/build/Net-HTTP-Spore-0.04-EAo4_i/blib/lib/Net/HTTP/Spore.pm line 13
Net::HTTP::Spore::BEGIN() called at /home/test/perl5/perlbrew/perls/perl-5.15.4-ld/lib/site_perl/5.15.4/MooseX/Types/URI.pm line 0
eval {...} called at /home/test/perl5/perlbrew/perls/perl-5.15.4-ld/lib/site_perl/5.15.4/MooseX/Types/URI.pm line 0
require Net/HTTP/Spore.pm called at t/spore-middleware/runtime.t line 5
main::BEGIN() called at /home/test/perl5/perlbrew/perls/perl-5.15.4-ld/lib/site_perl/5.15.4/MooseX/Types/URI.pm line 0
eval {...} called at /home/test/perl5/perlbrew/perls/perl-5.15.4-ld/lib/site_perl/5.15.4/MooseX/Types/URI.pm line 0
t/spore-middleware/runtime.t ......... ok
Providing an optimized subroutine ref for type constraints is deprecated. Use the inlining feature (inline_as) instead. at /home/test/.cpan/build/Net-HTTP-Spore-0.04-EAo4_i/blib/lib/Net/HTTP/Spore/Meta/Method.pm line 13
Net::HTTP::Spore::Meta::Method::BEGIN() called at /home/test/perl5/perlbrew/perls/perl-5.15.4-ld/lib/site_perl/5.15.4/MooseX/Types/URI.pm line 0
eval {...} called at /home/test/perl5/perlbrew/perls/perl-5.15.4-ld/lib/site_perl/5.15.4/MooseX/Types/URI.pm line 0
require Net/HTTP/Spore/Meta/Method.pm called at /home/test/.cpan/build/Net-HTTP-Spore-0.04-EAo4_i/blib/lib/Net/HTTP/Spore/Meta/Method/Spore.pm line 11
Net::HTTP::Spore::Meta::Method::Spore::BEGIN() called at /home/test/perl5/perlbrew/perls/perl-5.15.4-ld/lib/site_perl/5.15.4/MooseX/Types/URI.pm line 0
eval {...} called at /home/test/perl5/perlbrew/perls/perl-5.15.4-ld/lib/site_perl/5.15.4/MooseX/Types/URI.pm line 0
require Net/HTTP/Spore/Meta/Method/Spore.pm called at /home/test/perl5/perlbrew/perls/perl-5.15.4-ld/lib/site_perl/5.15.4/Module/Runtime.pm line 205
Module::Runtime::require_module('Net::HTTP::Spore::Meta::Method::Spore') called at /home/test/perl5/perlbrew/perls/perl-5.15.4-ld/lib/site_perl/5.15.4/Class/Load.pm line 199
Class::Load::__ANON__() called at /home/test/perl5/perlbrew/perls/perl-5.15.4-ld/lib/site_perl/5.15.4/Try/Tiny.pm line 71
eval {...} called at /home/test/perl5/perlbrew/perls/perl-5.15.4-ld/lib/site_perl/5.15.4/Try/Tiny.pm line 67
Try::Tiny::try('CODE(0x1fe7c28)', 'Try::Tiny::Catch=REF(0x1fa3f08)') called at /home/test/perl5/perlbrew/perls/perl-5.15.4-ld/lib/site_perl/5.15.4/Class/Load.pm line 205
Class::Load::try_load_class('Net::HTTP::Spore::Meta::Method::Spore', undef) called at /home/test/perl5/perlbrew/perls/perl-5.15.4-ld/lib/site_perl/5.15.4/Class/Load.pm line 64
Class::Load::load_class('Net::HTTP::Spore::Meta::Method::Spore', undef) called at /home/test/perl5/perlbrew/perls/perl-5.15.4-ld/lib/site_perl/5.15.4/x86_64-linux-ld/Moose/Util.pm line 132
Moose::Util::_apply_all_roles('Moose::Meta::Role=HASH(0x1faa0f0)', undef, 'Net::HTTP::Spore::Meta::Method::Spore') called at /home/test/perl5/perlbrew/perls/perl-5.15.4-ld/lib/site_perl/5.15.4/x86_64-linux-ld/Moose/Util.pm line 99
Moose::Util::apply_all_roles('Moose::Meta::Role=HASH(0x1faa0f0)', 'Net::HTTP::Spore::Meta::Method::Spore') called at /home/test/perl5/perlbrew/perls/perl-5.15.4-ld/lib/site_perl/5.15.4/x86_64-linux-ld/Moose/Role.pm line 29
Moose::Role::with('Moose::Meta::Role=HASH(0x1faa0f0)', 'Net::HTTP::Spore::Meta::Method::Spore') called at /home/test/perl5/perlbrew/perls/perl-5.15.4-ld/lib/site_perl/5.15.4/x86_64-linux-ld/Moose/Exporter.pm line 370
Moose::Role::with('Net::HTTP::Spore::Meta::Method::Spore') called at /home/test/.cpan/build/Net-HTTP-Spore-0.04-EAo4_i/blib/lib/Net/HTTP/Spore/Meta/Class.pm line 10
require Net/HTTP/Spore/Meta/Class.pm called at /home/test/perl5/perlbrew/perls/perl-5.15.4-ld/lib/site_perl/5.15.4/Module/Runtime.pm line 205
Module::Runtime::require_module('Net::HTTP::Spore::Meta::Class') called at /home/test/perl5/perlbrew/perls/perl-5.15.4-ld/lib/site_perl/5.15.4/Class/Load.pm line 199
Class::Load::__ANON__() called at /home/test/perl5/perlbrew/perls/perl-5.15.4-ld/lib/site_perl/5.15.4/Try/Tiny.pm line 71
eval {...} called at /home/test/perl5/perlbrew/perls/perl-5.15.4-ld/lib/site_perl/5.15.4/Try/Tiny.pm line 67
Try::Tiny::try('CODE(0x1f873d8)', 'Try::Tiny::Catch=REF(0x1e4ffe8)') called at /home/test/perl5/perlbrew/perls/perl-5.15.4-ld/lib/site_perl/5.15.4/Class/Load.pm line 205
Class::Load::try_load_class('Net::HTTP::Spore::Meta::Class', undef) called at /home/test/perl5/perlbrew/perls/perl-5.15.4-ld/lib/site_perl/5.15.4/Class/Load.pm line 64
Class::Load::load_class('Net::HTTP::Spore::Meta::Class', undef) called at /home/test/perl5/perlbrew/perls/perl-5.15.4-ld/lib/site_perl/5.15.4/x86_64-linux-ld/Moose/Util.pm line 132
Moose::Util::_apply_all_roles('Moose::Meta::Class=HASH(0x1f878e8)', undef, 'Net::HTTP::Spore::Meta::Class') called at /home/test/perl5/perlbrew/perls/perl-5.15.4-ld/lib/site_perl/5.15.4/x86_64-linux-ld/Moose/Util.pm line 99
Moose::Util::apply_all_roles('Moose::Meta::Class=HASH(0x1f878e8)', 'Net::HTTP::Spore::Meta::Class') called at /home/test/perl5/perlbrew/perls/perl-5.15.4-ld/lib/site_perl/5.15.4/x86_64-linux-ld/Moose/Meta/Class.pm line 104
Moose::Meta::Class::create('Moose::Meta::Class', 'Moose::Meta::Class::__ANON__::SERIAL::1', 'roles', 'ARRAY(0x14fbe30)', 'weaken', '', 'superclasses', 'ARRAY(0x1f87420)') called at /home/test/perl5/perlbrew/perls/perl-5.15.4-ld/lib/site_perl/5.15.4/x86_64-linux-ld/Class/MOP/Package.pm line 120
Class::MOP::Package::create_anon('Moose::Meta::Class', 'superclasses', 'ARRAY(0x1f87420)', 'roles', 'ARRAY(0x14fbe30)', 'cache', 1) called at /home/test/perl5/perlbrew/perls/perl-5.15.4-ld/lib/site_perl/5.15.4/x86_64-linux-ld/Class/MOP/Class.pm line 474
Class::MOP::Class::create_anon_class('Moose::Meta::Class', 'superclasses', 'ARRAY(0x1f87420)', 'roles', 'ARRAY(0x14fbe30)', 'cache', 1) called at /home/test/perl5/perlbrew/perls/perl-5.15.4-ld/lib/site_perl/5.15.4/x86_64-linux-ld/Moose/Util/MetaRole.pm line 134
Moose::Util::MetaRole::_make_new_class('Moose::Meta::Class', 'ARRAY(0x14fbe30)') called at /home/test/perl5/perlbrew/perls/perl-5.15.4-ld/lib/site_perl/5.15.4/x86_64-linux-ld/Moose/Util/MetaRole.pm line 79
Moose::Util::MetaRole::_make_new_metaclass('Moose::Meta::Class=HASH(0x1f96018)', 'HASH(0x1e637e0)', 'class') called at /home/test/perl5/perlbrew/perls/perl-5.15.4-ld/lib/site_perl/5.15.4/x86_64-linux-ld/Moose/Util/MetaRole.pm line 28
Moose::Util::MetaRole::apply_metaroles('for', 'Net::HTTP::Spore::Core', 'class_metaroles', 'HASH(0x1e637e0)') called at /home/test/.cpan/build/Net-HTTP-Spore-0.04-EAo4_i/blib/lib/Net/HTTP/Spore/Meta.pm line 28
Net::HTTP::Spore::Meta::init_meta('Net::HTTP::Spore::Meta', 'for_class', 'MooseX::Types::URI', 'metaclass', undef, 'meta_name', 'meta') called at /home/test/perl5/perlbrew/perls/perl-5.15.4-ld/lib/site_perl/5.15.4/x86_64-linux-ld/Moose/Exporter.pm line 435
Moose::Exporter::__ANON__('Net::HTTP::Spore::Meta') called at /home/test/.cpan/build/Net-HTTP-Spore-0.04-EAo4_i/blib/lib/Net/HTTP/Spore/Core.pm line 6
Net::HTTP::Spore::Core::BEGIN() called at /home/test/perl5/perlbrew/perls/perl-5.15.4-ld/lib/site_perl/5.15.4/MooseX/Types/URI.pm line 0
eval {...} called at /home/test/perl5/perlbrew/perls/perl-5.15.4-ld/lib/site_perl/5.15.4/MooseX/Types/URI.pm line 0
require Net/HTTP/Spore/Core.pm called at /home/test/.cpan/build/Net-HTTP-Spore-0.04-EAo4_i/blib/lib/Net/HTTP/Spore.pm line 13
Net::HTTP::Spore::BEGIN() called at /home/test/perl5/perlbrew/perls/perl-5.15.4-ld/lib/site_perl/5.15.4/MooseX/Types/URI.pm line 0
eval {...} called at /home/test/perl5/perlbrew/perls/perl-5.15.4-ld/lib/site_perl/5.15.4/MooseX/Types/URI.pm line 0
require Net/HTTP/Spore.pm called at t/spore-middleware/useragent.t line 5
main::BEGIN() called at /home/test/perl5/perlbrew/perls/perl-5.15.4-ld/lib/site_perl/5.15.4/MooseX/Types/URI.pm line 0
eval {...} called at /home/test/perl5/perlbrew/perls/perl-5.15.4-ld/lib/site_perl/5.15.4/MooseX/Types/URI.pm line 0
t/spore-middleware/useragent.t ....... ok
Providing an optimized subroutine ref for type constraints is deprecated. Use the inlining feature (inline_as) instead. at /home/test/.cpan/build/Net-HTTP-Spore-0.04-EAo4_i/blib/lib/Net/HTTP/Spore/Meta/Method.pm line 13
Net::HTTP::Spore::Meta::Method::BEGIN() called at /home/test/perl5/perlbrew/perls/perl-5.15.4-ld/lib/site_perl/5.15.4/MooseX/Types/URI.pm line 0
eval {...} called at /home/test/perl5/perlbrew/perls/perl-5.15.4-ld/lib/site_perl/5.15.4/MooseX/Types/URI.pm line 0
require Net/HTTP/Spore/Meta/Method.pm called at /home/test/.cpan/build/Net-HTTP-Spore-0.04-EAo4_i/blib/lib/Net/HTTP/Spore/Meta/Method/Spore.pm line 11
Net::HTTP::Spore::Meta::Method::Spore::BEGIN() called at /home/test/perl5/perlbrew/perls/perl-5.15.4-ld/lib/site_perl/5.15.4/MooseX/Types/URI.pm line 0
eval {...} called at /home/test/perl5/perlbrew/perls/perl-5.15.4-ld/lib/site_perl/5.15.4/MooseX/Types/URI.pm line 0
require Net/HTTP/Spore/Meta/Method/Spore.pm called at /home/test/perl5/perlbrew/perls/perl-5.15.4-ld/lib/site_perl/5.15.4/Module/Runtime.pm line 205
Module::Runtime::require_module('Net::HTTP::Spore::Meta::Method::Spore') called at /home/test/perl5/perlbrew/perls/perl-5.15.4-ld/lib/site_perl/5.15.4/Class/Load.pm line 199
Class::Load::__ANON__() called at /home/test/perl5/perlbrew/perls/perl-5.15.4-ld/lib/site_perl/5.15.4/Try/Tiny.pm line 71
eval {...} called at /home/test/perl5/perlbrew/perls/perl-5.15.4-ld/lib/site_perl/5.15.4/Try/Tiny.pm line 67
Try::Tiny::try('CODE(0x2ef9aa8)', 'Try::Tiny::Catch=REF(0x2eb5d58)') called at /home/test/perl5/perlbrew/perls/perl-5.15.4-ld/lib/site_perl/5.15.4/Class/Load.pm line 205
Class::Load::try_load_class('Net::HTTP::Spore::Meta::Method::Spore', undef) called at /home/test/perl5/perlbrew/perls/perl-5.15.4-ld/lib/site_perl/5.15.4/Class/Load.pm line 64
Class::Load::load_class('Net::HTTP::Spore::Meta::Method::Spore', undef) called at /home/test/perl5/perlbrew/perls/perl-5.15.4-ld/lib/site_perl/5.15.4/x86_64-linux-ld/Moose/Util.pm line 132
Moose::Util::_apply_all_roles('Moose::Meta::Role=HASH(0x2ebbf40)', undef, 'Net::HTTP::Spore::Meta::Method::Spore') called at /home/test/perl5/perlbrew/perls/perl-5.15.4-ld/lib/site_perl/5.15.4/x86_64-linux-ld/Moose/Util.pm line 99
Moose::Util::apply_all_roles('Moose::Meta::Role=HASH(0x2ebbf40)', 'Net::HTTP::Spore::Meta::Method::Spore') called at /home/test/perl5/perlbrew/perls/perl-5.15.4-ld/lib/site_perl/5.15.4/x86_64-linux-ld/Moose/Role.pm line 29
Moose::Role::with('Moose::Meta::Role=HASH(0x2ebbf40)', 'Net::HTTP::Spore::Meta::Method::Spore') called at /home/test/perl5/perlbrew/perls/perl-5.15.4-ld/lib/site_perl/5.15.4/x86_64-linux-ld/Moose/Exporter.pm line 370
Moose::Role::with('Net::HTTP::Spore::Meta::Method::Spore') called at /home/test/.cpan/build/Net-HTTP-Spore-0.04-EAo4_i/blib/lib/Net/HTTP/Spore/Meta/Class.pm line 10
require Net/HTTP/Spore/Meta/Class.pm called at /home/test/perl5/perlbrew/perls/perl-5.15.4-ld/lib/site_perl/5.15.4/Module/Runtime.pm line 205
Module::Runtime::require_module('Net::HTTP::Spore::Meta::Class') called at /home/test/perl5/perlbrew/perls/perl-5.15.4-ld/lib/site_perl/5.15.4/Class/Load.pm line 199
Class::Load::__ANON__() called at /home/test/perl5/perlbrew/perls/perl-5.15.4-ld/lib/site_perl/5.15.4/Try/Tiny.pm line 71
eval {...} called at /home/test/perl5/perlbrew/perls/perl-5.15.4-ld/lib/site_perl/5.15.4/Try/Tiny.pm line 67
Try::Tiny::try('CODE(0x2e99208)', 'Try::Tiny::Catch=REF(0x2d61e08)') called at /home/test/perl5/perlbrew/perls/perl-5.15.4-ld/lib/site_perl/5.15.4/Class/Load.pm line 205
Class::Load::try_load_class('Net::HTTP::Spore::Meta::Class', undef) called at /home/test/perl5/perlbrew/perls/perl-5.15.4-ld/lib/site_perl/5.15.4/Class/Load.pm line 64
Class::Load::load_class('Net::HTTP::Spore::Meta::Class', undef) called at /home/test/perl5/perlbrew/perls/perl-5.15.4-ld/lib/site_perl/5.15.4/x86_64-linux-ld/Moose/Util.pm line 132
Moose::Util::_apply_all_roles('Moose::Meta::Class=HASH(0x2e99718)', undef, 'Net::HTTP::Spore::Meta::Class') called at /home/test/perl5/perlbrew/perls/perl-5.15.4-ld/lib/site_perl/5.15.4/x86_64-linux-ld/Moose/Util.pm line 99
Moose::Util::apply_all_roles('Moose::Meta::Class=HASH(0x2e99718)', 'Net::HTTP::Spore::Meta::Class') called at /home/test/perl5/perlbrew/perls/perl-5.15.4-ld/lib/site_perl/5.15.4/x86_64-linux-ld/Moose/Meta/Class.pm line 104
Moose::Meta::Class::create('Moose::Meta::Class', 'Moose::Meta::Class::__ANON__::SERIAL::1', 'roles', 'ARRAY(0x240de10)', 'weaken', '', 'superclasses', 'ARRAY(0x2e99250)') called at /home/test/perl5/perlbrew/perls/perl-5.15.4-ld/lib/site_perl/5.15.4/x86_64-linux-ld/Class/MOP/Package.pm line 120
Class::MOP::Package::create_anon('Moose::Meta::Class', 'superclasses', 'ARRAY(0x2e99250)', 'roles', 'ARRAY(0x240de10)', 'cache', 1) called at /home/test/perl5/perlbrew/perls/perl-5.15.4-ld/lib/site_perl/5.15.4/x86_64-linux-ld/Class/MOP/Class.pm line 474
Class::MOP::Class::create_anon_class('Moose::Meta::Class', 'superclasses', 'ARRAY(0x2e99250)', 'roles', 'ARRAY(0x240de10)', 'cache', 1) called at /home/test/perl5/perlbrew/perls/perl-5.15.4-ld/lib/site_perl/5.15.4/x86_64-linux-ld/Moose/Util/MetaRole.pm line 134
Moose::Util::MetaRole::_make_new_class('Moose::Meta::Class', 'ARRAY(0x240de10)') called at /home/test/perl5/perlbrew/perls/perl-5.15.4-ld/lib/site_perl/5.15.4/x86_64-linux-ld/Moose/Util/MetaRole.pm line 79
Moose::Util::MetaRole::_make_new_metaclass('Moose::Meta::Class=HASH(0x2ea7e68)', 'HASH(0x2d755e0)', 'class') called at /home/test/perl5/perlbrew/perls/perl-5.15.4-ld/lib/site_perl/5.15.4/x86_64-linux-ld/Moose/Util/MetaRole.pm line 28
Moose::Util::MetaRole::apply_metaroles('for', 'Net::HTTP::Spore::Core', 'class_metaroles', 'HASH(0x2d755e0)') called at /home/test/.cpan/build/Net-HTTP-Spore-0.04-EAo4_i/blib/lib/Net/HTTP/Spore/Meta.pm line 28
Net::HTTP::Spore::Meta::init_meta('Net::HTTP::Spore::Meta', 'for_class', 'MooseX::Types::URI', 'metaclass', undef, 'meta_name', 'meta') called at /home/test/perl5/perlbrew/perls/perl-5.15.4-ld/lib/site_perl/5.15.4/x86_64-linux-ld/Moose/Exporter.pm line 435
Moose::Exporter::__ANON__('Net::HTTP::Spore::Meta') called at /home/test/.cpan/build/Net-HTTP-Spore-0.04-EAo4_i/blib/lib/Net/HTTP/Spore/Core.pm line 6
Net::HTTP::Spore::Core::BEGIN() called at /home/test/perl5/perlbrew/perls/perl-5.15.4-ld/lib/site_perl/5.15.4/MooseX/Types/URI.pm line 0
eval {...} called at /home/test/perl5/perlbrew/perls/perl-5.15.4-ld/lib/site_perl/5.15.4/MooseX/Types/URI.pm line 0
require Net/HTTP/Spore/Core.pm called at /home/test/.cpan/build/Net-HTTP-Spore-0.04-EAo4_i/blib/lib/Net/HTTP/Spore.pm line 13
Net::HTTP::Spore::BEGIN() called at /home/test/perl5/perlbrew/perls/perl-5.15.4-ld/lib/site_perl/5.15.4/MooseX/Types/URI.pm line 0
eval {...} called at /home/test/perl5/perlbrew/perls/perl-5.15.4-ld/lib/site_perl/5.15.4/MooseX/Types/URI.pm line 0
require Net/HTTP/Spore.pm called at t/spore-middleware/x-do-not-track.t line 5
main::BEGIN() called at /home/test/perl5/perlbrew/perls/perl-5.15.4-ld/lib/site_perl/5.15.4/MooseX/Types/URI.pm line 0
eval {...} called at /home/test/perl5/perlbrew/perls/perl-5.15.4-ld/lib/site_perl/5.15.4/MooseX/Types/URI.pm line 0
t/spore-middleware/x-do-not-track.t .. ok
t/spore-request/base.t ............... ok
Providing an optimized subroutine ref for type constraints is deprecated. Use the inlining feature (inline_as) instead. at /home/test/.cpan/build/Net-HTTP-Spore-0.04-EAo4_i/blib/lib/Net/HTTP/Spore/Meta/Method.pm line 13
Net::HTTP::Spore::Meta::Method::BEGIN() called at /home/test/perl5/perlbrew/perls/perl-5.15.4-ld/lib/site_perl/5.15.4/MooseX/Types/URI.pm line 0
eval {...} called at /home/test/perl5/perlbrew/perls/perl-5.15.4-ld/lib/site_perl/5.15.4/MooseX/Types/URI.pm line 0
require Net/HTTP/Spore/Meta/Method.pm called at /home/test/.cpan/build/Net-HTTP-Spore-0.04-EAo4_i/blib/lib/Net/HTTP/Spore/Meta/Method/Spore.pm line 11
Net::HTTP::Spore::Meta::Method::Spore::BEGIN() called at /home/test/perl5/perlbrew/perls/perl-5.15.4-ld/lib/site_perl/5.15.4/MooseX/Types/URI.pm line 0
eval {...} called at /home/test/perl5/perlbrew/perls/perl-5.15.4-ld/lib/site_perl/5.15.4/MooseX/Types/URI.pm line 0
require Net/HTTP/Spore/Meta/Method/Spore.pm called at /home/test/perl5/perlbrew/perls/perl-5.15.4-ld/lib/site_perl/5.15.4/Module/Runtime.pm line 205
Module::Runtime::require_module('Net::HTTP::Spore::Meta::Method::Spore') called at /home/test/perl5/perlbrew/perls/perl-5.15.4-ld/lib/site_perl/5.15.4/Class/Load.pm line 199
Class::Load::__ANON__() called at /home/test/perl5/perlbrew/perls/perl-5.15.4-ld/lib/site_perl/5.15.4/Try/Tiny.pm line 71
eval {...} called at /home/test/perl5/perlbrew/perls/perl-5.15.4-ld/lib/site_perl/5.15.4/Try/Tiny.pm line 67
Try::Tiny::try('CODE(0x28af770)', 'Try::Tiny::Catch=REF(0x286b860)') called at /home/test/perl5/perlbrew/perls/perl-5.15.4-ld/lib/site_perl/5.15.4/Class/Load.pm line 205
Class::Load::try_load_class('Net::HTTP::Spore::Meta::Method::Spore', undef) called at /home/test/perl5/perlbrew/perls/perl-5.15.4-ld/lib/site_perl/5.15.4/Class/Load.pm line 64
Class::Load::load_class('Net::HTTP::Spore::Meta::Method::Spore', undef) called at /home/test/perl5/perlbrew/perls/perl-5.15.4-ld/lib/site_perl/5.15.4/x86_64-linux-ld/Moose/Util.pm line 132
Moose::Util::_apply_all_roles('Moose::Meta::Role=HASH(0x2871a58)', undef, 'Net::HTTP::Spore::Meta::Method::Spore') called at /home/test/perl5/perlbrew/perls/perl-5.15.4-ld/lib/site_perl/5.15.4/x86_64-linux-ld/Moose/Util.pm line 99
Moose::Util::apply_all_roles('Moose::Meta::Role=HASH(0x2871a58)', 'Net::HTTP::Spore::Meta::Method::Spore') called at /home/test/perl5/perlbrew/perls/perl-5.15.4-ld/lib/site_perl/5.15.4/x86_64-linux-ld/Moose/Role.pm line 29
Moose::Role::with('Moose::Meta::Role=HASH(0x2871a58)', 'Net::HTTP::Spore::Meta::Method::Spore') called at /home/test/perl5/perlbrew/perls/perl-5.15.4-ld/lib/site_perl/5.15.4/x86_64-linux-ld/Moose/Exporter.pm line 370
Moose::Role::with('Net::HTTP::Spore::Meta::Method::Spore') called at /home/test/.cpan/build/Net-HTTP-Spore-0.04-EAo4_i/blib/lib/Net/HTTP/Spore/Meta/Class.pm line 10
require Net/HTTP/Spore/Meta/Class.pm called at /home/test/perl5/perlbrew/perls/perl-5.15.4-ld/lib/site_perl/5.15.4/Module/Runtime.pm line 205
Module::Runtime::require_module('Net::HTTP::Spore::Meta::Class') called at /home/test/perl5/perlbrew/perls/perl-5.15.4-ld/lib/site_perl/5.15.4/Class/Load.pm line 199
Class::Load::__ANON__() called at /home/test/perl5/perlbrew/perls/perl-5.15.4-ld/lib/site_perl/5.15.4/Try/Tiny.pm line 71
eval {...} called at /home/test/perl5/perlbrew/perls/perl-5.15.4-ld/lib/site_perl/5.15.4/Try/Tiny.pm line 67
Try::Tiny::try('CODE(0x284ed90)', 'Try::Tiny::Catch=REF(0x2715d10)') called at /home/test/perl5/perlbrew/perls/perl-5.15.4-ld/lib/site_perl/5.15.4/Class/Load.pm line 205
Class::Load::try_load_class('Net::HTTP::Spore::Meta::Class', undef) called at /home/test/perl5/perlbrew/perls/perl-5.15.4-ld/lib/site_perl/5.15.4/Class/Load.pm line 64
Class::Load::load_class('Net::HTTP::Spore::Meta::Class', undef) called at /home/test/perl5/perlbrew/perls/perl-5.15.4-ld/lib/site_perl/5.15.4/x86_64-linux-ld/Moose/Util.pm line 132
Moose::Util::_apply_all_roles('Moose::Meta::Class=HASH(0x284f2a0)', undef, 'Net::HTTP::Spore::Meta::Class') called at /home/test/perl5/perlbrew/perls/perl-5.15.4-ld/lib/site_perl/5.15.4/x86_64-linux-ld/Moose/Util.pm line 99
Moose::Util::apply_all_roles('Moose::Meta::Class=HASH(0x284f2a0)', 'Net::HTTP::Spore::Meta::Class') called at /home/test/perl5/perlbrew/perls/perl-5.15.4-ld/lib/site_perl/5.15.4/x86_64-linux-ld/Moose/Meta/Class.pm line 104
Moose::Meta::Class::create('Moose::Meta::Class', 'Moose::Meta::Class::__ANON__::SERIAL::1', 'roles', 'ARRAY(0x1dc4048)', 'weaken', '', 'superclasses', 'ARRAY(0x284edd8)') called at /home/test/perl5/perlbrew/perls/perl-5.15.4-ld/lib/site_perl/5.15.4/x86_64-linux-ld/Class/MOP/Package.pm line 120
Class::MOP::Package::create_anon('Moose::Meta::Class', 'superclasses', 'ARRAY(0x284edd8)', 'roles', 'ARRAY(0x1dc4048)', 'cache', 1) called at /home/test/perl5/perlbrew/perls/perl-5.15.4-ld/lib/site_perl/5.15.4/x86_64-linux-ld/Class/MOP/Class.pm line 474
Class::MOP::Class::create_anon_class('Moose::Meta::Class', 'superclasses', 'ARRAY(0x284edd8)', 'roles', 'ARRAY(0x1dc4048)', 'cache', 1) called at /home/test/perl5/perlbrew/perls/perl-5.15.4-ld/lib/site_perl/5.15.4/x86_64-linux-ld/Moose/Util/MetaRole.pm line 134
Moose::Util::MetaRole::_make_new_class('Moose::Meta::Class', 'ARRAY(0x1dc4048)') called at /home/test/perl5/perlbrew/perls/perl-5.15.4-ld/lib/site_perl/5.15.4/x86_64-linux-ld/Moose/Util/MetaRole.pm line 79
Moose::Util::MetaRole::_make_new_metaclass('Moose::Meta::Class=HASH(0x285d9f0)', 'HASH(0x272b348)', 'class') called at /home/test/perl5/perlbrew/perls/perl-5.15.4-ld/lib/site_perl/5.15.4/x86_64-linux-ld/Moose/Util/MetaRole.pm line 28
Moose::Util::MetaRole::apply_metaroles('for', 'Net::HTTP::Spore::Core', 'class_metaroles', 'HASH(0x272b348)') called at /home/test/.cpan/build/Net-HTTP-Spore-0.04-EAo4_i/blib/lib/Net/HTTP/Spore/Meta.pm line 28
Net::HTTP::Spore::Meta::init_meta('Net::HTTP::Spore::Meta', 'for_class', 'MooseX::Types::URI', 'metaclass', undef, 'meta_name', 'meta') called at /home/test/perl5/perlbrew/perls/perl-5.15.4-ld/lib/site_perl/5.15.4/x86_64-linux-ld/Moose/Exporter.pm line 435
Moose::Exporter::__ANON__('Net::HTTP::Spore::Meta') called at /home/test/.cpan/build/Net-HTTP-Spore-0.04-EAo4_i/blib/lib/Net/HTTP/Spore/Core.pm line 6
Net::HTTP::Spore::Core::BEGIN() called at /home/test/perl5/perlbrew/perls/perl-5.15.4-ld/lib/site_perl/5.15.4/MooseX/Types/URI.pm line 0
eval {...} called at /home/test/perl5/perlbrew/perls/perl-5.15.4-ld/lib/site_perl/5.15.4/MooseX/Types/URI.pm line 0
require Net/HTTP/Spore/Core.pm called at /home/test/.cpan/build/Net-HTTP-Spore-0.04-EAo4_i/blib/lib/Net/HTTP/Spore.pm line 13
Net::HTTP::Spore::BEGIN() called at /home/test/perl5/perlbrew/perls/perl-5.15.4-ld/lib/site_perl/5.15.4/MooseX/Types/URI.pm line 0
eval {...} called at /home/test/perl5/perlbrew/perls/perl-5.15.4-ld/lib/site_perl/5.15.4/MooseX/Types/URI.pm line 0
require Net/HTTP/Spore.pm called at t/spore-request/exception.t line 6
main::BEGIN() called at /home/test/perl5/perlbrew/perls/perl-5.15.4-ld/lib/site_perl/5.15.4/MooseX/Types/URI.pm line 0
eval {...} called at /home/test/perl5/perlbrew/perls/perl-5.15.4-ld/lib/site_perl/5.15.4/MooseX/Types/URI.pm line 0
t/spore-request/exception.t .......... ok
t/spore-request/finalize.t ........... ok
Providing an optimized subroutine ref for type constraints is deprecated. Use the inlining feature (inline_as) instead. at /home/test/.cpan/build/Net-HTTP-Spore-0.04-EAo4_i/blib/lib/Net/HTTP/Spore/Meta/Method.pm line 13
Net::HTTP::Spore::Meta::Method::BEGIN() called at /home/test/perl5/perlbrew/perls/perl-5.15.4-ld/lib/site_perl/5.15.4/MooseX/Types/URI.pm line 0
eval {...} called at /home/test/perl5/perlbrew/perls/perl-5.15.4-ld/lib/site_perl/5.15.4/MooseX/Types/URI.pm line 0
require Net/HTTP/Spore/Meta/Method.pm called at /home/test/.cpan/build/Net-HTTP-Spore-0.04-EAo4_i/blib/lib/Net/HTTP/Spore/Meta/Method/Spore.pm line 11
Net::HTTP::Spore::Meta::Method::Spore::BEGIN() called at /home/test/perl5/perlbrew/perls/perl-5.15.4-ld/lib/site_perl/5.15.4/MooseX/Types/URI.pm line 0
eval {...} called at /home/test/perl5/perlbrew/perls/perl-5.15.4-ld/lib/site_perl/5.15.4/MooseX/Types/URI.pm line 0
require Net/HTTP/Spore/Meta/Method/Spore.pm called at /home/test/perl5/perlbrew/perls/perl-5.15.4-ld/lib/site_perl/5.15.4/Module/Runtime.pm line 205
Module::Runtime::require_module('Net::HTTP::Spore::Meta::Method::Spore') called at /home/test/perl5/perlbrew/perls/perl-5.15.4-ld/lib/site_perl/5.15.4/Class/Load.pm line 199
Class::Load::__ANON__() called at /home/test/perl5/perlbrew/perls/perl-5.15.4-ld/lib/site_perl/5.15.4/Try/Tiny.pm line 71
eval {...} called at /home/test/perl5/perlbrew/perls/perl-5.15.4-ld/lib/site_perl/5.15.4/Try/Tiny.pm line 67
Try::Tiny::try('CODE(0x301bc28)', 'Try::Tiny::Catch=REF(0x2fd7f08)') called at /home/test/perl5/perlbrew/perls/perl-5.15.4-ld/lib/site_perl/5.15.4/Class/Load.pm line 205
Class::Load::try_load_class('Net::HTTP::Spore::Meta::Method::Spore', undef) called at /home/test/perl5/perlbrew/perls/perl-5.15.4-ld/lib/site_perl/5.15.4/Class/Load.pm line 64
Class::Load::load_class('Net::HTTP::Spore::Meta::Method::Spore', undef) called at /home/test/perl5/perlbrew/perls/perl-5.15.4-ld/lib/site_perl/5.15.4/x86_64-linux-ld/Moose/Util.pm line 132
Moose::Util::_apply_all_roles('Moose::Meta::Role=HASH(0x2fde0f0)', undef, 'Net::HTTP::Spore::Meta::Method::Spore') called at /home/test/perl5/perlbrew/perls/perl-5.15.4-ld/lib/site_perl/5.15.4/x86_64-linux-ld/Moose/Util.pm line 99
Moose::Util::apply_all_roles('Moose::Meta::Role=HASH(0x2fde0f0)', 'Net::HTTP::Spore::Meta::Method::Spore') called at /home/test/perl5/perlbrew/perls/perl-5.15.4-ld/lib/site_perl/5.15.4/x86_64-linux-ld/Moose/Role.pm line 29
Moose::Role::with('Moose::Meta::Role=HASH(0x2fde0f0)', 'Net::HTTP::Spore::Meta::Method::Spore') called at /home/test/perl5/perlbrew/perls/perl-5.15.4-ld/lib/site_perl/5.15.4/x86_64-linux-ld/Moose/Exporter.pm line 370
Moose::Role::with('Net::HTTP::Spore::Meta::Method::Spore') called at /home/test/.cpan/build/Net-HTTP-Spore-0.04-EAo4_i/blib/lib/Net/HTTP/Spore/Meta/Class.pm line 10
require Net/HTTP/Spore/Meta/Class.pm called at /home/test/perl5/perlbrew/perls/perl-5.15.4-ld/lib/site_perl/5.15.4/Module/Runtime.pm line 205
Module::Runtime::require_module('Net::HTTP::Spore::Meta::Class') called at /home/test/perl5/perlbrew/perls/perl-5.15.4-ld/lib/site_perl/5.15.4/Class/Load.pm line 199
Class::Load::__ANON__() called at /home/test/perl5/perlbrew/perls/perl-5.15.4-ld/lib/site_perl/5.15.4/Try/Tiny.pm line 71
eval {...} called at /home/test/perl5/perlbrew/perls/perl-5.15.4-ld/lib/site_perl/5.15.4/Try/Tiny.pm line 67
Try::Tiny::try('CODE(0x2fbb3d8)', 'Try::Tiny::Catch=REF(0x2e83fe8)') called at /home/test/perl5/perlbrew/perls/perl-5.15.4-ld/lib/site_perl/5.15.4/Class/Load.pm line 205
Class::Load::try_load_class('Net::HTTP::Spore::Meta::Class', undef) called at /home/test/perl5/perlbrew/perls/perl-5.15.4-ld/lib/site_perl/5.15.4/Class/Load.pm line 64
Class::Load::load_class('Net::HTTP::Spore::Meta::Class', undef) called at /home/test/perl5/perlbrew/perls/perl-5.15.4-ld/lib/site_perl/5.15.4/x86_64-linux-ld/Moose/Util.pm line 132
Moose::Util::_apply_all_roles('Moose::Meta::Class=HASH(0x2fbb8e8)', undef, 'Net::HTTP::Spore::Meta::Class') called at /home/test/perl5/perlbrew/perls/perl-5.15.4-ld/lib/site_perl/5.15.4/x86_64-linux-ld/Moose/Util.pm line 99
Moose::Util::apply_all_roles('Moose::Meta::Class=HASH(0x2fbb8e8)', 'Net::HTTP::Spore::Meta::Class') called at /home/test/perl5/perlbrew/perls/perl-5.15.4-ld/lib/site_perl/5.15.4/x86_64-linux-ld/Moose/Meta/Class.pm line 104
Moose::Meta::Class::create('Moose::Meta::Class', 'Moose::Meta::Class::__ANON__::SERIAL::1', 'roles', 'ARRAY(0x252fe70)', 'weaken', '', 'superclasses', 'ARRAY(0x2fbb420)') called at /home/test/perl5/perlbrew/perls/perl-5.15.4-ld/lib/site_perl/5.15.4/x86_64-linux-ld/Class/MOP/Package.pm line 120
Class::MOP::Package::create_anon('Moose::Meta::Class', 'superclasses', 'ARRAY(0x2fbb420)', 'roles', 'ARRAY(0x252fe70)', 'cache', 1) called at /home/test/perl5/perlbrew/perls/perl-5.15.4-ld/lib/site_perl/5.15.4/x86_64-linux-ld/Class/MOP/Class.pm line 474
Class::MOP::Class::create_anon_class('Moose::Meta::Class', 'superclasses', 'ARRAY(0x2fbb420)', 'roles', 'ARRAY(0x252fe70)', 'cache', 1) called at /home/test/perl5/perlbrew/perls/perl-5.15.4-ld/lib/site_perl/5.15.4/x86_64-linux-ld/Moose/Util/MetaRole.pm line 134
Moose::Util::MetaRole::_make_new_class('Moose::Meta::Class', 'ARRAY(0x252fe70)') called at /home/test/perl5/perlbrew/perls/perl-5.15.4-ld/lib/site_perl/5.15.4/x86_64-linux-ld/Moose/Util/MetaRole.pm line 79
Moose::Util::MetaRole::_make_new_metaclass('Moose::Meta::Class=HASH(0x2fca018)', 'HASH(0x2e977e0)', 'class') called at /home/test/perl5/perlbrew/perls/perl-5.15.4-ld/lib/site_perl/5.15.4/x86_64-linux-ld/Moose/Util/MetaRole.pm line 28
Moose::Util::MetaRole::apply_metaroles('for', 'Net::HTTP::Spore::Core', 'class_metaroles', 'HASH(0x2e977e0)') called at /home/test/.cpan/build/Net-HTTP-Spore-0.04-EAo4_i/blib/lib/Net/HTTP/Spore/Meta.pm line 28
Net::HTTP::Spore::Meta::init_meta('Net::HTTP::Spore::Meta', 'for_class', 'MooseX::Types::URI', 'metaclass', undef, 'meta_name', 'meta') called at /home/test/perl5/perlbrew/perls/perl-5.15.4-ld/lib/site_perl/5.15.4/x86_64-linux-ld/Moose/Exporter.pm line 435
Moose::Exporter::__ANON__('Net::HTTP::Spore::Meta') called at /home/test/.cpan/build/Net-HTTP-Spore-0.04-EAo4_i/blib/lib/Net/HTTP/Spore/Core.pm line 6
Net::HTTP::Spore::Core::BEGIN() called at /home/test/perl5/perlbrew/perls/perl-5.15.4-ld/lib/site_perl/5.15.4/MooseX/Types/URI.pm line 0
eval {...} called at /home/test/perl5/perlbrew/perls/perl-5.15.4-ld/lib/site_perl/5.15.4/MooseX/Types/URI.pm line 0
require Net/HTTP/Spore/Core.pm called at /home/test/.cpan/build/Net-HTTP-Spore-0.04-EAo4_i/blib/lib/Net/HTTP/Spore.pm line 13
Net::HTTP::Spore::BEGIN() called at /home/test/perl5/perlbrew/perls/perl-5.15.4-ld/lib/site_perl/5.15.4/MooseX/Types/URI.pm line 0
eval {...} called at /home/test/perl5/perlbrew/perls/perl-5.15.4-ld/lib/site_perl/5.15.4/MooseX/Types/URI.pm line 0
require Net/HTTP/Spore.pm called at t/spore-request/form_data.t line 5
main::BEGIN() called at /home/test/perl5/perlbrew/perls/perl-5.15.4-ld/lib/site_perl/5.15.4/MooseX/Types/URI.pm line 0
eval {...} called at /home/test/perl5/perlbrew/perls/perl-5.15.4-ld/lib/site_perl/5.15.4/MooseX/Types/URI.pm line 0
t/spore-request/form_data.t .......... ok
Providing an optimized subroutine ref for type constraints is deprecated. Use the inlining feature (inline_as) instead. at /home/test/.cpan/build/Net-HTTP-Spore-0.04-EAo4_i/blib/lib/Net/HTTP/Spore/Meta/Method.pm line 13
Net::HTTP::Spore::Meta::Method::BEGIN() called at /home/test/perl5/perlbrew/perls/perl-5.15.4-ld/lib/site_perl/5.15.4/MooseX/Types/URI.pm line 0
eval {...} called at /home/test/perl5/perlbrew/perls/perl-5.15.4-ld/lib/site_perl/5.15.4/MooseX/Types/URI.pm line 0
require Net/HTTP/Spore/Meta/Method.pm called at /home/test/.cpan/build/Net-HTTP-Spore-0.04-EAo4_i/blib/lib/Net/HTTP/Spore/Meta/Method/Spore.pm line 11
Net::HTTP::Spore::Meta::Method::Spore::BEGIN() called at /home/test/perl5/perlbrew/perls/perl-5.15.4-ld/lib/site_perl/5.15.4/MooseX/Types/URI.pm line 0
eval {...} called at /home/test/perl5/perlbrew/perls/perl-5.15.4-ld/lib/site_perl/5.15.4/MooseX/Types/URI.pm line 0
require Net/HTTP/Spore/Meta/Method/Spore.pm called at /home/test/perl5/perlbrew/perls/perl-5.15.4-ld/lib/site_perl/5.15.4/Module/Runtime.pm line 205
Module::Runtime::require_module('Net::HTTP::Spore::Meta::Method::Spore') called at /home/test/perl5/perlbrew/perls/perl-5.15.4-ld/lib/site_perl/5.15.4/Class/Load.pm line 199
Class::Load::__ANON__() called at /home/test/perl5/perlbrew/perls/perl-5.15.4-ld/lib/site_perl/5.15.4/Try/Tiny.pm line 71
eval {...} called at /home/test/perl5/perlbrew/perls/perl-5.15.4-ld/lib/site_perl/5.15.4/Try/Tiny.pm line 67
Try::Tiny::try('CODE(0x2d7ca60)', 'Try::Tiny::Catch=REF(0x2d7c9b8)') called at /home/test/perl5/perlbrew/perls/perl-5.15.4-ld/lib/site_perl/5.15.4/Class/Load.pm line 205
Class::Load::try_load_class('Net::HTTP::Spore::Meta::Method::Spore', undef) called at /home/test/perl5/perlbrew/perls/perl-5.15.4-ld/lib/site_perl/5.15.4/Class/Load.pm line 64
Class::Load::load_class('Net::HTTP::Spore::Meta::Method::Spore', undef) called at /home/test/perl5/perlbrew/perls/perl-5.15.4-ld/lib/site_perl/5.15.4/x86_64-linux-ld/Moose/Util.pm line 132
Moose::Util::_apply_all_roles('Moose::Meta::Role=HASH(0x2d7cd00)', undef, 'Net::HTTP::Spore::Meta::Method::Spore') called at /home/test/perl5/perlbrew/perls/perl-5.15.4-ld/lib/site_perl/5.15.4/x86_64-linux-ld/Moose/Util.pm line 99
Moose::Util::apply_all_roles('Moose::Meta::Role=HASH(0x2d7cd00)', 'Net::HTTP::Spore::Meta::Method::Spore') called at /home/test/perl5/perlbrew/perls/perl-5.15.4-ld/lib/site_perl/5.15.4/x86_64-linux-ld/Moose/Role.pm line 29
Moose::Role::with('Moose::Meta::Role=HASH(0x2d7cd00)', 'Net::HTTP::Spore::Meta::Method::Spore') called at /home/test/perl5/perlbrew/perls/perl-5.15.4-ld/lib/site_perl/5.15.4/x86_64-linux-ld/Moose/Exporter.pm line 370
Moose::Role::with('Net::HTTP::Spore::Meta::Method::Spore') called at /home/test/.cpan/build/Net-HTTP-Spore-0.04-EAo4_i/blib/lib/Net/HTTP/Spore/Meta/Class.pm line 10
require Net/HTTP/Spore/Meta/Class.pm called at /home/test/perl5/perlbrew/perls/perl-5.15.4-ld/lib/site_perl/5.15.4/Module/Runtime.pm line 205
Module::Runtime::require_module('Net::HTTP::Spore::Meta::Class') called at /home/test/perl5/perlbrew/perls/perl-5.15.4-ld/lib/site_perl/5.15.4/Class/Load.pm line 199
Class::Load::__ANON__() called at /home/test/perl5/perlbrew/perls/perl-5.15.4-ld/lib/site_perl/5.15.4/Try/Tiny.pm line 71
eval {...} called at /home/test/perl5/perlbrew/perls/perl-5.15.4-ld/lib/site_perl/5.15.4/Try/Tiny.pm line 67
Try::Tiny::try('CODE(0x2d62300)', 'Try::Tiny::Catch=REF(0x2c2ab60)') called at /home/test/perl5/perlbrew/perls/perl-5.15.4-ld/lib/site_perl/5.15.4/Class/Load.pm line 205
Class::Load::try_load_class('Net::HTTP::Spore::Meta::Class', undef) called at /home/test/perl5/perlbrew/perls/perl-5.15.4-ld/lib/site_perl/5.15.4/Class/Load.pm line 64
Class::Load::load_class('Net::HTTP::Spore::Meta::Class', undef) called at /home/test/perl5/perlbrew/perls/perl-5.15.4-ld/lib/site_perl/5.15.4/x86_64-linux-ld/Moose/Util.pm line 132
Moose::Util::_apply_all_roles('Moose::Meta::Class=HASH(0x2d7c388)', undef, 'Net::HTTP::Spore::Meta::Class') called at /home/test/perl5/perlbrew/perls/perl-5.15.4-ld/lib/site_perl/5.15.4/x86_64-linux-ld/Moose/Util.pm line 99
Moose::Util::apply_all_roles('Moose::Meta::Class=HASH(0x2d7c388)', 'Net::HTTP::Spore::Meta::Class') called at /home/test/perl5/perlbrew/perls/perl-5.15.4-ld/lib/site_perl/5.15.4/x86_64-linux-ld/Moose/Meta/Class.pm line 104
Moose::Meta::Class::create('Moose::Meta::Class', 'Moose::Meta::Class::__ANON__::SERIAL::4', 'roles', 'ARRAY(0x2adb610)', 'weaken', '', 'superclasses', 'ARRAY(0x2d62378)') called at /home/test/perl5/perlbrew/perls/perl-5.15.4-ld/lib/site_perl/5.15.4/x86_64-linux-ld/Class/MOP/Package.pm line 120
Class::MOP::Package::create_anon('Moose::Meta::Class', 'superclasses', 'ARRAY(0x2d62378)', 'roles', 'ARRAY(0x2adb610)', 'cache', 1) called at /home/test/perl5/perlbrew/perls/perl-5.15.4-ld/lib/site_perl/5.15.4/x86_64-linux-ld/Class/MOP/Class.pm line 474
Class::MOP::Class::create_anon_class('Moose::Meta::Class', 'superclasses', 'ARRAY(0x2d62378)', 'roles', 'ARRAY(0x2adb610)', 'cache', 1) called at /home/test/perl5/perlbrew/perls/perl-5.15.4-ld/lib/site_perl/5.15.4/x86_64-linux-ld/Moose/Util/MetaRole.pm line 134
Moose::Util::MetaRole::_make_new_class('Moose::Meta::Class', 'ARRAY(0x2adb610)') called at /home/test/perl5/perlbrew/perls/perl-5.15.4-ld/lib/site_perl/5.15.4/x86_64-linux-ld/Moose/Util/MetaRole.pm line 79
Moose::Util::MetaRole::_make_new_metaclass('Moose::Meta::Class=HASH(0x2d619e8)', 'HASH(0x2c92720)', 'class') called at /home/test/perl5/perlbrew/perls/perl-5.15.4-ld/lib/site_perl/5.15.4/x86_64-linux-ld/Moose/Util/MetaRole.pm line 28
Moose::Util::MetaRole::apply_metaroles('for', 'Net::HTTP::Spore::Core', 'class_metaroles', 'HASH(0x2c92720)') called at /home/test/.cpan/build/Net-HTTP-Spore-0.04-EAo4_i/blib/lib/Net/HTTP/Spore/Meta.pm line 28
Net::HTTP::Spore::Meta::init_meta('Net::HTTP::Spore::Meta', 'for_class', 'MooseX::Types::URI', 'metaclass', undef, 'meta_name', 'meta') called at /home/test/perl5/perlbrew/perls/perl-5.15.4-ld/lib/site_perl/5.15.4/x86_64-linux-ld/Moose/Exporter.pm line 435
Moose::Exporter::__ANON__('Net::HTTP::Spore::Meta') called at /home/test/.cpan/build/Net-HTTP-Spore-0.04-EAo4_i/blib/lib/Net/HTTP/Spore/Core.pm line 6
Net::HTTP::Spore::Core::BEGIN() called at /home/test/perl5/perlbrew/perls/perl-5.15.4-ld/lib/site_perl/5.15.4/MooseX/Types/URI.pm line 0
eval {...} called at /home/test/perl5/perlbrew/perls/perl-5.15.4-ld/lib/site_perl/5.15.4/MooseX/Types/URI.pm line 0
require Net/HTTP/Spore/Core.pm called at /home/test/.cpan/build/Net-HTTP-Spore-0.04-EAo4_i/blib/lib/Net/HTTP/Spore.pm line 13
Net::HTTP::Spore::BEGIN() called at /home/test/perl5/perlbrew/perls/perl-5.15.4-ld/lib/site_perl/5.15.4/MooseX/Types/URI.pm line 0
eval {...} called at /home/test/perl5/perlbrew/perls/perl-5.15.4-ld/lib/site_perl/5.15.4/MooseX/Types/URI.pm line 0
require Net/HTTP/Spore.pm called at t/spore-request/headers.t line 6
main::BEGIN() called at /home/test/perl5/perlbrew/perls/perl-5.15.4-ld/lib/site_perl/5.15.4/MooseX/Types/URI.pm line 0
eval {...} called at /home/test/perl5/perlbrew/perls/perl-5.15.4-ld/lib/site_perl/5.15.4/MooseX/Types/URI.pm line 0
t/spore-request/headers.t ............ ok
t/spore-request/new.t ................ ok
t/spore-request/request_uri.t ........ ok
t/spore-request/script_name.t ........ ok
t/spore-request/uri.t ................ ok
t/spore-response/body.t .............. ok
Providing an optimized subroutine ref for type constraints is deprecated. Use the inlining feature (inline_as) instead. at /home/test/.cpan/build/Net-HTTP-Spore-0.04-EAo4_i/blib/lib/Net/HTTP/Spore/Meta/Method.pm line 13
Net::HTTP::Spore::Meta::Method::BEGIN() called at /home/test/perl5/perlbrew/perls/perl-5.15.4-ld/lib/site_perl/5.15.4/MooseX/Types/URI.pm line 0
eval {...} called at /home/test/perl5/perlbrew/perls/perl-5.15.4-ld/lib/site_perl/5.15.4/MooseX/Types/URI.pm line 0
require Net/HTTP/Spore/Meta/Method.pm called at /home/test/.cpan/build/Net-HTTP-Spore-0.04-EAo4_i/blib/lib/Net/HTTP/Spore/Meta/Method/Spore.pm line 11
Net::HTTP::Spore::Meta::Method::Spore::BEGIN() called at /home/test/perl5/perlbrew/perls/perl-5.15.4-ld/lib/site_perl/5.15.4/MooseX/Types/URI.pm line 0
eval {...} called at /home/test/perl5/perlbrew/perls/perl-5.15.4-ld/lib/site_perl/5.15.4/MooseX/Types/URI.pm line 0
require Net/HTTP/Spore/Meta/Method/Spore.pm called at /home/test/perl5/perlbrew/perls/perl-5.15.4-ld/lib/site_perl/5.15.4/Module/Runtime.pm line 205
Module::Runtime::require_module('Net::HTTP::Spore::Meta::Method::Spore') called at /home/test/perl5/perlbrew/perls/perl-5.15.4-ld/lib/site_perl/5.15.4/Class/Load.pm line 199
Class::Load::__ANON__() called at /home/test/perl5/perlbrew/perls/perl-5.15.4-ld/lib/site_perl/5.15.4/Try/Tiny.pm line 71
eval {...} called at /home/test/perl5/perlbrew/perls/perl-5.15.4-ld/lib/site_perl/5.15.4/Try/Tiny.pm line 67
Try::Tiny::try('CODE(0x1b07c38)', 'Try::Tiny::Catch=REF(0x1ac3eb8)') called at /home/test/perl5/perlbrew/perls/perl-5.15.4-ld/lib/site_perl/5.15.4/Class/Load.pm line 205
Class::Load::try_load_class('Net::HTTP::Spore::Meta::Method::Spore', undef) called at /home/test/perl5/perlbrew/perls/perl-5.15.4-ld/lib/site_perl/5.15.4/Class/Load.pm line 64
Class::Load::load_class('Net::HTTP::Spore::Meta::Method::Spore', undef) called at /home/test/perl5/perlbrew/perls/perl-5.15.4-ld/lib/site_perl/5.15.4/x86_64-linux-ld/Moose/Util.pm line 132
Moose::Util::_apply_all_roles('Moose::Meta::Role=HASH(0x1aca0a0)', undef, 'Net::HTTP::Spore::Meta::Method::Spore') called at /home/test/perl5/perlbrew/perls/perl-5.15.4-ld/lib/site_perl/5.15.4/x86_64-linux-ld/Moose/Util.pm line 99
Moose::Util::apply_all_roles('Moose::Meta::Role=HASH(0x1aca0a0)', 'Net::HTTP::Spore::Meta::Method::Spore') called at /home/test/perl5/perlbrew/perls/perl-5.15.4-ld/lib/site_perl/5.15.4/x86_64-linux-ld/Moose/Role.pm line 29
Moose::Role::with('Moose::Meta::Role=HASH(0x1aca0a0)', 'Net::HTTP::Spore::Meta::Method::Spore') called at /home/test/perl5/perlbrew/perls/perl-5.15.4-ld/lib/site_perl/5.15.4/x86_64-linux-ld/Moose/Exporter.pm line 370
Moose::Role::with('Net::HTTP::Spore::Meta::Method::Spore') called at /home/test/.cpan/build/Net-HTTP-Spore-0.04-EAo4_i/blib/lib/Net/HTTP/Spore/Meta/Class.pm line 10
require Net/HTTP/Spore/Meta/Class.pm called at /home/test/perl5/perlbrew/perls/perl-5.15.4-ld/lib/site_perl/5.15.4/Module/Runtime.pm line 205
Module::Runtime::require_module('Net::HTTP::Spore::Meta::Class') called at /home/test/perl5/perlbrew/perls/perl-5.15.4-ld/lib/site_perl/5.15.4/Class/Load.pm line 199
Class::Load::__ANON__() called at /home/test/perl5/perlbrew/perls/perl-5.15.4-ld/lib/site_perl/5.15.4/Try/Tiny.pm line 71
eval {...} called at /home/test/perl5/perlbrew/perls/perl-5.15.4-ld/lib/site_perl/5.15.4/Try/Tiny.pm line 67
Try::Tiny::try('CODE(0x1aa73c8)', 'Try::Tiny::Catch=REF(0x196ffd8)') called at /home/test/perl5/perlbrew/perls/perl-5.15.4-ld/lib/site_perl/5.15.4/Class/Load.pm line 205
Class::Load::try_load_class('Net::HTTP::Spore::Meta::Class', undef) called at /home/test/perl5/perlbrew/perls/perl-5.15.4-ld/lib/site_perl/5.15.4/Class/Load.pm line 64
Class::Load::load_class('Net::HTTP::Spore::Meta::Class', undef) called at /home/test/perl5/perlbrew/perls/perl-5.15.4-ld/lib/site_perl/5.15.4/x86_64-linux-ld/Moose/Util.pm line 132
Moose::Util::_apply_all_roles('Moose::Meta::Class=HASH(0x1aa78d8)', undef, 'Net::HTTP::Spore::Meta::Class') called at /home/test/perl5/perlbrew/perls/perl-5.15.4-ld/lib/site_perl/5.15.4/x86_64-linux-ld/Moose/Util.pm line 99
Moose::Util::apply_all_roles('Moose::Meta::Class=HASH(0x1aa78d8)', 'Net::HTTP::Spore::Meta::Class') called at /home/test/perl5/perlbrew/perls/perl-5.15.4-ld/lib/site_perl/5.15.4/x86_64-linux-ld/Moose/Meta/Class.pm line 104
Moose::Meta::Class::create('Moose::Meta::Class', 'Moose::Meta::Class::__ANON__::SERIAL::1', 'roles', 'ARRAY(0x101bec0)', 'weaken', '', 'superclasses', 'ARRAY(0x1aa7410)') called at /home/test/perl5/perlbrew/perls/perl-5.15.4-ld/lib/site_perl/5.15.4/x86_64-linux-ld/Class/MOP/Package.pm line 120
Class::MOP::Package::create_anon('Moose::Meta::Class', 'superclasses', 'ARRAY(0x1aa7410)', 'roles', 'ARRAY(0x101bec0)', 'cache', 1) called at /home/test/perl5/perlbrew/perls/perl-5.15.4-ld/lib/site_perl/5.15.4/x86_64-linux-ld/Class/MOP/Class.pm line 474
Class::MOP::Class::create_anon_class('Moose::Meta::Class', 'superclasses', 'ARRAY(0x1aa7410)', 'roles', 'ARRAY(0x101bec0)', 'cache', 1) called at /home/test/perl5/perlbrew/perls/perl-5.15.4-ld/lib/site_perl/5.15.4/x86_64-linux-ld/Moose/Util/MetaRole.pm line 134
Moose::Util::MetaRole::_make_new_class('Moose::Meta::Class', 'ARRAY(0x101bec0)') called at /home/test/perl5/perlbrew/perls/perl-5.15.4-ld/lib/site_perl/5.15.4/x86_64-linux-ld/Moose/Util/MetaRole.pm line 79
Moose::Util::MetaRole::_make_new_metaclass('Moose::Meta::Class=HASH(0x1ab5fc8)', 'HASH(0x19837d0)', 'class') called at /home/test/perl5/perlbrew/perls/perl-5.15.4-ld/lib/site_perl/5.15.4/x86_64-linux-ld/Moose/Util/MetaRole.pm line 28
Moose::Util::MetaRole::apply_metaroles('for', 'Net::HTTP::Spore::Core', 'class_metaroles', 'HASH(0x19837d0)') called at /home/test/.cpan/build/Net-HTTP-Spore-0.04-EAo4_i/blib/lib/Net/HTTP/Spore/Meta.pm line 28
Net::HTTP::Spore::Meta::init_meta('Net::HTTP::Spore::Meta', 'for_class', 'MooseX::Types::URI', 'metaclass', undef, 'meta_name', 'meta') called at /home/test/perl5/perlbrew/perls/perl-5.15.4-ld/lib/site_perl/5.15.4/x86_64-linux-ld/Moose/Exporter.pm line 435
Moose::Exporter::__ANON__('Net::HTTP::Spore::Meta') called at /home/test/.cpan/build/Net-HTTP-Spore-0.04-EAo4_i/blib/lib/Net/HTTP/Spore/Core.pm line 6
Net::HTTP::Spore::Core::BEGIN() called at /home/test/perl5/perlbrew/perls/perl-5.15.4-ld/lib/site_perl/5.15.4/MooseX/Types/URI.pm line 0
eval {...} called at /home/test/perl5/perlbrew/perls/perl-5.15.4-ld/lib/site_perl/5.15.4/MooseX/Types/URI.pm line 0
require Net/HTTP/Spore/Core.pm called at /home/test/.cpan/build/Net-HTTP-Spore-0.04-EAo4_i/blib/lib/Net/HTTP/Spore.pm line 13
Net::HTTP::Spore::BEGIN() called at /home/test/perl5/perlbrew/perls/perl-5.15.4-ld/lib/site_perl/5.15.4/MooseX/Types/URI.pm line 0
eval {...} called at /home/test/perl5/perlbrew/perls/perl-5.15.4-ld/lib/site_perl/5.15.4/MooseX/Types/URI.pm line 0
require Net/HTTP/Spore.pm called at t/spore-response/debug.t line 4
main::BEGIN() called at /home/test/perl5/perlbrew/perls/perl-5.15.4-ld/lib/site_perl/5.15.4/MooseX/Types/URI.pm line 0
eval {...} called at /home/test/perl5/perlbrew/perls/perl-5.15.4-ld/lib/site_perl/5.15.4/MooseX/Types/URI.pm line 0
t/spore-response/debug.t ............. ok
t/spore-response/headers.t ........... ok
t/spore-response/new.t ............... ok
t/spore-response/response.t .......... ok
t/spore-response/timeout.t ........... ok
Providing an optimized subroutine ref for type constraints is deprecated. Use the inlining feature (inline_as) instead. at /home/test/.cpan/build/Net-HTTP-Spore-0.04-EAo4_i/blib/lib/Net/HTTP/Spore/Meta/Method.pm line 13
Net::HTTP::Spore::Meta::Method::BEGIN() called at /home/test/perl5/perlbrew/perls/perl-5.15.4-ld/lib/site_perl/5.15.4/MooseX/Types/URI.pm line 0
eval {...} called at /home/test/perl5/perlbrew/perls/perl-5.15.4-ld/lib/site_perl/5.15.4/MooseX/Types/URI.pm line 0
require Net/HTTP/Spore/Meta/Method.pm called at /home/test/.cpan/build/Net-HTTP-Spore-0.04-EAo4_i/blib/lib/Net/HTTP/Spore/Meta/Method/Spore.pm line 11
Net::HTTP::Spore::Meta::Method::Spore::BEGIN() called at /home/test/perl5/perlbrew/perls/perl-5.15.4-ld/lib/site_perl/5.15.4/MooseX/Types/URI.pm line 0
eval {...} called at /home/test/perl5/perlbrew/perls/perl-5.15.4-ld/lib/site_perl/5.15.4/MooseX/Types/URI.pm line 0
require Net/HTTP/Spore/Meta/Method/Spore.pm called at /home/test/perl5/perlbrew/perls/perl-5.15.4-ld/lib/site_perl/5.15.4/Module/Runtime.pm line 205
Module::Runtime::require_module('Net::HTTP::Spore::Meta::Method::Spore') called at /home/test/perl5/perlbrew/perls/perl-5.15.4-ld/lib/site_perl/5.15.4/Class/Load.pm line 199
Class::Load::__ANON__() called at /home/test/perl5/perlbrew/perls/perl-5.15.4-ld/lib/site_perl/5.15.4/Try/Tiny.pm line 71
eval {...} called at /home/test/perl5/perlbrew/perls/perl-5.15.4-ld/lib/site_perl/5.15.4/Try/Tiny.pm line 67
Try::Tiny::try('CODE(0x27e6980)', 'Try::Tiny::Catch=REF(0x27d7838)') called at /home/test/perl5/perlbrew/perls/perl-5.15.4-ld/lib/site_perl/5.15.4/Class/Load.pm line 205
Class::Load::try_load_class('Net::HTTP::Spore::Meta::Method::Spore', undef) called at /home/test/perl5/perlbrew/perls/perl-5.15.4-ld/lib/site_perl/5.15.4/Class/Load.pm line 64
Class::Load::load_class('Net::HTTP::Spore::Meta::Method::Spore', undef) called at /home/test/perl5/perlbrew/perls/perl-5.15.4-ld/lib/site_perl/5.15.4/x86_64-linux-ld/Moose/Util.pm line 132
Moose::Util::_apply_all_roles('Moose::Meta::Role=HASH(0x27db868)', undef, 'Net::HTTP::Spore::Meta::Method::Spore') called at /home/test/perl5/perlbrew/perls/perl-5.15.4-ld/lib/site_perl/5.15.4/x86_64-linux-ld/Moose/Util.pm line 99
Moose::Util::apply_all_roles('Moose::Meta::Role=HASH(0x27db868)', 'Net::HTTP::Spore::Meta::Method::Spore') called at /home/test/perl5/perlbrew/perls/perl-5.15.4-ld/lib/site_perl/5.15.4/x86_64-linux-ld/Moose/Role.pm line 29
Moose::Role::with('Moose::Meta::Role=HASH(0x27db868)', 'Net::HTTP::Spore::Meta::Method::Spore') called at /home/test/perl5/perlbrew/perls/perl-5.15.4-ld/lib/site_perl/5.15.4/x86_64-linux-ld/Moose/Exporter.pm line 370
Moose::Role::with('Net::HTTP::Spore::Meta::Method::Spore') called at /home/test/.cpan/build/Net-HTTP-Spore-0.04-EAo4_i/blib/lib/Net/HTTP/Spore/Meta/Class.pm line 10
require Net/HTTP/Spore/Meta/Class.pm called at /home/test/perl5/perlbrew/perls/perl-5.15.4-ld/lib/site_perl/5.15.4/Module/Runtime.pm line 205
Module::Runtime::require_module('Net::HTTP::Spore::Meta::Class') called at /home/test/perl5/perlbrew/perls/perl-5.15.4-ld/lib/site_perl/5.15.4/Class/Load.pm line 199
Class::Load::__ANON__() called at /home/test/perl5/perlbrew/perls/perl-5.15.4-ld/lib/site_perl/5.15.4/Try/Tiny.pm line 71
eval {...} called at /home/test/perl5/perlbrew/perls/perl-5.15.4-ld/lib/site_perl/5.15.4/Try/Tiny.pm line 67
Try::Tiny::try('CODE(0x27d6c80)', 'Try::Tiny::Catch=REF(0x26a9178)') called at /home/test/perl5/perlbrew/perls/perl-5.15.4-ld/lib/site_perl/5.15.4/Class/Load.pm line 205
Class::Load::try_load_class('Net::HTTP::Spore::Meta::Class', undef) called at /home/test/perl5/perlbrew/perls/perl-5.15.4-ld/lib/site_perl/5.15.4/Class/Load.pm line 64
Class::Load::load_class('Net::HTTP::Spore::Meta::Class', undef) called at /home/test/perl5/perlbrew/perls/perl-5.15.4-ld/lib/site_perl/5.15.4/x86_64-linux-ld/Moose/Util.pm line 132
Moose::Util::_apply_all_roles('Moose::Meta::Class=HASH(0x27d7190)', undef, 'Net::HTTP::Spore::Meta::Class') called at /home/test/perl5/perlbrew/perls/perl-5.15.4-ld/lib/site_perl/5.15.4/x86_64-linux-ld/Moose/Util.pm line 99
Moose::Util::apply_all_roles('Moose::Meta::Class=HASH(0x27d7190)', 'Net::HTTP::Spore::Meta::Class') called at /home/test/perl5/perlbrew/perls/perl-5.15.4-ld/lib/site_perl/5.15.4/x86_64-linux-ld/Moose/Meta/Class.pm line 104
Moose::Meta::Class::create('Moose::Meta::Class', 'Moose::Meta::Class::__ANON__::SERIAL::1', 'roles', 'ARRAY(0x26faef8)', 'weaken', '', 'superclasses', 'ARRAY(0x27d6cc8)') called at /home/test/perl5/perlbrew/perls/perl-5.15.4-ld/lib/site_perl/5.15.4/x86_64-linux-ld/Class/MOP/Package.pm line 120
Class::MOP::Package::create_anon('Moose::Meta::Class', 'superclasses', 'ARRAY(0x27d6cc8)', 'roles', 'ARRAY(0x26faef8)', 'cache', 1) called at /home/test/perl5/perlbrew/perls/perl-5.15.4-ld/lib/site_perl/5.15.4/x86_64-linux-ld/Class/MOP/Class.pm line 474
Class::MOP::Class::create_anon_class('Moose::Meta::Class', 'superclasses', 'ARRAY(0x27d6cc8)', 'roles', 'ARRAY(0x26faef8)', 'cache', 1) called at /home/test/perl5/perlbrew/perls/perl-5.15.4-ld/lib/site_perl/5.15.4/x86_64-linux-ld/Moose/Util/MetaRole.pm line 134
Moose::Util::MetaRole::_make_new_class('Moose::Meta::Class', 'ARRAY(0x26faef8)') called at /home/test/perl5/perlbrew/perls/perl-5.15.4-ld/lib/site_perl/5.15.4/x86_64-linux-ld/Moose/Util/MetaRole.pm line 79
Moose::Util::MetaRole::_make_new_metaclass('Moose::Meta::Class=HASH(0x27d5310)', 'HASH(0x2728e90)', 'class') called at /home/test/perl5/perlbrew/perls/perl-5.15.4-ld/lib/site_perl/5.15.4/x86_64-linux-ld/Moose/Util/MetaRole.pm line 28
Moose::Util::MetaRole::apply_metaroles('for', 'Net::HTTP::Spore::Core', 'class_metaroles', 'HASH(0x2728e90)') called at /home/test/.cpan/build/Net-HTTP-Spore-0.04-EAo4_i/blib/lib/Net/HTTP/Spore/Meta.pm line 28
Net::HTTP::Spore::Meta::init_meta('Net::HTTP::Spore::Meta', 'for_class', 'MooseX::Types::URI', 'metaclass', undef, 'meta_name', 'meta') called at /home/test/perl5/perlbrew/perls/perl-5.15.4-ld/lib/site_perl/5.15.4/x86_64-linux-ld/Moose/Exporter.pm line 435
Moose::Exporter::__ANON__('Net::HTTP::Spore::Meta') called at /home/test/.cpan/build/Net-HTTP-Spore-0.04-EAo4_i/blib/lib/Net/HTTP/Spore/Core.pm line 6
Net::HTTP::Spore::Core::BEGIN() called at /home/test/perl5/perlbrew/perls/perl-5.15.4-ld/lib/site_perl/5.15.4/MooseX/Types/URI.pm line 0
eval {...} called at /home/test/perl5/perlbrew/perls/perl-5.15.4-ld/lib/site_perl/5.15.4/MooseX/Types/URI.pm line 0
require Net/HTTP/Spore/Core.pm called at /home/test/.cpan/build/Net-HTTP-Spore-0.04-EAo4_i/blib/lib/Net/HTTP/Spore.pm line 13
Net::HTTP::Spore::BEGIN() called at /home/test/perl5/perlbrew/perls/perl-5.15.4-ld/lib/site_perl/5.15.4/MooseX/Types/URI.pm line 0
eval {...} called at /home/test/perl5/perlbrew/perls/perl-5.15.4-ld/lib/site_perl/5.15.4/MooseX/Types/URI.pm line 0
require Net/HTTP/Spore.pm called at /home/test/.cpan/build/Net-HTTP-Spore-0.04-EAo4_i/blib/lib/Net/HTTP/Spore/Role.pm line 9
Net::HTTP::Spore::Role::BEGIN() called at /home/test/perl5/perlbrew/perls/perl-5.15.4-ld/lib/site_perl/5.15.4/MooseX/Types/URI.pm line 0
eval {...} called at /home/test/perl5/perlbrew/perls/perl-5.15.4-ld/lib/site_perl/5.15.4/MooseX/Types/URI.pm line 0
require Net/HTTP/Spore/Role.pm called at /home/test/perl5/perlbrew/perls/perl-5.15.4-ld/lib/site_perl/5.15.4/Module/Runtime.pm line 205
Module::Runtime::require_module('Net::HTTP::Spore::Role') called at /home/test/perl5/perlbrew/perls/perl-5.15.4-ld/lib/site_perl/5.15.4/Class/Load.pm line 199
Class::Load::__ANON__() called at /home/test/perl5/perlbrew/perls/perl-5.15.4-ld/lib/site_perl/5.15.4/Try/Tiny.pm line 71
eval {...} called at /home/test/perl5/perlbrew/perls/perl-5.15.4-ld/lib/site_perl/5.15.4/Try/Tiny.pm line 67
Try::Tiny::try('CODE(0x25e2360)', 'Try::Tiny::Catch=REF(0x25e03b8)') called at /home/test/perl5/perlbrew/perls/perl-5.15.4-ld/lib/site_perl/5.15.4/Class/Load.pm line 205
Class::Load::try_load_class('Net::HTTP::Spore::Role', 'HASH(0x24b9ca8)') called at /home/test/perl5/perlbrew/perls/perl-5.15.4-ld/lib/site_perl/5.15.4/Class/Load.pm line 64
Class::Load::load_class('Net::HTTP::Spore::Role', 'HASH(0x24b9ca8)') called at /home/test/perl5/perlbrew/perls/perl-5.15.4-ld/lib/site_perl/5.15.4/x86_64-linux-ld/Moose/Util.pm line 132
Moose::Util::_apply_all_roles('Moose::Meta::Class=HASH(0x24b0000)', undef, 'Net::HTTP::Spore::Role', 'HASH(0x24b9ca8)') called at /home/test/perl5/perlbrew/perls/perl-5.15.4-ld/lib/site_perl/5.15.4/x86_64-linux-ld/Moose/Util.pm line 99
Moose::Util::apply_all_roles('Moose::Meta::Class=HASH(0x24b0000)', 'Net::HTTP::Spore::Role', 'HASH(0x24b9ca8)') called at /home/test/perl5/perlbrew/perls/perl-5.15.4-ld/lib/site_perl/5.15.4/x86_64-linux-ld/Moose.pm line 67
Moose::with('Moose::Meta::Class=HASH(0x24b0000)', 'Net::HTTP::Spore::Role', 'HASH(0x24b9ca8)') called at /home/test/perl5/perlbrew/perls/perl-5.15.4-ld/lib/site_perl/5.15.4/x86_64-linux-ld/Moose/Exporter.pm line 370
Moose::with('Net::HTTP::Spore::Role', 'HASH(0x24b9ca8)') called at t/spore-role/basic.t line 21
t/spore-role/basic.t ................. ok
Providing an optimized subroutine ref for type constraints is deprecated. Use the inlining feature (inline_as) instead. at /home/test/.cpan/build/Net-HTTP-Spore-0.04-EAo4_i/blib/lib/Net/HTTP/Spore/Meta/Method.pm line 13
Net::HTTP::Spore::Meta::Method::BEGIN() called at /home/test/perl5/perlbrew/perls/perl-5.15.4-ld/lib/site_perl/5.15.4/MooseX/Types/URI.pm line 0
eval {...} called at /home/test/perl5/perlbrew/perls/perl-5.15.4-ld/lib/site_perl/5.15.4/MooseX/Types/URI.pm line 0
require Net/HTTP/Spore/Meta/Method.pm called at /home/test/.cpan/build/Net-HTTP-Spore-0.04-EAo4_i/blib/lib/Net/HTTP/Spore/Meta/Method/Spore.pm line 11
Net::HTTP::Spore::Meta::Method::Spore::BEGIN() called at /home/test/perl5/perlbrew/perls/perl-5.15.4-ld/lib/site_perl/5.15.4/MooseX/Types/URI.pm line 0
eval {...} called at /home/test/perl5/perlbrew/perls/perl-5.15.4-ld/lib/site_perl/5.15.4/MooseX/Types/URI.pm line 0
require Net/HTTP/Spore/Meta/Method/Spore.pm called at /home/test/perl5/perlbrew/perls/perl-5.15.4-ld/lib/site_perl/5.15.4/Module/Runtime.pm line 205
Module::Runtime::require_module('Net::HTTP::Spore::Meta::Method::Spore') called at /home/test/perl5/perlbrew/perls/perl-5.15.4-ld/lib/site_perl/5.15.4/Class/Load.pm line 199
Class::Load::__ANON__() called at /home/test/perl5/perlbrew/perls/perl-5.15.4-ld/lib/site_perl/5.15.4/Try/Tiny.pm line 71
eval {...} called at /home/test/perl5/perlbrew/perls/perl-5.15.4-ld/lib/site_perl/5.15.4/Try/Tiny.pm line 67
Try::Tiny::try('CODE(0x2437888)', 'Try::Tiny::Catch=REF(0x2411840)') called at /home/test/perl5/perlbrew/perls/perl-5.15.4-ld/lib/site_perl/5.15.4/Class/Load.pm line 205
Class::Load::try_load_class('Net::HTTP::Spore::Meta::Method::Spore', undef) called at /home/test/perl5/perlbrew/perls/perl-5.15.4-ld/lib/site_perl/5.15.4/Class/Load.pm line 64
Class::Load::load_class('Net::HTTP::Spore::Meta::Method::Spore', undef) called at /home/test/perl5/perlbrew/perls/perl-5.15.4-ld/lib/site_perl/5.15.4/x86_64-linux-ld/Moose/Util.pm line 132
Moose::Util::_apply_all_roles('Moose::Meta::Role=HASH(0x2423170)', undef, 'Net::HTTP::Spore::Meta::Method::Spore') called at /home/test/perl5/perlbrew/perls/perl-5.15.4-ld/lib/site_perl/5.15.4/x86_64-linux-ld/Moose/Util.pm line 99
Moose::Util::apply_all_roles('Moose::Meta::Role=HASH(0x2423170)', 'Net::HTTP::Spore::Meta::Method::Spore') called at /home/test/perl5/perlbrew/perls/perl-5.15.4-ld/lib/site_perl/5.15.4/x86_64-linux-ld/Moose/Role.pm line 29
Moose::Role::with('Moose::Meta::Role=HASH(0x2423170)', 'Net::HTTP::Spore::Meta::Method::Spore') called at /home/test/perl5/perlbrew/perls/perl-5.15.4-ld/lib/site_perl/5.15.4/x86_64-linux-ld/Moose/Exporter.pm line 370
Moose::Role::with('Net::HTTP::Spore::Meta::Method::Spore') called at /home/test/.cpan/build/Net-HTTP-Spore-0.04-EAo4_i/blib/lib/Net/HTTP/Spore/Meta/Class.pm line 10
require Net/HTTP/Spore/Meta/Class.pm called at /home/test/perl5/perlbrew/perls/perl-5.15.4-ld/lib/site_perl/5.15.4/Module/Runtime.pm line 205
Module::Runtime::require_module('Net::HTTP::Spore::Meta::Class') called at /home/test/perl5/perlbrew/perls/perl-5.15.4-ld/lib/site_perl/5.15.4/Class/Load.pm line 199
Class::Load::__ANON__() called at /home/test/perl5/perlbrew/perls/perl-5.15.4-ld/lib/site_perl/5.15.4/Try/Tiny.pm line 71
eval {...} called at /home/test/perl5/perlbrew/perls/perl-5.15.4-ld/lib/site_perl/5.15.4/Try/Tiny.pm line 67
Try::Tiny::try('CODE(0x2410c88)', 'Try::Tiny::Catch=REF(0x23eb348)') called at /home/test/perl5/perlbrew/perls/perl-5.15.4-ld/lib/site_perl/5.15.4/Class/Load.pm line 205
Class::Load::try_load_class('Net::HTTP::Spore::Meta::Class', undef) called at /home/test/perl5/perlbrew/perls/perl-5.15.4-ld/lib/site_perl/5.15.4/Class/Load.pm line 64
Class::Load::load_class('Net::HTTP::Spore::Meta::Class', undef) called at /home/test/perl5/perlbrew/perls/perl-5.15.4-ld/lib/site_perl/5.15.4/x86_64-linux-ld/Moose/Util.pm line 132
Moose::Util::_apply_all_roles('Moose::Meta::Class=HASH(0x2411198)', undef, 'Net::HTTP::Spore::Meta::Class') called at /home/test/perl5/perlbrew/perls/perl-5.15.4-ld/lib/site_perl/5.15.4/x86_64-linux-ld/Moose/Util.pm line 99
Moose::Util::apply_all_roles('Moose::Meta::Class=HASH(0x2411198)', 'Net::HTTP::Spore::Meta::Class') called at /home/test/perl5/perlbrew/perls/perl-5.15.4-ld/lib/site_perl/5.15.4/x86_64-linux-ld/Moose/Meta/Class.pm line 104
Moose::Meta::Class::create('Moose::Meta::Class', 'Moose::Meta::Class::__ANON__::SERIAL::1', 'roles', 'ARRAY(0x23f25d0)', 'weaken', '', 'superclasses', 'ARRAY(0x2410cd0)') called at /home/test/perl5/perlbrew/perls/perl-5.15.4-ld/lib/site_perl/5.15.4/x86_64-linux-ld/Class/MOP/Package.pm line 120
Class::MOP::Package::create_anon('Moose::Meta::Class', 'superclasses', 'ARRAY(0x2410cd0)', 'roles', 'ARRAY(0x23f25d0)', 'cache', 1) called at /home/test/perl5/perlbrew/perls/perl-5.15.4-ld/lib/site_perl/5.15.4/x86_64-linux-ld/Class/MOP/Class.pm line 474
Class::MOP::Class::create_anon_class('Moose::Meta::Class', 'superclasses', 'ARRAY(0x2410cd0)', 'roles', 'ARRAY(0x23f25d0)', 'cache', 1) called at /home/test/perl5/perlbrew/perls/perl-5.15.4-ld/lib/site_perl/5.15.4/x86_64-linux-ld/Moose/Util/MetaRole.pm line 134
Moose::Util::MetaRole::_make_new_class('Moose::Meta::Class', 'ARRAY(0x23f25d0)') called at /home/test/perl5/perlbrew/perls/perl-5.15.4-ld/lib/site_perl/5.15.4/x86_64-linux-ld/Moose/Util/MetaRole.pm line 79
Moose::Util::MetaRole::_make_new_metaclass('Moose::Meta::Class=HASH(0x240efd8)', 'HASH(0x23f6628)', 'class') called at /home/test/perl5/perlbrew/perls/perl-5.15.4-ld/lib/site_perl/5.15.4/x86_64-linux-ld/Moose/Util/MetaRole.pm line 28
Moose::Util::MetaRole::apply_metaroles('for', 'Net::HTTP::Spore::Core', 'class_metaroles', 'HASH(0x23f6628)') called at /home/test/.cpan/build/Net-HTTP-Spore-0.04-EAo4_i/blib/lib/Net/HTTP/Spore/Meta.pm line 28
Net::HTTP::Spore::Meta::init_meta('Net::HTTP::Spore::Meta', 'for_class', 'MooseX::Types::URI', 'metaclass', undef, 'meta_name', 'meta') called at /home/test/perl5/perlbrew/perls/perl-5.15.4-ld/lib/site_perl/5.15.4/x86_64-linux-ld/Moose/Exporter.pm line 435
Moose::Exporter::__ANON__('Net::HTTP::Spore::Meta') called at /home/test/.cpan/build/Net-HTTP-Spore-0.04-EAo4_i/blib/lib/Net/HTTP/Spore/Core.pm line 6
Net::HTTP::Spore::Core::BEGIN() called at /home/test/perl5/perlbrew/perls/perl-5.15.4-ld/lib/site_perl/5.15.4/MooseX/Types/URI.pm line 0
eval {...} called at /home/test/perl5/perlbrew/perls/perl-5.15.4-ld/lib/site_perl/5.15.4/MooseX/Types/URI.pm line 0
require Net/HTTP/Spore/Core.pm called at /home/test/.cpan/build/Net-HTTP-Spore-0.04-EAo4_i/blib/lib/Net/HTTP/Spore.pm line 13
Net::HTTP::Spore::BEGIN() called at /home/test/perl5/perlbrew/perls/perl-5.15.4-ld/lib/site_perl/5.15.4/MooseX/Types/URI.pm line 0
eval {...} called at /home/test/perl5/perlbrew/perls/perl-5.15.4-ld/lib/site_perl/5.15.4/MooseX/Types/URI.pm line 0
require Net/HTTP/Spore.pm called at t/spore/01_new_from_string.t line 10
main::BEGIN() called at /home/test/perl5/perlbrew/perls/perl-5.15.4-ld/lib/site_perl/5.15.4/MooseX/Types/URI.pm line 0
eval {...} called at /home/test/perl5/perlbrew/perls/perl-5.15.4-ld/lib/site_perl/5.15.4/MooseX/Types/URI.pm line 0
t/spore/01_new_from_string.t ......... ok
Providing an optimized subroutine ref for type constraints is deprecated. Use the inlining feature (inline_as) instead. at /home/test/.cpan/build/Net-HTTP-Spore-0.04-EAo4_i/blib/lib/Net/HTTP/Spore/Meta/Method.pm line 13
Net::HTTP::Spore::Meta::Method::BEGIN() called at /home/test/perl5/perlbrew/perls/perl-5.15.4-ld/lib/site_perl/5.15.4/MooseX/Types/URI.pm line 0
eval {...} called at /home/test/perl5/perlbrew/perls/perl-5.15.4-ld/lib/site_perl/5.15.4/MooseX/Types/URI.pm line 0
require Net/HTTP/Spore/Meta/Method.pm called at /home/test/.cpan/build/Net-HTTP-Spore-0.04-EAo4_i/blib/lib/Net/HTTP/Spore/Meta/Method/Spore.pm line 11
Net::HTTP::Spore::Meta::Method::Spore::BEGIN() called at /home/test/perl5/perlbrew/perls/perl-5.15.4-ld/lib/site_perl/5.15.4/MooseX/Types/URI.pm line 0
eval {...} called at /home/test/perl5/perlbrew/perls/perl-5.15.4-ld/lib/site_perl/5.15.4/MooseX/Types/URI.pm line 0
require Net/HTTP/Spore/Meta/Method/Spore.pm called at /home/test/perl5/perlbrew/perls/perl-5.15.4-ld/lib/site_perl/5.15.4/Module/Runtime.pm line 205
Module::Runtime::require_module('Net::HTTP::Spore::Meta::Method::Spore') called at /home/test/perl5/perlbrew/perls/perl-5.15.4-ld/lib/site_perl/5.15.4/Class/Load.pm line 199
Class::Load::__ANON__() called at /home/test/perl5/perlbrew/perls/perl-5.15.4-ld/lib/site_perl/5.15.4/Try/Tiny.pm line 71
eval {...} called at /home/test/perl5/perlbrew/perls/perl-5.15.4-ld/lib/site_perl/5.15.4/Try/Tiny.pm line 67
Try::Tiny::try('CODE(0x1995c30)', 'Try::Tiny::Catch=REF(0x1950400)') called at /home/test/perl5/perlbrew/perls/perl-5.15.4-ld/lib/site_perl/5.15.4/Class/Load.pm line 205
Class::Load::try_load_class('Net::HTTP::Spore::Meta::Method::Spore', undef) called at /home/test/perl5/perlbrew/perls/perl-5.15.4-ld/lib/site_perl/5.15.4/Class/Load.pm line 64
Class::Load::load_class('Net::HTTP::Spore::Meta::Method::Spore', undef) called at /home/test/perl5/perlbrew/perls/perl-5.15.4-ld/lib/site_perl/5.15.4/x86_64-linux-ld/Moose/Util.pm line 132
Moose::Util::_apply_all_roles('Moose::Meta::Role=HASH(0x1956628)', undef, 'Net::HTTP::Spore::Meta::Method::Spore') called at /home/test/perl5/perlbrew/perls/perl-5.15.4-ld/lib/site_perl/5.15.4/x86_64-linux-ld/Moose/Util.pm line 99
Moose::Util::apply_all_roles('Moose::Meta::Role=HASH(0x1956628)', 'Net::HTTP::Spore::Meta::Method::Spore') called at /home/test/perl5/perlbrew/perls/perl-5.15.4-ld/lib/site_perl/5.15.4/x86_64-linux-ld/Moose/Role.pm line 29
Moose::Role::with('Moose::Meta::Role=HASH(0x1956628)', 'Net::HTTP::Spore::Meta::Method::Spore') called at /home/test/perl5/perlbrew/perls/perl-5.15.4-ld/lib/site_perl/5.15.4/x86_64-linux-ld/Moose/Exporter.pm line 370
Moose::Role::with('Net::HTTP::Spore::Meta::Method::Spore') called at /home/test/.cpan/build/Net-HTTP-Spore-0.04-EAo4_i/blib/lib/Net/HTTP/Spore/Meta/Class.pm line 10
require Net/HTTP/Spore/Meta/Class.pm called at /home/test/perl5/perlbrew/perls/perl-5.15.4-ld/lib/site_perl/5.15.4/Module/Runtime.pm line 205
Module::Runtime::require_module('Net::HTTP::Spore::Meta::Class') called at /home/test/perl5/perlbrew/perls/perl-5.15.4-ld/lib/site_perl/5.15.4/Class/Load.pm line 199
Class::Load::__ANON__() called at /home/test/perl5/perlbrew/perls/perl-5.15.4-ld/lib/site_perl/5.15.4/Try/Tiny.pm line 71
eval {...} called at /home/test/perl5/perlbrew/perls/perl-5.15.4-ld/lib/site_perl/5.15.4/Try/Tiny.pm line 67
Try::Tiny::try('CODE(0x1934630)', 'Try::Tiny::Catch=REF(0x18c7ec0)') called at /home/test/perl5/perlbrew/perls/perl-5.15.4-ld/lib/site_perl/5.15.4/Class/Load.pm line 205
Class::Load::try_load_class('Net::HTTP::Spore::Meta::Class', undef) called at /home/test/perl5/perlbrew/perls/perl-5.15.4-ld/lib/site_perl/5.15.4/Class/Load.pm line 64
Class::Load::load_class('Net::HTTP::Spore::Meta::Class', undef) called at /home/test/perl5/perlbrew/perls/perl-5.15.4-ld/lib/site_perl/5.15.4/x86_64-linux-ld/Moose/Util.pm line 132
Moose::Util::_apply_all_roles('Moose::Meta::Class=HASH(0x194fd58)', undef, 'Net::HTTP::Spore::Meta::Class') called at /home/test/perl5/perlbrew/perls/perl-5.15.4-ld/lib/site_perl/5.15.4/x86_64-linux-ld/Moose/Util.pm line 99
Moose::Util::apply_all_roles('Moose::Meta::Class=HASH(0x194fd58)', 'Net::HTTP::Spore::Meta::Class') called at /home/test/perl5/perlbrew/perls/perl-5.15.4-ld/lib/site_perl/5.15.4/x86_64-linux-ld/Moose/Meta/Class.pm line 104
Moose::Meta::Class::create('Moose::Meta::Class', 'Moose::Meta::Class::__ANON__::SERIAL::1', 'roles', 'ARRAY(0x18d09b8)', 'weaken', '', 'superclasses', 'ARRAY(0x1934678)') called at /home/test/perl5/perlbrew/perls/perl-5.15.4-ld/lib/site_perl/5.15.4/x86_64-linux-ld/Class/MOP/Package.pm line 120
Class::MOP::Package::create_anon('Moose::Meta::Class', 'superclasses', 'ARRAY(0x1934678)', 'roles', 'ARRAY(0x18d09b8)', 'cache', 1) called at /home/test/perl5/perlbrew/perls/perl-5.15.4-ld/lib/site_perl/5.15.4/x86_64-linux-ld/Class/MOP/Class.pm line 474
Class::MOP::Class::create_anon_class('Moose::Meta::Class', 'superclasses', 'ARRAY(0x1934678)', 'roles', 'ARRAY(0x18d09b8)', 'cache', 1) called at /home/test/perl5/perlbrew/perls/perl-5.15.4-ld/lib/site_perl/5.15.4/x86_64-linux-ld/Moose/Util/MetaRole.pm line 134
Moose::Util::MetaRole::_make_new_class('Moose::Meta::Class', 'ARRAY(0x18d09b8)') called at /home/test/perl5/perlbrew/perls/perl-5.15.4-ld/lib/site_perl/5.15.4/x86_64-linux-ld/Moose/Util/MetaRole.pm line 79
Moose::Util::MetaRole::_make_new_metaclass('Moose::Meta::Class=HASH(0x1933ce8)', 'HASH(0x18cd828)', 'class') called at /home/test/perl5/perlbrew/perls/perl-5.15.4-ld/lib/site_perl/5.15.4/x86_64-linux-ld/Moose/Util/MetaRole.pm line 28
Moose::Util::MetaRole::apply_metaroles('for', 'Net::HTTP::Spore::Core', 'class_metaroles', 'HASH(0x18cd828)') called at /home/test/.cpan/build/Net-HTTP-Spore-0.04-EAo4_i/blib/lib/Net/HTTP/Spore/Meta.pm line 28
Net::HTTP::Spore::Meta::init_meta('Net::HTTP::Spore::Meta', 'for_class', 'MooseX::Types::URI', 'metaclass', undef, 'meta_name', 'meta') called at /home/test/perl5/perlbrew/perls/perl-5.15.4-ld/lib/site_perl/5.15.4/x86_64-linux-ld/Moose/Exporter.pm line 435
Moose::Exporter::__ANON__('Net::HTTP::Spore::Meta') called at /home/test/.cpan/build/Net-HTTP-Spore-0.04-EAo4_i/blib/lib/Net/HTTP/Spore/Core.pm line 6
Net::HTTP::Spore::Core::BEGIN() called at /home/test/perl5/perlbrew/perls/perl-5.15.4-ld/lib/site_perl/5.15.4/MooseX/Types/URI.pm line 0
eval {...} called at /home/test/perl5/perlbrew/perls/perl-5.15.4-ld/lib/site_perl/5.15.4/MooseX/Types/URI.pm line 0
require Net/HTTP/Spore/Core.pm called at /home/test/.cpan/build/Net-HTTP-Spore-0.04-EAo4_i/blib/lib/Net/HTTP/Spore.pm line 13
Net::HTTP::Spore::BEGIN() called at /home/test/perl5/perlbrew/perls/perl-5.15.4-ld/lib/site_perl/5.15.4/MooseX/Types/URI.pm line 0
eval {...} called at /home/test/perl5/perlbrew/perls/perl-5.15.4-ld/lib/site_perl/5.15.4/MooseX/Types/URI.pm line 0
require Net/HTTP/Spore.pm called at t/spore/02_enable.t line 9
main::BEGIN() called at /home/test/perl5/perlbrew/perls/perl-5.15.4-ld/lib/site_perl/5.15.4/MooseX/Types/URI.pm line 0
eval {...} called at /home/test/perl5/perlbrew/perls/perl-5.15.4-ld/lib/site_perl/5.15.4/MooseX/Types/URI.pm line 0
t/spore/02_enable.t .................. ok
All tests successful.
Files=36, Tests=173, 23 wallclock secs ( 0.13 usr 0.06 sys + 19.21 cusr 1.40 csys = 20.80 CPU)
Result: PASS
------------------------------
PREREQUISITES
------------------------------
Prerequisite modules loaded:
requires:
Module Need Have
---------------------------- ---- ------
Carp 0 1.23
Digest::SHA 0 5.62
HTTP::Headers 0 6.00
HTTP::Request 0 6.00
IO::All 0 0.44
IO::File 0 1.15
JSON 0 2.53
LWP::UserAgent 0 6.03
MIME::Base64 0 3.13
Moose 0 2.0301
Moose::Exporter 0 2.0301
! Moose::Meta::Method 0 broken
Moose::Role 0 2.0301
Moose::Util::MetaRole 0 2.0301
! Moose::Util::TypeConstraints 0 broken
! MooseX::Role::Parameterized 0 broken
MooseX::Types::Moose 0 0.30
! MooseX::Types::URI 0 broken
overload 0 1.15
Scalar::Util 0 1.23
Time::HiRes 0 1.9724
Try::Tiny 0 0.11
URI 0 1.59
URI::Escape 0 3.31
XML::Simple 0 2.18
YAML 0 0.77
build_requires:
Module Need Have
---------------------------- ---- ------
File::Temp 0 0.22
Test::Exception 0 0.31
Test::More 0 0.98
configure_requires:
Module Need Have
---------------------------- ---- ------
ExtUtils::MakeMaker 6.30 6.62
------------------------------
ENVIRONMENT AND OTHER CONTEXT
------------------------------
Environment variables:
AUTOMATED_TESTING = 1
LANG = C
LC_ALL = C
PATH = /home/test/perl5/perlbrew/bin:/home/test/perl5/perlbrew/perls/perl-5.15.4-ld/bin:/home/test/bin:~/bin:/usr/bin:/bin
PATH_WITHOUT_PERLBREW = /home/test/bin:~/bin:/usr/bin:/bin
PERL5LIB =
PERL5OPT =
PERL5_CPANPLUS_IS_RUNNING = 25862
PERL5_CPAN_IS_RUNNING = 25862
PERL5_CPAN_IS_RUNNING_IN_RECURSION = 25339,25862
PERLBREW_BASHRC_VERSION = 0.30
PERLBREW_HOME = /home/test/.perlbrew
PERLBREW_PATH = /home/test/perl5/perlbrew/bin:/home/test/perl5/perlbrew/perls/perl-5.15.4-ld/bin
PERLBREW_PERL = perl-5.15.4-ld
PERLBREW_ROOT = /home/test/perl5/perlbrew
PERLBREW_VERSION = 0.30
PERL_CPANM_OPT = --prompt --mirror file:///mirrors/cpan/
PERL_CR_SMOKER_CURRENT = JIRA-Client-REST-0.04
PERL_EXTUTILS_AUTOINSTALL = --defaultdeps
PERL_MM_USE_DEFAULT = 1
SHELL = /bin/bash
TERM = linux
Perl special variables (and OS-specific diagnostics, for MSWin32):
$^X = /home/test/perl5/perlbrew/perls/perl-5.15.4-ld/bin/perl5.15.4
$UID/$EUID = 1001 / 1001
$GID = 1001 1001
$EGID = 1001 1001
Perl module toolchain versions installed:
Module Have
------------------- --------
CPAN 1.9800
CPAN::Meta 2.112621
Cwd 3.37
ExtUtils::CBuilder 0.280204
ExtUtils::Command 1.17
ExtUtils::Install 1.57
ExtUtils::MakeMaker 6.62
ExtUtils::Manifest 1.60
ExtUtils::ParseXS 3.05
File::Spec 3.34
JSON 2.53
JSON::PP 2.27200
Module::Build 0.39_01
Module::Signature n/a
Parse::CPAN::Meta 1.4401
Test::Harness 3.23
Test::More 0.98
YAML 0.77
YAML::Syck n/a
version 0.94
--
Summary of my perl5 (revision 5 version 15 subversion 4) configuration:
Platform:
osname=linux, osvers=2.6.35-28-generic, archname=x86_64-linux-ld
uname='linux zippy 2.6.35-28-generic #50-ubuntu smp fri mar 18 18:42:20 utc 2011 x86_64 gnulinux '
config_args='-de -Dprefix=/home/test/perl5/perlbrew/perls/perl-5.15.4-ld -Duselongdouble -Dusedevel'
hint=recommended, useposix=true, d_sigaction=define
useithreads=undef, usemultiplicity=undef
useperlio=define, d_sfio=undef, uselargefiles=define, usesocks=undef
use64bitint=define, use64bitall=define, uselongdouble=define
usemymalloc=n, bincompat5005=undef
Compiler:
cc='cc', ccflags ='-fno-strict-aliasing -pipe -fstack-protector -I/usr/local/include -D_LARGEFILE_SOURCE -D_FILE_OFFSET_BITS=64',
optimize='-O2',
cppflags='-fno-strict-aliasing -pipe -fstack-protector -I/usr/local/include'
ccversion='', gccversion='4.4.5', gccosandvers=''
intsize=4, longsize=8, ptrsize=8, doublesize=8, byteorder=12345678
d_longlong=define, longlongsize=8, d_longdbl=define, longdblsize=16
ivtype='long', ivsize=8, nvtype='long double', nvsize=16, Off_t='off_t', lseeksize=8
alignbytes=16, prototype=define
Linker and Libraries:
ld='cc', ldflags =' -fstack-protector -L/usr/local/lib'
libpth=/usr/local/lib /lib/../lib /usr/lib/../lib /lib /usr/lib /usr/lib/x86_64-linux-gnu /lib64 /usr/lib64
libs=-lnsl -ldl -lm -lcrypt -lutil -lc
perllibs=-lnsl -ldl -lm -lcrypt -lutil -lc
libc=/lib/libc-2.12.1.so, so=so, useshrplib=false, libperl=libperl.a
gnulibc_version='2.12.1'
Dynamic Linking:
dlsrc=dl_dlopen.xs, dlext=so, d_dlsymun=undef, ccdlflags='-Wl,-E'
cccdlflags='-fPIC', lddlflags='-shared -O2 -L/usr/local/lib -fstack-protector'
Characteristics of this binary (from libperl):
Compile-time options: HAS_TIMES PERLIO_LAYERS PERL_DONT_CREATE_GVSV
PERL_MALLOC_WRAP PERL_PRESERVE_IVUV PERL_USE_DEVEL
USE_64_BIT_ALL USE_64_BIT_INT USE_LARGE_FILES
USE_LOCALE USE_LOCALE_COLLATE USE_LOCALE_CTYPE
USE_LOCALE_NUMERIC USE_LONG_DOUBLE USE_PERLIO
USE_PERL_ATOF
Built under linux
Compiled at Oct 24 2011 23:05:51
%ENV:
PERL5LIB=""
PERL5OPT=""
PERL5_CPANPLUS_IS_RUNNING="25862"
PERL5_CPAN_IS_RUNNING="25862"
PERL5_CPAN_IS_RUNNING_IN_RECURSION="25339,25862"
PERLBREW_BASHRC_VERSION="0.30"
PERLBREW_HOME="/home/test/.perlbrew"
PERLBREW_PATH="/home/test/perl5/perlbrew/bin:/home/test/perl5/perlbrew/perls/perl-5.15.4-ld/bin"
PERLBREW_PERL="perl-5.15.4-ld"
PERLBREW_ROOT="/home/test/perl5/perlbrew"
PERLBREW_VERSION="0.30"
PERL_CPANM_OPT="--prompt --mirror file:///mirrors/cpan/"
PERL_CR_SMOKER_CURRENT="JIRA-Client-REST-0.04"
PERL_EXTUTILS_AUTOINSTALL="--defaultdeps"
PERL_MM_USE_DEFAULT="1"
@INC:
/home/test/perl5/perlbrew/perls/perl-5.15.4-ld/lib/site_perl/5.15.4/x86_64-linux-ld
/home/test/perl5/perlbrew/perls/perl-5.15.4-ld/lib/site_perl/5.15.4
/home/test/perl5/perlbrew/perls/perl-5.15.4-ld/lib/5.15.4/x86_64-linux-ld
/home/test/perl5/perlbrew/perls/perl-5.15.4-ld/lib/5.15.4
.