Plack v1.0053-TRIAL Perl 5 v5.24.2 amd64-freebsd

Status
Pass
From
Slaven Rezić
Dist
Plack v1.0053-TRIAL
Platform
Perl 5 v5.24.2 amd64-freebsd
Date
2024-12-14 19:22:33
ID
c4b7fd84-ba50-11ef-9ce5-50f56d8775ea
This distribution has been tested as part of the CPAN Testers
project, supporting the Perl programming language.  See
http://wiki.cpantesters.org/ for more information or email
questions to cpan-testers-discuss@perl.org


--
Dear Ian P Bradley,

This is a computer-generated report for Plack-1.0053-TRIAL
on perl 5.24.2, created by CPAN-Reporter-1.2018.

Thank you for uploading your work to CPAN.  Congratulations!
All tests were successful.

Sections of this report:

    * Tester comments
    * Program output
    * Prerequisites
    * Environment and other context

------------------------------
TESTER COMMENTS
------------------------------

Additional comments from tester:

none provided

------------------------------
PROGRAM OUTPUT
------------------------------

Output from '/usr/bin/make test':

Skip blib/lib/auto/share/dist/Plack/face.jpg (unchanged)
Skip blib/lib/auto/share/dist/Plack/baybridge.jpg (unchanged)
PERL_DL_NONLAZY=1 "/usr/perl5.24.2p/bin/perl" "-MExtUtils::Command::MM" "-MTest::Harness" "-e" "undef *Test::Harness::Switches; test_harness(0, 'blib/lib', 'blib/arch')" t/*.t t/HTTP-Message-PSGI/*.t t/HTTP-Server-PSGI/*.t t/Plack-Builder/*.t t/Plack-HTTPParser-PP/*.t t/Plack-Handler/*.t t/Plack-Loader/*.t t/Plack-MIME/*.t t/Plack-Middleware/*.t t/Plack-Middleware/cascade/*.t t/Plack-Middleware/recursive/*.t t/Plack-Middleware/stacktrace/*.t t/Plack-Request/*.t t/Plack-Response/*.t t/Plack-Runner/*.t t/Plack-TempBuffer/*.t t/Plack-Test/*.t t/Plack-Util/*.t
t/author-pod-syntax.t ................................ skipped: these tests are for testing by the author
t/HTTP-Message-PSGI/content_length.t ................. ok
t/HTTP-Message-PSGI/empty_delayed_writer.t ........... ok
t/HTTP-Message-PSGI/empty_streamed_response.t ........ ok
t/HTTP-Message-PSGI/host.t ........................... ok
t/HTTP-Message-PSGI/path_info.t ...................... ok
t/HTTP-Message-PSGI/unknown_response.t ............... ok
t/HTTP-Message-PSGI/utf8_req.t ....................... ok
t/HTTP-Server-PSGI/harakiri.t ........................ ok
t/HTTP-Server-PSGI/listen.t .......................... ok
t/HTTP-Server-PSGI/post.t ............................ ok
t/Plack-Builder/builder.t ............................ ok
t/Plack-Builder/mount.t .............................. ok
t/Plack-Builder/oo_interface.t ....................... ok
t/Plack-Handler/apache1.t ............................ skipped: TEST_APACHE1 is not set
t/Plack-Handler/apache2-registry.t ................... skipped: TEST_APACHE2 is not set
t/Plack-Handler/apache2.t ............................ skipped: TEST_APACHE2 is not set
t/Plack-Handler/cgi.t ................................ ok
t/Plack-Handler/fcgi.t ............................... skipped: Test requires module 'FCGI' but it's not found
t/Plack-Handler/fcgi_cleanup.t ....................... skipped: Test requires module 'FCGI' but it's not found
t/Plack-Handler/output_encoding.t .................... ok
t/Plack-Handler/standalone.t ......................... ok
t/Plack-HTTPParser-PP/simple.t ....................... ok
t/Plack-Loader/auto.t ................................ ok
t/Plack-Loader/auto_fallback.t ....................... ok
t/Plack-Loader/delayed.t ............................. ok
t/Plack-Loader/restarter.t ........................... skipped: author test only
t/Plack-Loader/restarter_valid.t ..................... ok
t/Plack-Loader/shotgun.t ............................. ok
t/Plack-Middleware/access_log.t ...................... ok
t/Plack-Middleware/access_log_timed.t ................ ok
t/Plack-Middleware/access_log_value_zero.t ........... ok
t/Plack-Middleware/auth_basic.t ...................... ok
t/Plack-Middleware/auth_basic_env.t .................. ok
t/Plack-Middleware/auth_basic_simple.t ............... skipped: Test requires module 'Authen::Simple::Passwd' but it's not found
t/Plack-Middleware/bufferedstreaming.t ............... ok
t/Plack-Middleware/cascade/basic.t ................... ok
t/Plack-Middleware/cascade/streaming.t ............... ok
t/Plack-Middleware/cgibin.t .......................... skipped: Test requires module 'CGI::Emulate::PSGI' but it's not found
t/Plack-Middleware/cgibin_exec.t ..................... skipped: Test requires module 'CGI::Emulate::PSGI' but it's not found
t/Plack-Middleware/chunked.t ......................... skipped: Test requires module 'IO::Handle::Util' but it's not found
t/Plack-Middleware/component-leak.t .................. ok
t/Plack-Middleware/component.t ....................... skipped: Test requires module 'IO::Handle::Util' but it's not found
t/Plack-Middleware/conditional.t ..................... ok
t/Plack-Middleware/conditional_new.t ................. ok
t/Plack-Middleware/conditionalget.t .................. ok
t/Plack-Middleware/conditionalget_writer.t ........... ok
t/Plack-Middleware/content_length.t .................. ok
t/Plack-Middleware/directory.t ....................... ok
t/Plack-Middleware/error_document.t .................. ok
t/Plack-Middleware/error_document_streaming_app.t .... ok
t/Plack-Middleware/file.t ............................ ok
t/Plack-Middleware/head.t ............................ ok
t/Plack-Middleware/head_streaming.t .................. ok
t/Plack-Middleware/httpexceptions.t .................. ok
t/Plack-Middleware/httpexceptions_streaming.t ........ ok
t/Plack-Middleware/iis6_script_name_fix.t ............ ok
t/Plack-Middleware/iis7_keep_alive_fix.t ............. ok
t/Plack-Middleware/jsonp.t ........................... ok
t/Plack-Middleware/lint.t ............................ ok
t/Plack-Middleware/lint_env.t ........................ ok
t/Plack-Middleware/lint_utf8_false_alarm.t ........... ok
t/Plack-Middleware/lint_wrong_header_info.t .......... ok
t/Plack-Middleware/log4perl-category.t ............... skipped: Test requires module 'Log::Log4perl' but it's not found
t/Plack-Middleware/log4perl.t ........................ skipped: Test requires module 'Log::Log4perl' but it's not found
t/Plack-Middleware/log_dispatch.t .................... ok
t/Plack-Middleware/order.t ........................... ok
t/Plack-Middleware/prefix.t .......................... ok
t/Plack-Middleware/psgibin.t ......................... ok
t/Plack-Middleware/rearrange_headers.t ............... ok
t/Plack-Middleware/recursive/base.t .................. ok
t/Plack-Middleware/recursive/streaming.t ............. ok
t/Plack-Middleware/recursive/throw.t ................. ok
t/Plack-Middleware/recursive/throw_streaming.t ....... ok
t/Plack-Middleware/refresh-init.t .................... skipped: Test requires module 'Module::Refresh' but it's not found
t/Plack-Middleware/runtime.t ......................... ok
t/Plack-Middleware/simple_content_filter.t ........... ok
t/Plack-Middleware/simple_logger.t ................... ok
t/Plack-Middleware/stacktrace/basic.t ................ ok
t/Plack-Middleware/stacktrace/force.t ................ ok
t/Plack-Middleware/stacktrace/multiple_exceptions.t .. ok
t/Plack-Middleware/stacktrace/sigdie.t ............... ok
t/Plack-Middleware/stacktrace/streaming.t ............ ok
t/Plack-Middleware/stacktrace/utf8.t ................. ok
t/Plack-Middleware/static.t .......................... ok
t/Plack-Middleware/static_env.t ...................... ok
t/Plack-Middleware/urlmap.t .......................... ok
t/Plack-Middleware/urlmap_builder.t .................. ok
t/Plack-Middleware/urlmap_env.t ...................... ok
t/Plack-Middleware/urlmap_ports.t .................... ok
t/Plack-Middleware/wrapcgi.t ......................... skipped: Test requires module 'CGI::Emulate::PSGI' but it's not found
t/Plack-Middleware/wrapcgi_exec.t .................... skipped: Test requires module 'CGI::Compile' but it's not found
t/Plack-Middleware/xframework.t ...................... ok
t/Plack-Middleware/xsendfile.t ....................... ok
t/Plack-MIME/add_type.t .............................. ok
t/Plack-MIME/basic.t ................................. ok
t/Plack-MIME/fallback.t .............................. ok
t/Plack-Request/base.t ............................... ok
t/Plack-Request/body-unbuffered.t .................... ok
t/Plack-Request/body.t ............................... ok
t/Plack-Request/content-on-get.t ..................... ok
t/Plack-Request/content.t ............................ ok
t/Plack-Request/cookie.t ............................. ok
t/Plack-Request/double_port.t ........................ ok
t/Plack-Request/headers.t ............................ ok
t/Plack-Request/hostname.t ........................... ok
t/Plack-Request/many_upload.t ........................ ok
t/Plack-Request/multi_read.t ......................... ok
t/Plack-Request/new.t ................................ ok
t/Plack-Request/parameters.t ......................... ok
t/Plack-Request/params.t ............................. ok
t/Plack-Request/path_info.t .......................... ok
t/Plack-Request/path_info_escaped.t .................. ok
t/Plack-Request/query_string.t ....................... ok
t/Plack-Request/readbody.t ........................... ok
t/Plack-Request/request_uri.t ........................ ok
t/Plack-Request/upload-basename.t .................... ok
t/Plack-Request/upload-large.t ....................... ok
t/Plack-Request/upload.t ............................. ok
t/Plack-Request/uri.t ................................ ok
t/Plack-Request/uri_utf8.t ........................... ok
t/Plack-Response/body.t .............................. ok
t/Plack-Response/compatible.t ........................ ok
t/Plack-Response/cookie.t ............................ ok
t/Plack-Response/headers.t ........................... ok
t/Plack-Response/new.t ............................... ok
t/Plack-Response/redirect.t .......................... ok
t/Plack-Response/response.t .......................... ok
t/Plack-Response/to_app.t ............................ ok
t/Plack-Runner/options.t ............................. ok
t/Plack-Runner/path.t ................................ skipped: release test only
t/Plack-TempBuffer/print.t ........................... ok
t/Plack-Test/2args.t ................................. ok
t/Plack-Test/cookie.t ................................ ok
t/Plack-Test/hello.t ................................. ok
t/Plack-Test/hello_server.t .......................... ok
t/Plack-Test/suite.t ................................. ok
t/Plack-Util/can.t ................................... ok
t/Plack-Util/foreach.t ............................... ok
t/Plack-Util/header_exists.t ......................... ok
t/Plack-Util/header_get.t ............................ ok
t/Plack-Util/header_push.t ........................... ok
t/Plack-Util/header_remove.t ......................... ok
t/Plack-Util/header_set.t ............................ ok
t/Plack-Util/headers_obj.t ........................... ok
t/Plack-Util/inline_object.t ......................... ok
t/Plack-Util/io_with_path.t .......................... ok
t/Plack-Util/is_real_fh.t ............................ ok
t/Plack-Util/load.t .................................. ok
t/Plack-Util/response_cb.t ........................... ok
All tests successful.
Files=150, Tests=1320, 20 wallclock secs ( 0.29 usr  0.18 sys +  7.78 cusr  6.01 csys = 14.26 CPU)
Result: PASS

------------------------------
PREREQUISITES
------------------------------

Prerequisite modules loaded:

requires:

    Module                      Need     Have     
    --------------------------- -------- ---------
    Apache::LogFormat::Compiler 0.33     0.35     
    Cookie::Baker               0.07     0.08     
    Devel::StackTrace           1.23     2.03     
    Devel::StackTrace::AsHTML   0.11     0.15     
    File::ShareDir              1.00     1.116    
    Filesys::Notify::Simple     0        0.12     
    Hash::MultiValue            0.05     0.16     
    HTTP::Entity::Parser        0.25     0.25     
    HTTP::Headers::Fast         0.18     0.21     
    HTTP::Message               5.814    6.13     
    HTTP::Tiny                  0.034    0.056_001
    parent                      0        0.234    
    perl                        5.012000 5.024002 
    Pod::Usage                  1.36     1.68     
    Stream::Buffered            0.02     0.03     
    Test::TCP                   2.15     2.19     
    Try::Tiny                   0        0.30     
    URI                         1.59     1.72     
    WWW::Form::UrlEncoded       0.23     0.24     

build_requires:

    Module                      Need     Have     
    --------------------------- -------- ---------
    ExtUtils::MakeMaker         0        7.58     
    Test::More                  0.88     1.302140 
    Test::Requires              0        0.10     

configure_requires:

    Module                      Need     Have     
    --------------------------- -------- ---------
    ExtUtils::MakeMaker         0        7.58     
    File::ShareDir::Install     0.06     0.13     


------------------------------
ENVIRONMENT AND OTHER CONTEXT
------------------------------

Environment variables:

    LC_ALL = de_DE.ISO8859-1
    PATH = /usr/local/bin:/usr/bin:/bin:/usr/local/sbin:/usr/sbin:/sbin:/home/cpansand/bin/freebsd10.3:/home/cpansand/bin/sh:/home/cpansand/bin:/usr/games:/home/cpansand/devel:/home/eserte/src/srezic-misc/scripts
    PERL5LIB = /home/cpansand/.cpan/build/2024121420/HTTP-Entity-Parser-0.25-dZta1X/blib/arch:/home/cpansand/.cpan/build/2024121420/HTTP-Entity-Parser-0.25-dZta1X/blib/lib
    PERL5OPT = 
    PERL5_CPANPLUS_IS_RUNNING = 73274
    PERL5_CPAN_IS_RUNNING = 73274
    PERL5_CPAN_IS_RUNNING_IN_RECURSION = 56929,73274
    PERLDOC = -MPod::Perldoc::ToTextOverstrike
    PERL_BATCH = yes
    PERL_CANARY_STABILITY_NOPROMPT = 1
    PERL_CPAN_REPORTER_CONFIG = /var/tmp/cpansmoker-1023/2024121418/cpanreporter_000_config.ini
    PERL_EXTUTILS_AUTOINSTALL = --defaultdeps
    SHELL = /usr/local/bin/zsh
    TERM = screen
    TMPDIR = /var/tmp/cpansmoker-1023/2024121418

Perl special variables (and OS-specific diagnostics, for MSWin32):

    $^X = /usr/perl5.24.2p/bin/perl
    $UID/$EUID = 1023 / 1023
    $GID = 1023 1023
    $EGID = 1023 1023

Perl module toolchain versions installed:

    Module              Have      
    ------------------- ----------
    CPAN                2.11_01   
    CPAN::Meta          2.150010  
    Cwd                 3.75      
    ExtUtils::CBuilder  0.280225  
    ExtUtils::Command   7.58      
    ExtUtils::Install   2.06      
    ExtUtils::MakeMaker 7.58      
    ExtUtils::Manifest  1.71      
    ExtUtils::ParseXS   3.31      
    File::Spec          3.75      
    JSON                2.94      
    JSON::PP            2.27300_01
    Module::Build       0.4224    
    Module::Signature   n/a       
    Parse::CPAN::Meta   2.150010  
    Test::Harness       3.36_01   
    Test::More          1.302140  
    YAML                1.23      
    YAML::Syck          1.30      
    version             0.9924    


--

Summary of my perl5 (revision 5 version 24 subversion 2) configuration:
   
  Platform:
    osname=freebsd, osvers=10.3-release-p11, archname=amd64-freebsd
    uname='freebsd cvrsnica-freebsd-101.herceg.de 10.3-release-p11 freebsd 10.3-release-p11 #0: mon oct 24 18:49:24 utc 2016 root@amd64-builder.daemonology.net:usrobjusrsrcsysgeneric amd64 '
    config_args='-ds -e -Dprefix=/usr/perl5.24.2p -Dcf_email=srezic@cpan.org -Doptimize=-O2 -pipe'
    hint=recommended, useposix=true, d_sigaction=define
    useithreads=undef, usemultiplicity=undef
    use64bitint=define, use64bitall=define, uselongdouble=undef
    usemymalloc=n, bincompat5005=undef
  Compiler:
    cc='cc', ccflags ='-DHAS_FPSETMASK -DHAS_FLOATINGPOINT_H -fno-strict-aliasing -pipe -fstack-protector -I/usr/local/include -D_FORTIFY_SOURCE=2',
    optimize='-O2 -pipe',
    cppflags='-DHAS_FPSETMASK -DHAS_FLOATINGPOINT_H -fno-strict-aliasing -pipe -fstack-protector -I/usr/local/include'
    ccversion='', gccversion='4.2.1 Compatible FreeBSD Clang 3.4.1 (tags/RELEASE_34/dot1-final 208032)', gccosandvers=''
    intsize=4, longsize=8, ptrsize=8, doublesize=8, byteorder=12345678, doublekind=3
    d_longlong=define, longlongsize=8, d_longdbl=define, longdblsize=16, longdblkind=3
    ivtype='long', ivsize=8, nvtype='double', nvsize=8, Off_t='off_t', lseeksize=8
    alignbytes=8, prototype=define
  Linker and Libraries:
    ld='cc', ldflags ='-pthread -Wl,-E  -fstack-protector -L/usr/local/lib'
    libpth=/usr/lib /usr/local/lib /usr/include/clang/3.4.1 /usr/lib
    libs=-lpthread -lgdbm -lm -lcrypt -lutil -lc
    perllibs=-lpthread -lm -lcrypt -lutil -lc
    libc=, so=so, useshrplib=false, libperl=libperl.a
    gnulibc_version=''
  Dynamic Linking:
    dlsrc=dl_dlopen.xs, dlext=so, d_dlsymun=undef, ccdlflags=' '
    cccdlflags='-DPIC -fPIC', lddlflags='-shared  -L/usr/local/lib -fstack-protector'


Characteristics of this binary (from libperl): 
  Compile-time options: HAS_TIMES PERLIO_LAYERS PERL_COPY_ON_WRITE
                        PERL_DONT_CREATE_GVSV
                        PERL_HASH_FUNC_ONE_AT_A_TIME_HARD PERL_MALLOC_WRAP
                        PERL_PRESERVE_IVUV USE_64_BIT_ALL USE_64_BIT_INT
                        USE_LARGE_FILES USE_LOCALE USE_LOCALE_COLLATE
                        USE_LOCALE_CTYPE USE_LOCALE_NUMERIC USE_LOCALE_TIME
                        USE_PERLIO USE_PERL_ATOF
  Built under freebsd
  Compiled at Jul 29 2017 11:20:18
  %ENV:
    PERL5LIB="/home/cpansand/.cpan/build/2024121420/HTTP-Entity-Parser-0.25-dZta1X/blib/arch:/home/cpansand/.cpan/build/2024121420/HTTP-Entity-Parser-0.25-dZta1X/blib/lib"
    PERL5OPT=""
    PERL5_CPANPLUS_IS_RUNNING="73274"
    PERL5_CPAN_IS_RUNNING="73274"
    PERL5_CPAN_IS_RUNNING_IN_RECURSION="56929,73274"
    PERLDOC="-MPod::Perldoc::ToTextOverstrike"
    PERL_BATCH="yes"
    PERL_CANARY_STABILITY_NOPROMPT="1"
    PERL_CPAN_REPORTER_CONFIG="/var/tmp/cpansmoker-1023/2024121418/cpanreporter_000_config.ini"
    PERL_EXTUTILS_AUTOINSTALL="--defaultdeps"
  @INC:
    /home/cpansand/.cpan/build/2024121420/HTTP-Entity-Parser-0.25-dZta1X/blib/arch
    /home/cpansand/.cpan/build/2024121420/HTTP-Entity-Parser-0.25-dZta1X/blib/lib
    /usr/perl5.24.2p/lib/site_perl/5.24.2/amd64-freebsd
    /usr/perl5.24.2p/lib/site_perl/5.24.2
    /usr/perl5.24.2p/lib/5.24.2/amd64-freebsd
    /usr/perl5.24.2p/lib/5.24.2
    .