YAML v1.27 Perl 5 v5.22.1 i386-freebsd-thread-multi
- Status
- Pass
- From
- Nigel Horne
- Dist
-
YAML v1.27
- Platform
- Perl 5 v5.22.1 i386-freebsd-thread-multi
- Date
- 2019-03-01 17:02:16
- ID
- c44ce544-3c43-11e9-bf31-80c71e9d5857
This distribution has been tested as part of the CPAN Testers
project, supporting the Perl programming language. See
http://wiki.cpantesters.org/ for more information or email
questions to cpan-testers-discuss@perl.org
--
Dear Tina Muller,
This is a computer-generated report for YAML-1.27
on perl 5.22.1, created by CPAN-Reporter-1.2018.
Thank you for uploading your work to CPAN. Congratulations!
All tests were successful.
Sections of this report:
* Tester comments
* Program output
* Prerequisites
* Environment and other context
------------------------------
TESTER COMMENTS
------------------------------
Additional comments from tester:
none provided
------------------------------
PROGRAM OUTPUT
------------------------------
Output from '/usr/bin/make test':
PERL_DL_NONLAZY=1 "/usr/home/njh/perl5/perlbrew/perls/perl-5.22.1/bin/perl5.22.1" "-MExtUtils::Command::MM" "-MTest::Harness" "-e" "undef *Test::Harness::Switches; test_harness(0, 'blib/lib', 'blib/arch')" t/*.t
t/000-compile-modules.t ............ ok
t/2-scalars.t ...................... ok
t/author-pod-syntax.t .............. skipped: these tests are for testing by the author
t/basic-tests.t .................... ok
t/bugs-emailed.t ................... ok
t/bugs-rt.t ........................ ok
t/changes.t ........................ ok
t/dump-basics.t .................... ok
t/dump-blessed-glob.t .............. ok
t/dump-blessed.t ................... ok
t/dump-code.t ...................... ok
t/dump-file-utf8.t ................. ok
t/dump-file.t ...................... ok
t/dump-nested.t .................... ok
t/dump-opts.t ...................... ok
t/dump-perl-types-512.t ............ skipped: test only for perls before v5.13.5-11-gfb85c04
t/dump-perl-types-514.t ............ ok
t/dump-perl-types.t ................ ok
t/dump-stringify.t ................. ok
t/dump-stringy-numbers.t ........... ok
t/dump-synopsis.t .................. ok
t/dump-tests-512.t ................. skipped: test only for perls before v5.13.5-11-gfb85c04
t/dump-tests-514.t ................. ok
t/dump-tests.t ..................... ok
t/dump-works.t ..................... ok
t/errors.t ......................... ok
t/export.t ......................... ok
t/freeze-thaw.t .................... ok
t/global-api.t ..................... ok
t/inbox.t .......................... ok
t/io-handle.t ...................... ok
t/issue-149.t ...................... ok
t/issue-69.t ....................... ok
t/load-code.t ...................... ok
t/load-fails.t ..................... ok
t/load-passes.t .................... ok
t/load-slides.t .................... ok
t/load-spec.t ...................... ok
t/load-tests.t ..................... ok
t/load-works.t ..................... ok
t/marshall.t ....................... ok
t/no-load-blessed.t ................ ok
t/node-info.t ...................... ok
t/numify.t ......................... ok
t/preserve.t ....................... ok
t/pugs-objects.t ................... ok
t/references.t ..................... ok
t/regexp.t ......................... ok
t/roundtrip.t ...................... ok
t/rt-90593.t ....................... ok
t/svk.t ............................ ok
t/test.t ........................... ok
t/trailing-comments-content.t ...... ok
t/trailing-comments-non-content.t .. ok
All tests successful.
Files=54, Tests=541, 543 wallclock secs ( 2.77 usr 0.92 sys + 447.88 cusr 12.02 csys = 463.59 CPU)
Result: PASS
------------------------------
PREREQUISITES
------------------------------
Prerequisite modules loaded:
requires:
Module Need Have
------------------- -------- --------
perl 5.008001 5.022001
build_requires:
Module Need Have
------------------- -------- --------
Encode 0 2.86
ExtUtils::MakeMaker 0 7.10
Test::Deep 0 1.127
Test::More 0.88 1.001014
Test::YAML 1.05 1.06
configure_requires:
Module Need Have
------------------- -------- --------
ExtUtils::MakeMaker 0 7.10
------------------------------
ENVIRONMENT AND OTHER CONTEXT
------------------------------
Environment variables:
HARNESS_OPTIONS = c
LD_LIBRARY_PATH = /usr/local/lib:
PATH = /home/njh/perl5/perlbrew/bin:/home/njh/perl5/perlbrew/perls/perl-5.22.1/bin:/sbin:/bin:/usr/sbin:/usr/bin:/usr/games:/usr/local/sbin:/usr/local/bin:/home/njh/bin
PERL5LIB =
PERL5OPT =
PERL5_CPANPLUS_IS_RUNNING = 84815
PERL5_CPAN_IS_RUNNING = 84815
PERLBREW_HOME = /home/njh/.perlbrew
PERLBREW_MANPATH = /home/njh/perl5/perlbrew/perls/perl-5.22.1/man
PERLBREW_PATH = /home/njh/perl5/perlbrew/bin:/home/njh/perl5/perlbrew/perls/perl-5.22.1/bin
PERLBREW_PERL = perl-5.22.1
PERLBREW_ROOT = /home/njh/perl5/perlbrew
PERLBREW_SHELLRC_VERSION = 0.86
PERLBREW_VERSION = 0.86
SHELL = /usr/local/bin/bash
TERM = xterm-256color
TMPDIR = /tmp
Perl special variables (and OS-specific diagnostics, for MSWin32):
$^X = /usr/home/njh/perl5/perlbrew/perls/perl-5.22.1/bin/perl5.22.1
$UID/$EUID = 1000 / 1000
$GID = 1000 1000 0
$EGID = 1000 1000 0
Perl module toolchain versions installed:
Module Have
------------------- --------
CPAN 2.11
CPAN::Meta 2.150005
Cwd 3.56
ExtUtils::CBuilder 0.280224
ExtUtils::Command 7.10
ExtUtils::Install 2.04
ExtUtils::MakeMaker 7.10
ExtUtils::Manifest 1.70
ExtUtils::ParseXS 3.30
File::Spec 3.56
JSON n/a
JSON::PP 2.27300
Module::Build 0.4214
Module::Signature n/a
Parse::CPAN::Meta 1.4422
Test::Harness 3.35
Test::More 1.001014
YAML 1.15
YAML::Syck 1.29
version 0.9909
--
Summary of my perl5 (revision 5 version 22 subversion 1) configuration:
Platform:
osname=freebsd, osvers=9.1-release, archname=i386-freebsd-thread-multi
uname='freebsd amber 9.1-release freebsd 9.1-release #0 r243826: tue dec 4 06:55:39 utc 2012 root@obrian.cse.buffalo.edu:usrobjusrsrcsysgeneric i386 '
config_args='-de -Dprefix=/home/njh/perl5/perlbrew/perls/perl-5.22.1 -Duseithreads -Dusemultiplicity -Dusedevel -Accflags=-O2 -W -Wformat=2 -Wswitch -Wshadow -Wwrite-strings -Wuninitialized -Wall -pipe -mtune=native -march=native -fomit-frame-pointer -msse2 -msse -mmmx -mfpmath=sse -D_FORTIFY_SOURCE=2 -Wpointer-arith -Wstrict-prototypes -fstack-protector -Wstack-protector -Wextra -Wbad-function-cast -Wcast-align -Wcast-qual -Wdisabled-optimization -Wendif-labels -Wfloat-equal -Wformat-nonliteral -Winline -Wmissing-declarations -Wmissing-prototypes -Wnested-externs -Wpointer-arith -Wundef -Wformat-security -ftree-vectorize -Aeval:scriptdir=/home/njh/perl5/perlbrew/perls/perl-5.22.1/bin'
hint=recommended, useposix=true, d_sigaction=define
useithreads=define, usemultiplicity=define
use64bitint=undef, use64bitall=undef, uselongdouble=undef
usemymalloc=n, bincompat5005=undef
Compiler:
cc='cc', ccflags ='-DHAS_FPSETMASK -DHAS_FLOATINGPOINT_H -O2 -W -Wformat=2 -Wswitch -Wshadow -Wwrite-strings -Wuninitialized -Wall -pipe -mtune=native -march=native -fomit-frame-pointer -msse2 -msse -mmmx -mfpmath=sse -D_FORTIFY_SOURCE=2 -Wpointer-arith -Wstrict-prototypes -fstack-protector -Wstack-protector -Wextra -Wbad-function-cast -Wcast-align -Wcast-qual -Wdisabled-optimization -Wendif-labels -Wfloat-equal -Wformat-nonliteral -Winline -Wmissing-declarations -Wmissing-prototypes -Wnested-externs -Wpointer-arith -Wundef -Wformat-security -ftree-vectorize -fno-strict-aliasing -I/usr/local/include',
optimize='-O',
cppflags='-DHAS_FPSETMASK -DHAS_FLOATINGPOINT_H -O2 -W -Wformat=2 -Wswitch -Wshadow -Wwrite-strings -Wuninitialized -Wall -pipe -mtune=native -march=native -fomit-frame-pointer -msse2 -msse -mmmx -mfpmath=sse -D_FORTIFY_SOURCE=2 -Wpointer-arith -Wstrict-prototypes -fstack-protector -Wstack-protector -Wextra -Wbad-function-cast -Wcast-align -Wcast-qual -Wdisabled-optimization -Wendif-labels -Wfloat-equal -Wformat-nonliteral -Winline -Wmissing-declarations -Wmissing-prototypes -Wnested-externs -Wpointer-arith -Wundef -Wformat-security -ftree-vectorize -fno-strict-aliasing -I/usr/local/include'
ccversion='', gccversion='4.2.1 20070831 patched [FreeBSD]', gccosandvers=''
intsize=4, longsize=4, ptrsize=4, doublesize=8, byteorder=1234, doublekind=3
d_longlong=define, longlongsize=8, d_longdbl=define, longdblsize=12, longdblkind=-1
ivtype='long', ivsize=4, nvtype='double', nvsize=8, Off_t='off_t', lseeksize=8
alignbytes=4, prototype=define
Linker and Libraries:
ld='cc', ldflags ='-pthread -Wl,-E -fstack-protector -L/usr/local/lib'
libpth=/usr/lib /usr/local/lib /usr/include/gcc/4.2 /usr/lib
libs=-lpthread -lm -lcrypt
perllibs=-lpthread -lm -lcrypt
libc=, so=so, useshrplib=false, libperl=libperl.a
gnulibc_version=''
Dynamic Linking:
dlsrc=dl_dlopen.xs, dlext=so, d_dlsymun=undef, ccdlflags=' '
cccdlflags='-DPIC -fPIC', lddlflags='-shared -L/usr/local/lib -fstack-protector'
Characteristics of this binary (from libperl):
Compile-time options: HAS_TIMES MULTIPLICITY PERLIO_LAYERS
PERL_DONT_CREATE_GVSV
PERL_HASH_FUNC_ONE_AT_A_TIME_HARD
PERL_IMPLICIT_CONTEXT PERL_MALLOC_WRAP
PERL_NEW_COPY_ON_WRITE PERL_PRESERVE_IVUV
PERL_USE_DEVEL USE_ITHREADS USE_LARGE_FILES
USE_LOCALE USE_LOCALE_COLLATE USE_LOCALE_CTYPE
USE_LOCALE_NUMERIC USE_LOCALE_TIME USE_PERLIO
USE_PERL_ATOF USE_REENTRANT_API
Locally applied patches:
Devel::PatchPerl 1.30
Built under freebsd
Compiled at Dec 22 2015 14:04:16
%ENV:
PERL5LIB=""
PERL5OPT=""
PERL5_CPANPLUS_IS_RUNNING="84815"
PERL5_CPAN_IS_RUNNING="84815"
PERLBREW_HOME="/home/njh/.perlbrew"
PERLBREW_MANPATH="/home/njh/perl5/perlbrew/perls/perl-5.22.1/man"
PERLBREW_PATH="/home/njh/perl5/perlbrew/bin:/home/njh/perl5/perlbrew/perls/perl-5.22.1/bin"
PERLBREW_PERL="perl-5.22.1"
PERLBREW_ROOT="/home/njh/perl5/perlbrew"
PERLBREW_SHELLRC_VERSION="0.86"
PERLBREW_VERSION="0.86"
@INC:
/home/njh/perl5/perlbrew/perls/perl-5.22.1/lib/site_perl/5.22.1/i386-freebsd-thread-multi
/home/njh/perl5/perlbrew/perls/perl-5.22.1/lib/site_perl/5.22.1
/home/njh/perl5/perlbrew/perls/perl-5.22.1/lib/5.22.1/i386-freebsd-thread-multi
/home/njh/perl5/perlbrew/perls/perl-5.22.1/lib/5.22.1
.