Zing v0.27 Perl 5 v5.14.4 x86_64-linux

Status
Pass
From
Slaven Rezić
Dist
Zing v0.27
Platform
Perl 5 v5.14.4 x86_64-linux
Date
2021-02-12 21:17:52
ID
c43dd4c0-6d77-11eb-be45-1e431f24ea8f
This distribution has been tested as part of the CPAN Testers
project, supporting the Perl programming language.  See
http://wiki.cpantesters.org/ for more information or email
questions to cpan-testers-discuss@perl.org


--
Dear Al Newkirk,

This is a computer-generated report for Zing-0.27
on perl 5.14.4, created by CPAN-Reporter-1.2018.

Thank you for uploading your work to CPAN.  Congratulations!
All tests were successful.

Sections of this report:

    * Tester comments
    * Program output
    * Prerequisites
    * Environment and other context

------------------------------
TESTER COMMENTS
------------------------------

Additional comments from tester:

none provided

------------------------------
PROGRAM OUTPUT
------------------------------

Output from '/usr/bin/make test':

PERL_DL_NONLAZY=1 "/opt/perl-5.14.4/bin/perl" "-MExtUtils::Command::MM" "-MTest::Harness" "-e" "undef *Test::Harness::Switches; test_harness(0, 'blib/lib', 'blib/arch')" t/*.t
t/Zing.t ................ ok
t/Zing_App.t ............ ok
t/Zing_Cartridge.t ...... ok
t/Zing_Channel.t ........ ok
t/Zing_Class.t .......... ok
t/Zing_Cli.t ............ ok
t/Zing_Cursor.t ......... ok
t/Zing_Daemon.t ......... ok
t/Zing_Data.t ........... ok
t/Zing_Domain.t ......... ok
t/Zing_Encoder.t ........ ok
t/Zing_Encoder_Dump.t ... ok
t/Zing_Entity.t ......... ok
t/Zing_Env.t ............ ok
t/Zing_Error.t .......... ok
t/Zing_File.t ........... ok
t/Zing_Flow.t ........... ok
t/Zing_Fork.t ........... ok
t/Zing_ID.t ............. ok
t/Zing_Journal.t ........ ok
t/Zing_Kernel.t ......... ok
t/Zing_KeyVal.t ......... ok
t/Zing_Launcher.t ....... ok
t/Zing_Logic.t .......... ok
t/Zing_Logic_Kernel.t ... ok
t/Zing_Logic_Simple.t ... ok
t/Zing_Logic_Single.t ... ok
t/Zing_Logic_Timer.t .... ok
t/Zing_Logic_Watcher.t .. ok
t/Zing_Logic_Worker.t ... ok
t/Zing_Lookup.t ......... ok
t/Zing_Loop.t ........... ok
t/Zing_Mailbox.t ........ ok
t/Zing_Meta.t ........... ok
t/Zing_Poll.t ........... ok
t/Zing_Process.t ........ ok
t/Zing_PubSub.t ......... ok
t/Zing_Queue.t .......... ok
t/Zing_Repo.t ........... ok
t/Zing_Ring.t ........... ok
t/Zing_Ringer.t ......... ok
t/Zing_Savepoint.t ...... ok
t/Zing_Schedule.t ....... ok
t/Zing_Search.t ......... ok
t/Zing_Simple.t ......... ok
t/Zing_Single.t ......... ok
t/Zing_Spawner.t ........ ok
t/Zing_Store.t .......... ok
Can't stat ./zing: No such file or directory
 at t/Zing_Store_Disk.t line 379.
t/Zing_Store_Disk.t ..... ok
t/Zing_Store_Hash.t ..... ok
t/Zing_Store_Temp.t ..... ok
t/Zing_System.t ......... ok
t/Zing_Table.t .......... ok
t/Zing_Term.t ........... ok
t/Zing_Timer.t .......... ok
t/Zing_Types.t .......... ok
t/Zing_Watcher.t ........ ok
t/Zing_Worker.t ......... ok
All tests successful.
Files=58, Tests=1499, 15 wallclock secs ( 0.29 usr  0.70 sys + 13.03 cusr  2.44 csys = 16.46 CPU)
Result: PASS

------------------------------
PREREQUISITES
------------------------------

Prerequisite modules loaded:

requires:

    Module                  Need   Have    
    ----------------------- ------ --------
    Data::Object::Class     2.02   2.02    
    Data::Object::ClassHas  2.01   2.01    
    Data::Object::Cli       2.03   2.03    
    Data::Object::Exception 2.02   2.02    
    Data::Object::Space     2.10   2.10    
    Data::Object::Try       2.02   2.02    
    Data::Object::Types     0.04   0.04    
    FlightRecorder          0.09   0.09    
    perl                    5.014  5.014004
    routines                0.02   0.02    
    strict                  0      1.04    
    Time::Crontab           0.04   0.04    
    Time::Piece             1.3401 1.3401  
    warnings                0      1.12    

build_requires:

    Module                  Need   Have    
    ----------------------- ------ --------
    Data::Object::Class     2.02   2.02    
    Data::Object::ClassHas  2.01   2.01    
    Data::Object::Cli       2.03   2.03    
    Data::Object::Exception 2.02   2.02    
    Data::Object::Space     2.10   2.10    
    Data::Object::Try       2.02   2.02    
    Data::Object::Types     0.04   0.04    
    ExtUtils::MakeMaker     0      7.58    
    FlightRecorder          0.09   0.09    
    routines                0.02   0.02    
    strict                  0      1.04    
    Test::Auto              0.12   0.12    
    Test::Trap              v0.3.4 0.3.4   
    Time::Crontab           0.04   0.04    
    Time::Piece             1.3401 1.3401  
    warnings                0      1.12    

configure_requires:

    Module                  Need   Have    
    ----------------------- ------ --------
    ExtUtils::MakeMaker     0      7.58    


------------------------------
ENVIRONMENT AND OTHER CONTEXT
------------------------------

Environment variables:

    LANG = en_US.UTF-8
    PATH = /usr/local/bin:/usr/bin:/bin:/usr/local/sbin:/usr/sbin:/sbin:/home/cpansand/bin/linux-gnu:/home/cpansand/bin/sh:/home/cpansand/bin:/usr/games:/home/cpansand/devel:/home/eserte/src/srezic-misc/scripts
    PERL5LIB = 
    PERL5OPT = 
    PERL5_CPANPLUS_IS_RUNNING = 19550
    PERL5_CPAN_IS_RUNNING = 19550
    PERL5_CPAN_IS_RUNNING_IN_RECURSION = 16595,19550
    PERLDOC = -MPod::Perldoc::ToTextOverstrike
    PERL_BATCH = yes
    PERL_CANARY_STABILITY_NOPROMPT = 1
    PERL_CPAN_REPORTER_CONFIG = /var/tmp/cpansmoker-1023/2021021218/cpanreporter_000_config.ini
    PERL_EXTUTILS_AUTOINSTALL = --defaultdeps
    PERL_USE_UNSAFE_INC = 1
    SHELL = /usr/bin/zsh
    TERM = screen
    TMPDIR = /var/tmp/cpansmoker-1023/2021021218

Perl special variables (and OS-specific diagnostics, for MSWin32):

    $^X = /opt/perl-5.14.4/bin/perl
    $UID/$EUID = 1023 / 1023
    $GID = 1023 1023
    $EGID = 1023 1023

Perl module toolchain versions installed:

    Module              Have    
    ------------------- --------
    CPAN                2.28    
    CPAN::Meta          2.150010
    Cwd                 3.75    
    ExtUtils::CBuilder  0.280235
    ExtUtils::Command   7.58    
    ExtUtils::Install   2.20    
    ExtUtils::MakeMaker 7.58    
    ExtUtils::Manifest  1.73    
    ExtUtils::ParseXS   3.35    
    File::Spec          3.75    
    JSON                4.03    
    JSON::PP            4.06    
    Module::Build       0.4231  
    Module::Signature   0.87    
    Parse::CPAN::Meta   2.150010
    Test::Harness       3.42    
    Test::More          1.302183
    YAML                1.30    
    YAML::Syck          1.34    
    version             0.9928  


--

Summary of my perl5 (revision 5 version 14 subversion 4) configuration:
   
  Platform:
    osname=linux, osvers=4.15.0-91-generic, archname=x86_64-linux
    uname='linux ubuntu18 4.15.0-91-generic #92-ubuntu smp fri feb 28 11:09:48 utc 2020 x86_64 x86_64 x86_64 gnulinux '
    config_args='-ds -e -Dprefix=/opt/perl-5.14.4 -Dcf_email=srezic@cpan.org'
    hint=recommended, useposix=true, d_sigaction=define
    useithreads=undef, usemultiplicity=undef
    useperlio=define, d_sfio=undef, uselargefiles=define, usesocks=undef
    use64bitint=define, use64bitall=define, uselongdouble=undef
    usemymalloc=n, bincompat5005=undef
  Compiler:
    cc='cc', ccflags ='-fwrapv -fno-strict-aliasing -pipe -fstack-protector -I/usr/local/include -D_LARGEFILE_SOURCE -D_FILE_OFFSET_BITS=64',
    optimize='-O2',
    cppflags='-fwrapv -fno-strict-aliasing -pipe -fstack-protector -I/usr/local/include'
    ccversion='', gccversion='7.5.0', gccosandvers=''
    intsize=4, longsize=8, ptrsize=8, doublesize=8, byteorder=12345678
    d_longlong=define, longlongsize=8, d_longdbl=define, longdblsize=16
    ivtype='long', ivsize=8, nvtype='double', nvsize=8, Off_t='off_t', lseeksize=8
    alignbytes=8, prototype=define
  Linker and Libraries:
    ld='cc', ldflags =' -fstack-protector -L/usr/local/lib'
    libpth=/usr/local/lib /lib/x86_64-linux-gnu /lib/../lib /usr/lib/x86_64-linux-gnu /usr/lib/../lib /lib /usr/lib
    libs=-lnsl -lgdbm -ldb -ldl -lm -lcrypt -lutil -lc
    perllibs=-lnsl -ldl -lm -lcrypt -lutil -lc
    libc=libc-2.27.so, so=so, useshrplib=false, libperl=libperl.a
    gnulibc_version='2.27'
  Dynamic Linking:
    dlsrc=dl_dlopen.xs, dlext=so, d_dlsymun=undef, ccdlflags='-Wl,-E'
    cccdlflags='-fPIC', lddlflags='-shared -O2 -L/usr/local/lib -fstack-protector'


Characteristics of this binary (from libperl): 
  Compile-time options: PERL_DONT_CREATE_GVSV PERL_MALLOC_WRAP
                        PERL_PRESERVE_IVUV USE_64_BIT_ALL USE_64_BIT_INT
                        USE_LARGE_FILES USE_PERLIO USE_PERL_ATOF
  Locally applied patches:
	Devel::PatchPerl 1.90
  Built under linux
  Compiled at Mar 31 2020 20:33:09
  %ENV:
    PERL5LIB=""
    PERL5OPT=""
    PERL5_CPANPLUS_IS_RUNNING="19550"
    PERL5_CPAN_IS_RUNNING="19550"
    PERL5_CPAN_IS_RUNNING_IN_RECURSION="16595,19550"
    PERLDOC="-MPod::Perldoc::ToTextOverstrike"
    PERL_BATCH="yes"
    PERL_CANARY_STABILITY_NOPROMPT="1"
    PERL_CPAN_REPORTER_CONFIG="/var/tmp/cpansmoker-1023/2021021218/cpanreporter_000_config.ini"
    PERL_EXTUTILS_AUTOINSTALL="--defaultdeps"
    PERL_USE_UNSAFE_INC="1"
  @INC:
    /opt/perl-5.14.4/lib/site_perl/5.14.4/x86_64-linux
    /opt/perl-5.14.4/lib/site_perl/5.14.4
    /opt/perl-5.14.4/lib/5.14.4/x86_64-linux
    /opt/perl-5.14.4/lib/5.14.4
    .