Back
From: metabase:user:a6ebd58c-fd8b-11e4-b581-e9942879831d
Subject: PASS Test-LWP-Recorder-0.1.1 v5.22.0 Mac OS X
Date: 2015-06-03T20:11:48Z
This distribution has been tested as part of the CPAN Testers
project, supporting the Perl programming language. See
http://wiki.cpantesters.org/ for more information or email
questions to cpan-testers-discuss@perl.org
--
Dear EALLENIII,
This is a computer-generated report for Test-LWP-Recorder-0.1.1
on perl 5.22.0, created by App::cpanminus::reporter 0.13 (1.7034).
Thank you for uploading your work to CPAN. Congratulations!
All tests were successful.
Sections of this report:
* Tester comments
* Program output
* Prerequisites
* Environment and other context
------------------------------
TESTER COMMENTS
------------------------------
Additional comments from tester:
none provided
------------------------------
PROGRAM OUTPUT
------------------------------
Output from '':
Building and testing Test-LWP-Recorder-0.1.1
Building Test-LWP-Recorder
t/00-compile.t ................ ok
#
#
# perl: v5.22.0 (wanted 5.006) on darwin from /usr/local/bin/perl
#
# Carp => 1.36 (want any version)
# Digest::MD5 => 2.54 (want any version)
# File::Find => 1.29 (want any version)
# File::Slurp => 9999.19 (want any version)
# File::Spec => 3.56 (want any version)
# File::Temp => 0.2304 (want any version)
# HTTP::Response => 6.04 (want any version)
# HTTP::Status => 6.03 (want any version)
# LWP::UserAgent => 6.13 (want any version)
# LWPx::Record::DataSection => 0.01 (want any version)
# List::Util => 1.42 (want any version)
# Module::Build => 0.4212 (want 0.3601)
# Pod::Coverage::TrustPod => 0.100003 (want any version)
# Test::More => 1.001014 (want 0.88)
# Test::Pod => 1.50 (want 1.41)
# Test::Pod::Coverage => 1.10 (want 1.08)
# base => 2.22 (want any version)
# lib => 0.63 (want any version)
# strict => 1.09 (want any version)
# warnings => 1.32 (want any version)
#
# Thanks for using my code. I hope it works for you.
# If not, please try and include this output in the bug report.
# That will help me reproduce the issue and solve you problem.
#
t/000-report-versions-tiny.t .. ok
t/author-critic.t ............. skipped: these tests are for testing by the author
t/author-pod-spell.t .......... skipped: these tests are for testing by the author
t/lwpxtest.t .................. ok
t/lwpxtest_02.t ............... ok
t/release-pod-coverage.t ...... skipped: these tests are for release candidate testing
t/release-pod-linkcheck.t ..... skipped: these tests are for release candidate testing
t/release-pod-syntax.t ........ skipped: these tests are for release candidate testing
All tests successful.
Files=9, Tests=14, 1 wallclock secs ( 0.03 usr 0.01 sys + 0.41 cusr 0.07 csys = 0.52 CPU)
Result: PASS
------------------------------
PREREQUISITES
------------------------------
Prerequisite modules loaded:
No requirements found
------------------------------
ENVIRONMENT AND OTHER CONTEXT
------------------------------
Environment variables:
LANG = en_US.UTF-8
LD_LIBRARY_PATH = /usr/lib:/usr/local/lib:/usr/local/pgsql/lib
PATH = /Users/dha/.rbenv/shims:/usr/local/sbin:/usr/local/pgsql/bin:/Applications/Mkvtoolnix.app/Contents/MacOS/:/usr/local/bin:/Library/Frameworks/Python.framework/Versions/2.7/bin:/usr/local/bin:/usr/bin:/bin:/usr/sbin:/sbin:/opt/X11/bin:/usr/local/git/bin:/usr/local/go/bin:/Users/dha/perlstufftosort:/Users/dha/mybin:/usr/local/mysql/bin:/Developer/Tools:/usr/X11R6/bin:/Library/Perl/5.8.6:/Users/dha/rakudo-star-2010.09:
SHELL = /bin/zsh
TERM = color_xterm
TMPDIR = /var/folders/4h/5qxp0tc952d7v2pzpqpskb940000gn/T/
Perl special variables (and OS-specific diagnostics, for MSWin32):
EGID = 20 20 12 61 79 80 81 98 33 100 204 398 399
EUID = 501
EXECUTABLE_NAME = /usr/local/bin/perl
GID = 20 20 12 61 79 80 81 98 33 100 204 398 399
UID = 501
Perl module toolchain versions installed:
Module Have
------------------- --------
CPAN 2.11
CPAN::Meta 2.150001
Cwd 3.56
ExtUtils::CBuilder 0.280223
ExtUtils::Command 1.20
ExtUtils::Install 2.04
ExtUtils::MakeMaker 7.04_01
ExtUtils::Manifest 1.70
ExtUtils::ParseXS 3.28
File::Spec 3.56
JSON 2.90
JSON::PP 2.27300
Module::Build 0.4212
Module::Signature n/a
Parse::CPAN::Meta 1.4414
Test::Harness 3.35
Test::More 1.001014
YAML 1.15
YAML::Syck n/a
version 0.9912
--
Summary of my perl5 (revision 5 version 22 subversion 0) configuration:
Platform:
osname=darwin, osvers=14.3.0, archname=darwin-2level
uname='darwin davids-macbook-pro-2.local 14.3.0 darwin kernel version 14.3.0: mon mar 23 11:59:05 pdt 2015; root:xnu-2782.20.48~5release_x86_64 x86_64 '
config_args=''
hint=recommended, useposix=true, d_sigaction=define
useithreads=undef, usemultiplicity=undef
use64bitint=define, use64bitall=define, uselongdouble=undef
usemymalloc=n, bincompat5005=undef
Compiler:
cc='cc', ccflags ='-fno-common -DPERL_DARWIN -fno-strict-aliasing -pipe -fstack-protector-strong -I/usr/local/include',
optimize='-O3',
cppflags='-fno-common -DPERL_DARWIN -fno-strict-aliasing -pipe -fstack-protector-strong -I/usr/local/include'
ccversion='', gccversion='4.2.1 Compatible Apple LLVM 6.1.0 (clang-602.0.53)', gccosandvers=''
intsize=4, longsize=8, ptrsize=8, doublesize=8, byteorder=12345678, doublekind=3
d_longlong=define, longlongsize=8, d_longdbl=define, longdblsize=16, longdblkind=3
ivtype='long', ivsize=8, nvtype='double', nvsize=8, Off_t='off_t', lseeksize=8
alignbytes=8, prototype=define
Linker and Libraries:
ld='env MACOSX_DEPLOYMENT_TARGET=10.3 cc', ldflags =' -fstack-protector-strong -L/usr/local/lib'
libpth=/usr/local/lib /Applications/Xcode.app/Contents/Developer/Toolchains/XcodeDefault.xctoolchain/usr/bin/../lib/clang/6.1.0/lib /Applications/Xcode.app/Contents/Developer/Toolchains/XcodeDefault.xctoolchain/usr/lib /usr/lib
libs=-lpthread -lgdbm -ldbm -ldb -ldl -lm -lutil -lc
perllibs=-lpthread -ldl -lm -lutil -lc
libc=, so=dylib, useshrplib=false, libperl=libperl.a
gnulibc_version=''
Dynamic Linking:
dlsrc=dl_dlopen.xs, dlext=bundle, d_dlsymun=undef, ccdlflags=' '
cccdlflags=' ', lddlflags=' -bundle -undefined dynamic_lookup -L/usr/local/lib -fstack-protector-strong'
Characteristics of this binary (from libperl):
Compile-time options: HAS_TIMES PERLIO_LAYERS PERL_DONT_CREATE_GVSV
PERL_HASH_FUNC_ONE_AT_A_TIME_HARD PERL_MALLOC_WRAP
PERL_NEW_COPY_ON_WRITE PERL_PRESERVE_IVUV
USE_64_BIT_ALL USE_64_BIT_INT USE_LARGE_FILES
USE_LOCALE USE_LOCALE_COLLATE USE_LOCALE_CTYPE
USE_LOCALE_NUMERIC USE_LOCALE_TIME USE_PERLIO
USE_PERL_ATOF
Built under darwin
Compiled at Jun 1 2015 19:13:21
@INC:
/usr/local/lib/perl5/site_perl/5.22.0/darwin-2level
/usr/local/lib/perl5/site_perl/5.22.0
/usr/local/lib/perl5/5.22.0/darwin-2level
/usr/local/lib/perl5/5.22.0
/usr/local/lib/perl5/site_perl/5.20.2
/usr/local/lib/perl5/site_perl/5.20.0
/usr/local/lib/perl5/site_perl/5.16.0
/usr/local/lib/perl5/site_perl
.