Devel-CheckLib v1.16 Perl 5 v5.8.9 OpenBSD.amd64-openbsd
- Status
- Pass
- From
- Nigel Horne
- Dist
-
Devel-CheckLib v1.16
- Platform
- Perl 5 v5.8.9 OpenBSD.amd64-openbsd
- Date
- 2023-05-23 19:55:27
- ID
- c38e3e42-f9a3-11ed-84ad-52b7c7ec7121
This distribution has been tested as part of the CPAN Testers
project, supporting the Perl programming language. See
http://wiki.cpantesters.org/ for more information or email
questions to cpan-testers-discuss@perl.org
--
Dear Yasuhiro Matsumoto,
This is a computer-generated report for Devel-CheckLib-1.16
on perl 5.8.9, created by CPAN-Reporter-1.2019.
Thank you for uploading your work to CPAN. Congratulations!
All tests were successful.
Sections of this report:
* Tester comments
* Program output
* Prerequisites
* Environment and other context
------------------------------
TESTER COMMENTS
------------------------------
Additional comments from tester:
this report is from an automated smoke testing program
and was not reviewed by a human for accuracy
------------------------------
PROGRAM OUTPUT
------------------------------
Output from '/usr/bin/make test':
PERL_DL_NONLAZY=1 "/home/njh/perl5/perlbrew/perls/perl-5.8.9/bin/perl" "-MExtUtils::Command::MM" "-MTest::Harness" "-e" "undef *Test::Harness::Switches; test_harness(0, 'blib/lib', 'blib/arch')" t/*.t
t/00-load.t ................... ok
t/analyze-binary.t ............ ok
t/bad-single-word-compiler.t .. ok
t/cmdline-LIBS-INC.t .......... ok
t/custom-function.t ........... ok
t/dash-l-libs.t ............... ok
t/exit_with_message.t ......... ok
t/flags.t ..................... ok
t/found.t ..................... ok
t/headers.t ................... ok
t/multi-word-compiler.t ....... ok
t/not_found.t ................. ok
All tests successful.
Files=12, Tests=42, 10 wallclock secs ( 0.06 usr 0.05 sys + 3.17 cusr 4.38 csys = 7.66 CPU)
Result: PASS
------------------------------
PREREQUISITES
------------------------------
Prerequisite modules loaded:
requires:
Module Need Have
------------------- -------- --------
Exporter 0 5.63
File::Spec 0 3.75
File::Temp 0.16 0.2311
perl 5.004050 5.008009
build_requires:
Module Need Have
------------------- -------- --------
Capture::Tiny 0 0.48
ExtUtils::MakeMaker 0 7.62
Mock::Config 0.02 0.03
Test::More 0.88 1.302188
configure_requires:
Module Need Have
------------------- -------- --------
ExtUtils::MakeMaker 0 7.62
------------------------------
ENVIRONMENT AND OTHER CONTEXT
------------------------------
Environment variables:
AUTOMATED_TESTING = 1
PATH = /home/njh/perl5/perlbrew/bin:/home/njh/perl5/perlbrew/perls/perl-5.8.9/bin:/home/njh/perl5/perlbrew/bin:/home/njh/src/njh/smoker/bin:/usr/bin:/bin:/usr/sbin:/sbin:/usr/X11R6/bin:/usr/local/bin:/usr/local/sbin
PERL5LIB = /home/njh/.cpan/build/Mock-Config-0.03-0/blib/arch:/home/njh/.cpan/build/Mock-Config-0.03-0/blib/lib:/home/njh/.cpan/build/IPC-ShareLite-0.17-0/blib/arch:/home/njh/.cpan/build/IPC-ShareLite-0.17-0/blib/lib
PERL5OPT =
PERL5_CPANPLUS_IS_RUNNING = 7383
PERL5_CPAN_IS_RUNNING = 7383
PERL5_CPAN_IS_RUNNING_IN_RECURSION = 54392,7383
PERLBREW_LIB =
PERLBREW_MANPATH = /home/njh/perl5/perlbrew/perls/perl-5.8.9/man
PERLBREW_PATH = /home/njh/perl5/perlbrew/bin:/home/njh/perl5/perlbrew/perls/perl-5.8.9/bin
PERLBREW_PERL = perl-5.8.9
PERLBREW_ROOT = /home/njh/perl5/perlbrew
PERLBREW_SHELLRC_VERSION = 0.97
PERLBREW_VERSION = 0.97
PERL_LOCAL_LIB_ROOT =
PERL_MM_USE_DEFAULT = 1
PERL_USE_UNSAFE_INC = 1
SHELL = /usr/local/bin/bash
TMPDIR = /tmp/smoker-4tfRh/testwrapper.45663
Perl special variables (and OS-specific diagnostics, for MSWin32):
$^X = /home/njh/perl5/perlbrew/perls/perl-5.8.9/bin/perl
$UID/$EUID = 1000 / 1000
$GID = 1000 1000 0
$EGID = 1000 1000 0
Perl module toolchain versions installed:
Module Have
------------------- --------
CPAN 2.28
CPAN::Meta 2.143240
Cwd 3.75
ExtUtils::CBuilder 0.280236
ExtUtils::Command 7.62
ExtUtils::Install 2.20
ExtUtils::MakeMaker 7.62
ExtUtils::Manifest 1.70
ExtUtils::ParseXS 3.35
File::Spec 3.75
JSON 4.03
JSON::PP 4.06
Module::Build 0.4231
Module::Signature n/a
Parse::CPAN::Meta 1.4414
Test2 1.302188
Test::Harness 3.42
Test::More 1.302188
YAML 1.30
YAML::Syck 1.34
version 0.9929
--
Summary of my perl5 (revision 5 version 8 subversion 9) configuration:
Platform:
osname=openbsd, osvers=6.9, archname=OpenBSD.amd64-openbsd
uname='openbsd njh2.bandsman.co.uk 6.9 generic.mp#4 amd64 '
config_args='-de -Dprefix=/home/njh/perl5/perlbrew/perls/perl-5.8.9 -Aeval:scriptdir=/home/njh/perl5/perlbrew/perls/perl-5.8.9/bin'
hint=recommended, useposix=true, d_sigaction=define
usethreads=undef use5005threads=undef useithreads=undef usemultiplicity=undef
useperlio=define d_sfio=undef uselargefiles=define usesocks=undef
use64bitint=define use64bitall=define uselongdouble=undef
usemymalloc=n, bincompat5005=undef
Compiler:
cc='cc', ccflags ='-fno-strict-aliasing -pipe -I/usr/local/include',
optimize='-O2',
cppflags='-fno-strict-aliasing -pipe -I/usr/local/include'
ccversion='', gccversion='OpenBSD Clang 10.0.1 ', gccosandvers=''
intsize=4, longsize=8, ptrsize=8, doublesize=8, byteorder=12345678
d_longlong=define, longlongsize=8, d_longdbl=define, longdblsize=16
ivtype='long', ivsize=8, nvtype='double', nvsize=8, Off_t='off_t', lseeksize=8
alignbytes=8, prototype=define
Linker and Libraries:
ld='cc', ldflags ='-Wl,-E -L/usr/local/lib'
libpth=/usr/local/lib /usr/lib
libs=-lm -lutil -lc
perllibs=-lm -lutil -lc
libc=/usr/lib/libc.so.96.0, so=so, useshrplib=false, libperl=libperl.a
gnulibc_version=''
Dynamic Linking:
dlsrc=dl_dlopen.xs, dlext=so, d_dlsymun=undef, ccdlflags=' '
cccdlflags='-DPIC -fPIC ', lddlflags='-shared -fPIC -L/usr/local/lib'
Characteristics of this binary (from libperl):
Compile-time options: PERL_MALLOC_WRAP USE_64_BIT_ALL USE_64_BIT_INT
USE_FAST_STDIO USE_LARGE_FILES USE_PERLIO
Locally applied patches:
Devel::PatchPerl 2.08
Built under openbsd
Compiled at Oct 21 2021 01:46:17
%ENV:
PERL5LIB="/home/njh/.cpan/build/Mock-Config-0.03-0/blib/arch:/home/njh/.cpan/build/Mock-Config-0.03-0/blib/lib:/home/njh/.cpan/build/IPC-ShareLite-0.17-0/blib/arch:/home/njh/.cpan/build/IPC-ShareLite-0.17-0/blib/lib"
PERL5OPT=""
PERL5_CPANPLUS_IS_RUNNING="7383"
PERL5_CPAN_IS_RUNNING="7383"
PERL5_CPAN_IS_RUNNING_IN_RECURSION="54392,7383"
PERLBREW_LIB=""
PERLBREW_MANPATH="/home/njh/perl5/perlbrew/perls/perl-5.8.9/man"
PERLBREW_PATH="/home/njh/perl5/perlbrew/bin:/home/njh/perl5/perlbrew/perls/perl-5.8.9/bin"
PERLBREW_PERL="perl-5.8.9"
PERLBREW_ROOT="/home/njh/perl5/perlbrew"
PERLBREW_SHELLRC_VERSION="0.97"
PERLBREW_VERSION="0.97"
PERL_LOCAL_LIB_ROOT=""
PERL_MM_USE_DEFAULT="1"
PERL_USE_UNSAFE_INC="1"
@INC:
/home/njh/.cpan/build/Mock-Config-0.03-0/blib/arch
/home/njh/.cpan/build/Mock-Config-0.03-0/blib/lib
/home/njh/.cpan/build/IPC-ShareLite-0.17-0/blib/arch
/home/njh/.cpan/build/IPC-ShareLite-0.17-0/blib/lib
/home/njh/perl5/perlbrew/perls/perl-5.8.9/lib/5.8.9/OpenBSD.amd64-openbsd
/home/njh/perl5/perlbrew/perls/perl-5.8.9/lib/5.8.9
/home/njh/perl5/perlbrew/perls/perl-5.8.9/lib/site_perl/5.8.9/OpenBSD.amd64-openbsd
/home/njh/perl5/perlbrew/perls/perl-5.8.9/lib/site_perl/5.8.9
.