Geo-Coder-CA v0.15 Perl 5 v5.40.2 darwin-2level
- Status
- Pass
- From
- Nigel Horne
- Dist
-
Geo-Coder-CA v0.15
- Platform
- Perl 5 v5.40.2 darwin-2level
- Date
- 2025-04-15 20:32:34
- ID
- c36a3ed6-1a38-11f0-b54d-df15bede98e7
This distribution has been tested as part of the CPAN Testers
project, supporting the Perl programming language. See
http://wiki.cpantesters.org/ for more information or email
questions to cpan-testers-discuss@perl.org
--
Dear Nigel Horne,
This is a computer-generated report for Geo-Coder-CA-0.15
on perl 5.40.2, created by CPAN-Reporter-1.2020.
Thank you for uploading your work to CPAN. Congratulations!
All tests were successful.
Sections of this report:
* Tester comments
* Program output
* Prerequisites
* Environment and other context
------------------------------
TESTER COMMENTS
------------------------------
Additional comments from tester:
none provided
------------------------------
PROGRAM OUTPUT
------------------------------
Output from '/usr/bin/make test':
PERL_DL_NONLAZY=1 "/Users/njh/perl5/perlbrew/perls/perl-5.40.2/bin/perl" "-MExtUtils::Command::MM" "-MTest::Harness" "-e" "undef *Test::Harness::Switches; test_harness(0, 'blib/lib', 'blib/arch')" t/*.t
t/boiler.t ............ ok
# Testing Geo::Coder::CA 0.15, Perl 5.040002, /Users/njh/perl5/perlbrew/perls/perl-5.40.2/bin/perl
t/00-load.t ........... ok
t/10-new.t ............ ok
# Author tests not required for installation
t/bin.t ............... ok
t/changes.t ........... skipped: Not running author tests
t/carp.t .............. ok
t/comment-spelling.t .. skipped: Author tests not required for installation
# Author tests not required for installation
t/ca.t ................ ok
t/critic.t ............ skipped: Not running author tests
t/cv.t ................ skipped: Not running author tests
t/dist.t .............. skipped: Not running author tests
t/coverage.t .......... ok
t/eol.t ............... skipped: Author tests not required for installation
t/eof.t ............... skipped: Author tests not required for installation
t/kwalitee.t .......... skipped: Author tests not required for installation
t/gv.t ................ skipped: Author tests not required for installation
t/links.t ............. skipped: Not running author tests
t/manifest.t .......... skipped: Author tests not required for installation
t/namespaces.t ........ skipped: Author tests not required for installation
t/no404s.t ............ skipped: Not running author tests
t/metrics.t ........... skipped: Author tests not required for installation
t/noplan.t ............ skipped: Not running author tests
# Author tests not required for installation
t/noopentickets.t ..... ok
t/pod-spelling.t ...... skipped: Author tests not required for installation
t/pod-cm.t ............ skipped: Test::Pod::Spelling::CommonMistakes required for testing POD spelling
t/pod-synopsis.t ...... skipped: Author tests not required for installation
t/pod.t ............... skipped: Author tests not required for installation
t/port.t .............. skipped: Test::Portability::Files required for testing filenames portability
t/prereq.t ............ skipped: Author tests not required for installation
t/snippets.t .......... skipped: Author tests not required for installation
t/strict.t ............ skipped: Author tests not required for installation
t/unused.t ............ skipped: Author tests not required for installation
t/used.t .............. skipped: Author tests not required for installation
t/vars.t .............. skipped: Author tests not required for installation
# On-line tests have been disabled
t/us.t ................ ok
All tests successful.
Test Summary Report
-------------------
t/boiler.t (Wstat: 0 Tests: 3 Failed: 0)
TODO passed: 1-3
Files=35, Tests=47, 0 wallclock secs ( 0.04 usr 0.03 sys + 1.01 cusr 0.20 csys = 1.28 CPU)
Result: PASS
------------------------------
PREREQUISITES
------------------------------
Prerequisite modules loaded:
requires:
Module Need Have
-------------------- -------- --------
Encode 0 3.21
JSON::MaybeXS 0 1.004008
LWP::Protocol::https 0 6.14
LWP::UserAgent 0 6.78
perl 5.006002 5.040002
URI 0 5.31
build_requires:
Module Need Have
-------------------- -------- --------
autodie 0 2.37
ExtUtils::MakeMaker 0 7.74
IPC::System::Simple 0 1.30
Test::Carp 0 0.2
Test::DescribeMe 0 0.004
Test::Most 0 0.38
Test::Needs 0 0.002010
Test::NoWarnings 0 1.06
Test::Number::Delta 0 1.06
Test::Script 1.12 1.29
WWW::RT::CPAN 0 0.002
configure_requires:
Module Need Have
-------------------- -------- --------
ExtUtils::MakeMaker 0 7.74
------------------------------
ENVIRONMENT AND OTHER CONTEXT
------------------------------
Environment variables:
HARNESS_OPTIONS = c:j4
LANG = en_US.UTF-8
LDFLAGS = -L/opt/homebrew/opt/openssl/lib:/opt/homebrew/opt/libpcap/lib:/opt/homebrew/opt/berkeley-db@5/lib
NONINTERACTIVE_TESTING = 1
PATH = /Users/njh/perl5/perlbrew/bin:/Users/njh/perl5/perlbrew/perls/perl-5.40.2/bin:/opt/homebrew/opt/libpcap/bin:/opt/homebrew/opt/berkeley-db@5/bin:/opt/homebrew/bin:/opt/homebrew/sbin:/opt/homebrew/opt/libpcap/bin:/opt/homebrew/opt/berkeley-db@5/bin:/usr/local/bin:/System/Cryptexes/App/usr/bin:/usr/bin:/bin:/usr/sbin:/sbin:/var/run/com.apple.security.cryptexd/codex.system/bootstrap/usr/local/bin:/var/run/com.apple.security.cryptexd/codex.system/bootstrap/usr/bin:/var/run/com.apple.security.cryptexd/codex.system/bootstrap/usr/appleinternal/bin:/opt/X11/bin:/Library/Apple/usr/bin:/Users/njh/bin:/Users/njh/bin:/opt/homebrew/bin
PERL5LIB =
PERL5OPT =
PERL5_CPANPLUS_IS_RUNNING = 38849
PERL5_CPAN_IS_RUNNING = 38849
PERLBREW_HOME = /Users/njh/.perlbrew
PERLBREW_MANPATH = /Users/njh/perl5/perlbrew/perls/perl-5.40.2/man
PERLBREW_PATH = /Users/njh/perl5/perlbrew/bin:/Users/njh/perl5/perlbrew/perls/perl-5.40.2/bin
PERLBREW_PERL = perl-5.40.2
PERLBREW_ROOT = /Users/njh/perl5/perlbrew
PERLBREW_SHELLRC_VERSION = 1.01
PERLBREW_VERSION = 1.01
PERL_MM_USE_DEFAULT = 1
PERL_USE_UNSAFE_INC = 1
SHELL = /bin/bash
TERM = xterm-256color
TMPDIR = /var/folders/8v/329gghld15g2ls572lrpg_yw0000z8/T/
Perl special variables (and OS-specific diagnostics, for MSWin32):
$^X = /Users/njh/perl5/perlbrew/perls/perl-5.40.2/bin/perl
$UID/$EUID = 1000 / 1000
$GID = 20 20 12 61 102 100
$EGID = 20 20 12 61 102 100
Perl module toolchain versions installed:
Module Have
------------------- --------
CPAN 2.38
CPAN::Meta 2.150010
Cwd 3.91
ExtUtils::CBuilder 0.280240
ExtUtils::Command 7.74
ExtUtils::Install 2.22
ExtUtils::MakeMaker 7.74
ExtUtils::Manifest 1.75
ExtUtils::ParseXS 3.51
File::Spec 3.91
JSON 4.10
JSON::PP 4.16
Module::Build 0.4234
Module::Signature n/a
Parse::CPAN::Meta 2.150010
Test2 1.302210
Test::Harness 3.50
Test::More 1.302210
YAML 1.31
YAML::Syck 1.34
version 0.9933
--
Summary of my perl5 (revision 5 version 40 subversion 2) configuration:
Platform:
osname=darwin
osvers=24.3.0
archname=darwin-2level
uname='darwin vainc.bandsman.co.uk 24.3.0 darwin kernel version 24.3.0: thu jan 2 20:24:23 pst 2025; root:xnu-11215.81.4~3release_arm64_t8122 arm64 '
config_args='-de -Dprefix=/Users/njh/perl5/perlbrew/perls/perl-5.40.2 -Aeval:scriptdir=/Users/njh/perl5/perlbrew/perls/perl-5.40.2/bin'
hint=recommended
useposix=true
d_sigaction=define
useithreads=undef
usemultiplicity=undef
use64bitint=define
use64bitall=define
uselongdouble=undef
usemymalloc=n
default_inc_excludes_dot=define
Compiler:
cc='cc'
ccflags ='-fno-common -DPERL_DARWIN -fno-strict-aliasing -pipe -fstack-protector-strong -I/usr/local/include'
optimize='-O3'
cppflags='-fno-common -DPERL_DARWIN -fno-strict-aliasing -pipe -fstack-protector-strong -I/usr/local/include'
ccversion=''
gccversion='Apple LLVM 16.0.0 (clang-1600.0.26.6)'
gccosandvers=''
intsize=4
longsize=8
ptrsize=8
doublesize=8
byteorder=12345678
doublekind=3
d_longlong=define
longlongsize=8
d_longdbl=define
longdblsize=8
longdblkind=0
ivtype='long'
ivsize=8
nvtype='double'
nvsize=8
Off_t='off_t'
lseeksize=8
alignbytes=8
prototype=define
Linker and Libraries:
ld='env MACOSX_DEPLOYMENT_TARGET=10.3 cc'
ldflags =' -fstack-protector-strong -L/usr/local/lib -L/opt/local/lib'
libpth=/usr/local/lib /Library/Developer/CommandLineTools/usr/lib/clang/16/lib /Library/Developer/CommandLineTools/SDKs/MacOSX15.2.sdk/usr/lib /Library/Developer/CommandLineTools/usr/lib /opt/local/lib /usr/lib
libs=
perllibs=
libc=
so=dylib
useshrplib=false
libperl=libperl.a
gnulibc_version=''
Dynamic Linking:
dlsrc=dl_dlopen.xs
dlext=bundle
d_dlsymun=undef
ccdlflags=' '
cccdlflags=' '
lddlflags=' -bundle -undefined dynamic_lookup -L/usr/local/lib -L/opt/local/lib -fstack-protector-strong'
Characteristics of this binary (from libperl):
Compile-time options:
HAS_LONG_DOUBLE
HAS_STRTOLD
HAS_TIMES
PERLIO_LAYERS
PERL_COPY_ON_WRITE
PERL_DONT_CREATE_GVSV
PERL_HASH_FUNC_SIPHASH13
PERL_HASH_USE_SBOX32
PERL_MALLOC_WRAP
PERL_OP_PARENT
PERL_PRESERVE_IVUV
PERL_USE_SAFE_PUTENV
USE_64_BIT_ALL
USE_64_BIT_INT
USE_LARGE_FILES
USE_LOCALE
USE_LOCALE_COLLATE
USE_LOCALE_CTYPE
USE_LOCALE_NUMERIC
USE_LOCALE_TIME
USE_PERLIO
USE_PERL_ATOF
Built under darwin
Compiled at Apr 15 2025 10:22:24
%ENV:
PERL5LIB=""
PERL5OPT=""
PERL5_CPANPLUS_IS_RUNNING="38849"
PERL5_CPAN_IS_RUNNING="38849"
PERLBREW_HOME="/Users/njh/.perlbrew"
PERLBREW_MANPATH="/Users/njh/perl5/perlbrew/perls/perl-5.40.2/man"
PERLBREW_PATH="/Users/njh/perl5/perlbrew/bin:/Users/njh/perl5/perlbrew/perls/perl-5.40.2/bin"
PERLBREW_PERL="perl-5.40.2"
PERLBREW_ROOT="/Users/njh/perl5/perlbrew"
PERLBREW_SHELLRC_VERSION="1.01"
PERLBREW_VERSION="1.01"
PERL_MM_USE_DEFAULT="1"
PERL_USE_UNSAFE_INC="1"
@INC:
/Users/njh/perl5/perlbrew/perls/perl-5.40.2/lib/site_perl/5.40.2/darwin-2level
/Users/njh/perl5/perlbrew/perls/perl-5.40.2/lib/site_perl/5.40.2
/Users/njh/perl5/perlbrew/perls/perl-5.40.2/lib/5.40.2/darwin-2level
/Users/njh/perl5/perlbrew/perls/perl-5.40.2/lib/5.40.2
.