Back
From: metabase:user:e3434da8-b236-11df-85ca-0247c6d74bde
Subject: PASS Parse-Eyapp-1.176 v5.12.2 GNU/Linux
Date: 2010-12-27T10:12:08Z
This distribution has been tested as part of the CPAN Testers
project, supporting the Perl programming language. See
http://wiki.cpantesters.org/ for more information or email
questions to cpan-testers-discuss@perl.org
--
Dear Casiano Rodriguez-Leon,
This is a computer-generated report for Parse-Eyapp-1.176
on perl 5.12.2, created by CPAN-Reporter-1.1803.
Thank you for uploading your work to CPAN. Congratulations!
All tests were successful.
Sections of this report:
* Tester comments
* Program output
* Prerequisites
* Environment and other context
------------------------------
TESTER COMMENTS
------------------------------
Additional comments from tester:
this report is from an automated smoke testing program
and was not reviewed by a human for accuracy
------------------------------
PROGRAM OUTPUT
------------------------------
Output from '/usr/bin/make test':
PERL_DL_NONLAZY=1 /home/tester/vers/perl-5.12.2/bin/perl "-MExtUtils::Command::MM" "-e" "test_harness(0, 'blib/lib', 'blib/arch')" t/*.t
t/01calc.t .................................. ok
t/03newgrammar.t ............................ ok
t/04foldandzero.t ........................... ok
t/05treewithvars.t .......................... ok
t/06meta.t .................................. ok
t/07translationschemetype.t ................. ok
t/08tschemetypestar.t ....................... ok
t/09ts_with_defaultaction.t ................. ok
t/10ts_with_treereg.t ....................... ok
t/11ts_simplify_codes.t ..................... ok
t/12ts_simplify_with_s.t .................... ok
t/13ts_simplify_with_delete.t ............... ok
t/14ts_simplify_with_trreereg.t ............. ok
t/15treeregswith2arrays.t ................... ok
t/16treeregswitharrayattheend.t ............. ok
t/17fatherisscalar.t ........................ ok
t/18fatherpatternwitharrays.t ............... ok
t/19treeregswitharrays2transf.t ............. ok
t/20treeregswitharrays2transf.t ............. ok
t/21fatherisdot.t ........................... ok
t/22treeregswithregexpwithid.t .............. ok
t/23treeregswitharraysandregexps.t .......... ok
t/24prefixes.t .............................. ok
t/25foldwithnew.t ........................... ok
t/26foldwithnewwithvars.t ................... ok
t/27unshiftinmyself.t ....................... ok
t/28unshifttwoitems.t ....................... ok
t/29foldinglistsofexpressions.t ............. ok
t/30complextreereg.t ........................ ok
t/31optional.t .............................. ok
t/32deletenodewithwarn.t .................... ok
t/33moveinvariantoutofloop.t ................ ok
t/34moveinvariantoutofloopcomplexformula.t .. ok
t/35match.t ................................. ok
t/36tswithmultipledefact.t .................. ok
t/37tsplus.t ................................ ok
t/38tspostfix.t ............................. ok
t/38tspostfix_resultisarray.t ............... ok
t/39tspostfix.t ............................. ok
t/40wrongoptionforTreeregexp_new.t .......... ok
t/41indexbug.t .............................. ok
t/42pod.t ................................... skipped: Developer test
t/43dotandscalar.t .......................... ok
t/44repeatedarray.t ......................... ok
t/45starandarray.t .......................... ok
t/46starandstar.t ........................... ok
t/47ruleindex.t ............................. ok
t/48yyprefix.t .............................. ok
t/49conflicts.t ............................. ok
t/50SimpleChalfscope.t ...................... ok
t/52accesors.t .............................. ok
t/53accessorsskip.t ......................... ok
t/54alias_and_yyprefix.t .................... ok
t/55builder.t ............................... ok
t/56equal.t ................................. ok
t/57testequal.t ............................. ok
t/58standalone.t ............................ ok
t/59newgrammarerrors.t ...................... ok
t/60dynamicyyprefix_and_alias.t ............. ok
t/61standalonegift.t ........................ ok
t/62docinsideeyapp.t ........................ ok
t/63docwithdoublecut.t ...................... ok
t/64standalonegiftandeyapp.t ................ ok
t/65yydebugandpod.t ......................... ok
t/66yydebugstandaloneandpod.t ............... ok
t/67outputfile.t ............................ ok
t/70dos2unix.t .............................. ok
t/71dynamicconflictresolution.t ............. ok
t/72mixedstandaloneanddynamicload.t ......... ok
t/73dynamicshiftreduceconflictresolution.t .. ok
t/74lalrdependanttest.t ..................... ok
t/75tokenandvariablewiththesamename.t ....... ok
t/76minusvoption.t .......................... ok
t/77lexicalanalyzergeneration.t ............. ok
t/78twolexers.t ............................. ok
t/79syntactictokenwithdef.t ................. ok
t/80ppcr.t .................................. ok
t/81tokendirectiveandsubstitution.t ......... ok
t/82expectandPLI.t .......................... ok
t/83parsingstringsandtrees.t ................ ok
t/84graphics.t .............................. ok
t/85minusSoption.t .......................... ok
t/86recycle.t ............................... ok
t/87namingSchemes.t ......................... ok
t/98nopm.t .................................. ok
t/99Cplusplusgrammar.t ...................... skipped: Developer test
All tests successful.
Files=86, Tests=702, 12 wallclock secs ( 0.32 usr 0.17 sys + 6.40 cusr 0.98 csys = 7.87 CPU)
Result: PASS
------------------------------
PREREQUISITES
------------------------------
Prerequisite modules loaded:
requires:
Module Need Have
------------------- ---- -----
Data::Dumper 1.0 2.125
List::Util 1.0 1.22
Pod::Usage 1.0 1.36
configure_requires:
Module Need Have
------------------- ---- -----
ExtUtils::MakeMaker 0 6.56
------------------------------
ENVIRONMENT AND OTHER CONTEXT
------------------------------
Environment variables:
AUTOMATED_TESTING = 1
LANG = en_US.utf8
LC_COLLATE = C
PATH = /home/tester/perl5/perlbrew/bin:/home/tester/perl5/perlbrew/perls/current/bin:/home/tester/perl5/perlbrew/bin:/home/tester/perl5/perlbrew/perls/current/bin:/usr/lib64/qt-3.3/bin:/usr/lib64/ccache:/usr/local/bin:/bin:/usr/bin:/usr/local/sbin:/usr/sbin:/sbin:/home/tester/bin
PERL5LIB =
PERL5OPT =
PERL5_CPANPLUS_IS_RUNNING = 31239
PERL5_CPAN_IS_RUNNING = 31239
PERL5_MINISMOKEBOX = 0.40
PERL_EXTUTILS_AUTOINSTALL = --defaultdeps
PERL_MM_USE_DEFAULT = 1
SHELL = /bin/bash
TERM = screen
Perl special variables (and OS-specific diagnostics, for MSWin32):
$^X = /home/tester/vers/perl-5.12.2/bin/perl
$UID/$EUID = 501 / 501
$GID = 501 501
$EGID = 501 501
Perl module toolchain versions installed:
Module Have
------------------- -------
CPAN 1.94_56
Cwd 3.33
ExtUtils::CBuilder 0.2703
ExtUtils::Command 1.16
ExtUtils::Install 1.55
ExtUtils::MakeMaker 6.56
ExtUtils::Manifest 1.58
ExtUtils::ParseXS 2.2206
File::Spec 3.33
Module::Build 0.3607
Module::Signature n/a
Test::Harness 3.22
Test::More 0.96
YAML n/a
YAML::Syck 1.17
version 0.86
--
Summary of my perl5 (revision 5 version 12 subversion 2) configuration:
Platform:
osname=linux, osvers=2.6.35.6-48.fc14.x86_64, archname=x86_64-linux-thread-multi
uname='linux firenze.localhost 2.6.35.6-48.fc14.x86_64 #1 smp fri oct 22 15:36:08 utc 2010 x86_64 x86_64 x86_64 gnulinux '
config_args='-des -Dprefix=/home/tester/vers/perl-5.12.2 -Dusethreads -Duse64bitint'
hint=recommended, useposix=true, d_sigaction=define
useithreads=define, usemultiplicity=define
useperlio=define, d_sfio=undef, uselargefiles=define, usesocks=undef
use64bitint=define, use64bitall=define, uselongdouble=undef
usemymalloc=n, bincompat5005=undef
Compiler:
cc='cc', ccflags ='-D_REENTRANT -D_GNU_SOURCE -fno-strict-aliasing -pipe -fstack-protector -I/usr/local/include -D_LARGEFILE_SOURCE -D_FILE_OFFSET_BITS=64',
optimize='-O2',
cppflags='-D_REENTRANT -D_GNU_SOURCE -fno-strict-aliasing -pipe -fstack-protector -I/usr/local/include'
ccversion='', gccversion='4.5.1 20100924 (Red Hat 4.5.1-4)', gccosandvers=''
intsize=4, longsize=8, ptrsize=8, doublesize=8, byteorder=12345678
d_longlong=define, longlongsize=8, d_longdbl=define, longdblsize=16
ivtype='long', ivsize=8, nvtype='double', nvsize=8, Off_t='off_t', lseeksize=8
alignbytes=8, prototype=define
Linker and Libraries:
ld='cc', ldflags =' -fstack-protector -L/usr/local/lib'
libpth=/usr/local/lib /lib /usr/lib /lib64 /usr/lib64 /usr/local/lib64
libs=-lnsl -lgdbm -ldb -ldl -lm -lcrypt -lutil -lpthread -lc -lgdbm_compat
perllibs=-lnsl -ldl -lm -lcrypt -lutil -lpthread -lc
libc=, so=so, useshrplib=false, libperl=libperl.a
gnulibc_version='2.12.90'
Dynamic Linking:
dlsrc=dl_dlopen.xs, dlext=so, d_dlsymun=undef, ccdlflags='-Wl,-E'
cccdlflags='-fPIC', lddlflags='-shared -O2 -L/usr/local/lib -fstack-protector'
Characteristics of this binary (from libperl):
Compile-time options: MULTIPLICITY PERL_DONT_CREATE_GVSV
PERL_IMPLICIT_CONTEXT PERL_MALLOC_WRAP USE_64_BIT_ALL
USE_64_BIT_INT USE_ITHREADS USE_LARGE_FILES
USE_PERLIO USE_PERL_ATOF USE_REENTRANT_API
Built under linux
Compiled at Dec 1 2010 00:01:40
%ENV:
PERL5LIB=""
PERL5OPT=""
PERL5_CPANPLUS_IS_RUNNING="31239"
PERL5_CPAN_IS_RUNNING="31239"
PERL5_MINISMOKEBOX="0.40"
PERL_EXTUTILS_AUTOINSTALL="--defaultdeps"
PERL_MM_USE_DEFAULT="1"
@INC:
/home/tester/vers/perl-5.12.2/lib/site_perl/5.12.2/x86_64-linux-thread-multi
/home/tester/vers/perl-5.12.2/lib/site_perl/5.12.2
/home/tester/vers/perl-5.12.2/lib/5.12.2/x86_64-linux-thread-multi
/home/tester/vers/perl-5.12.2/lib/5.12.2
.