Dist-Zilla-Plugin-CheckExtraTests v0.029 Perl 5 v5.32.1 darwin-2level
        
            - Status
- Pass
- From
- Neil Bowers
- Dist
- 
                Dist-Zilla-Plugin-CheckExtraTests v0.029
            
- Platform
- Perl 5 v5.32.1 darwin-2level
- Date
- 2022-10-08 10:19:58
- ID
- c31d2b44-46f2-11ed-b164-db0087de41a2
This distribution has been tested as part of the CPAN Testers
project, supporting the Perl programming language.  See
http://wiki.cpantesters.org/ for more information or email
questions to cpan-testers-discuss@perl.org
--
Dear David Golden,
This is a computer-generated report for Dist-Zilla-Plugin-CheckExtraTests-0.029
on perl 5.32.1, created by CPAN-Reporter-1.2018.
Thank you for uploading your work to CPAN.  Congratulations!
All tests were successful.
Sections of this report:
    * Tester comments
    * Program output
    * Prerequisites
    * Environment and other context
------------------------------
TESTER COMMENTS
------------------------------
Additional comments from tester:
none provided
------------------------------
PROGRAM OUTPUT
------------------------------
Output from '/usr/bin/make test':
PERL_DL_NONLAZY=1 "/usr/local/bin/perl" "-MExtUtils::Command::MM" "-MTest::Harness" "-e" "undef *Test::Harness::Switches; test_harness(0, 'blib/lib', 'blib/arch')" t/*.t
# 
# Versions for all modules listed in MYMETA.json (including optional ones):
# 
# === Configure Requires ===
# 
#     Module              Want Have
#     ------------------- ---- ----
#     ExtUtils::MakeMaker 6.17 7.44
# 
# === Configure Suggests ===
# 
#     Module      Want Have
#     -------- ------- ----
#     JSON::PP 2.27300 4.04
# 
# === Build Requires ===
# 
#     Module              Want Have
#     ------------------- ---- ----
#     ExtUtils::MakeMaker  any 7.44
# 
# === Test Requires ===
# 
#     Module                   Want     Have
#     ------------------------ ---- --------
#     Capture::Tiny             any     0.48
#     Dist::Zilla::App::Tester  any    6.025
#     ExtUtils::MakeMaker       any     7.44
#     File::Spec                any     3.78
#     Params::Util              any    1.102
#     Sub::Exporter             any    0.988
#     Test::More               0.88 1.302190
#     Test::Requires            any     0.11
#     Try::Tiny                 any     0.31
#     lib                       any     0.65
# 
# === Test Recommends ===
# 
#     Module         Want     Have
#     ---------- -------- --------
#     CPAN::Meta 2.120900 2.150010
# 
# === Runtime Requires ===
# 
#     Module                            Want   Have
#     -------------------------------- ----- ------
#     App::Prove                        3.00   3.42
#     Archive::Tar                       any   2.36
#     Dist::Zilla                        4.3  6.025
#     Dist::Zilla::App                   any  6.025
#     Dist::Zilla::Role::BeforeRelease   any  6.025
#     Dist::Zilla::Role::TestRunner      any  6.025
#     File::pushd                        any  1.016
#     Moose                                2 2.2201
#     Path::Iterator::Rule               any  1.015
#     Path::Tiny                       0.013  0.122
#     namespace::autoclean              0.09   0.29
#     strict                             any   1.11
#     warnings                           any   1.47
# 
t/00-report-prereqs.t .. ok
t/checkxt.t ............ ok
t/runxt.t .............. ok
t/withblib.t ........... ok
All tests successful.
Files=4, Tests=20,  3 wallclock secs ( 0.01 usr  0.00 sys +  2.24 cusr  0.73 csys =  2.98 CPU)
Result: PASS
------------------------------
PREREQUISITES
------------------------------
Prerequisite modules loaded:
requires:
    Module                           Need     Have    
    -------------------------------- -------- --------
    App::Prove                       3.00     3.42    
    Archive::Tar                     0        2.36    
    Dist::Zilla                      4.3      6.025   
    Dist::Zilla::App                 0        6.025   
    Dist::Zilla::Role::BeforeRelease 0        6.025   
    Dist::Zilla::Role::TestRunner    0        6.025   
    File::pushd                      0        1.016   
    Moose                            2        2.2201  
    namespace::autoclean             0.09     0.29    
    Path::Iterator::Rule             0        1.015   
    Path::Tiny                       0.013    0.122   
    perl                             5.006    5.032001
    strict                           0        1.11    
    warnings                         0        1.47    
build_requires:
    Module                           Need     Have    
    -------------------------------- -------- --------
    Capture::Tiny                    0        0.48    
    Dist::Zilla::App::Tester         0        6.025   
    ExtUtils::MakeMaker              0        7.44    
    File::Spec                       0        3.78    
    lib                              0        0.65    
    Params::Util                     0        1.102   
    Sub::Exporter                    0        0.988   
    Test::More                       0.88     1.302190
    Test::Requires                   0        0.11    
    Try::Tiny                        0        0.31    
configure_requires:
    Module                           Need     Have    
    -------------------------------- -------- --------
    ExtUtils::MakeMaker              6.17     7.44    
    perl                             5.006    5.032001
opt_build_requires:
    Module                           Need     Have    
    -------------------------------- -------- --------
    CPAN::Meta                       2.120900 2.150010
------------------------------
ENVIRONMENT AND OTHER CONTEXT
------------------------------
Environment variables:
    PATH = /usr/local/apache/bin:/usr/local/bin:/opt/local/bin:/usr/local/bin:/usr/bin:/bin:/usr/sbin:/sbin:/Applications/VMware Fusion.app/Contents/Public:/usr/local/go/bin:/opt/X11/bin:/usr/local/git/bin
    PERL5LIB = 
    PERL5OPT = 
    PERL5_CPANPLUS_IS_RUNNING = 49565
    PERL5_CPAN_IS_RUNNING = 49565
    PERL_USE_UNSAFE_INC = 1
    SHELL = /bin/sh
    TERM = xterm
Perl special variables (and OS-specific diagnostics, for MSWin32):
    $^X = /usr/local/bin/perl
    $UID/$EUID = 0 / 0
    $GID = 0 0 1 2 3 4 5 8 9 12 20 29 61 80 33 98 100
    $EGID = 0 0 1 2 3 4 5 8 9 12 20 29 61 80 33 98 100
Perl module toolchain versions installed:
    Module              Have    
    ------------------- --------
    CPAN                2.27    
    CPAN::Meta          2.150010
    Cwd                 3.78    
    ExtUtils::CBuilder  0.280234
    ExtUtils::Command   7.44    
    ExtUtils::Install   2.14    
    ExtUtils::MakeMaker 7.44    
    ExtUtils::Manifest  1.72    
    ExtUtils::ParseXS   3.40    
    File::Spec          3.78    
    JSON                4.05    
    JSON::PP            4.04    
    Module::Build       0.4231  
    Module::Signature   n/a     
    Parse::CPAN::Meta   2.150010
    Test::Harness       3.42    
    Test::More          1.302190
    YAML                1.30    
    YAML::Syck          1.34    
    version             0.9924  
--
Summary of my perl5 (revision 5 version 32 subversion 1) configuration:
   
  Platform:
    osname=darwin
    osvers=21.1.0
    archname=darwin-2level
    uname='darwin stanage 21.1.0 darwin kernel version 21.1.0: wed oct 13 17:33:01 pdt 2021; root:xnu-8019.41.5~1release_arm64_t6000 arm64 '
    config_args=''
    hint=recommended
    useposix=true
    d_sigaction=define
    useithreads=undef
    usemultiplicity=undef
    use64bitint=define
    use64bitall=define
    uselongdouble=undef
    usemymalloc=n
    default_inc_excludes_dot=define
    bincompat5005=undef
  Compiler:
    cc='cc'
    ccflags ='-fno-common -DPERL_DARWIN -mmacosx-version-min=12.0 -fno-strict-aliasing -pipe -fstack-protector-strong -I/usr/local/include -I/opt/local/include -DPERL_USE_SAFE_PUTENV'
    optimize='-O3'
    cppflags='-fno-common -DPERL_DARWIN -mmacosx-version-min=12.0 -fno-strict-aliasing -pipe -fstack-protector-strong -I/usr/local/include -I/opt/local/include'
    ccversion=''
    gccversion='Apple LLVM 13.0.0 (clang-1300.0.29.30)'
    gccosandvers=''
    intsize=4
    longsize=8
    ptrsize=8
    doublesize=8
    byteorder=12345678
    doublekind=3
    d_longlong=define
    longlongsize=8
    d_longdbl=define
    longdblsize=8
    longdblkind=0
    ivtype='long'
    ivsize=8
    nvtype='double'
    nvsize=8
    Off_t='off_t'
    lseeksize=8
    alignbytes=8
    prototype=define
  Linker and Libraries:
    ld='cc'
    ldflags =' -mmacosx-version-min=12.0 -fstack-protector-strong -L/usr/local/lib -L/opt/local/lib'
    libpth=/usr/local/lib /Library/Developer/CommandLineTools/usr/lib/clang/13.0.0/lib /Library/Developer/CommandLineTools/SDKs/MacOSX.sdk/usr/lib /Library/Developer/CommandLineTools/usr/lib /opt/local/lib /usr/lib
    libs=-lgdbm
    perllibs=
    libc=
    so=dylib
    useshrplib=false
    libperl=libperl.a
    gnulibc_version=''
  Dynamic Linking:
    dlsrc=dl_dlopen.xs
    dlext=bundle
    d_dlsymun=undef
    ccdlflags=' '
    cccdlflags=' '
    lddlflags=' -mmacosx-version-min=12.0 -bundle -undefined dynamic_lookup -L/usr/local/lib -L/opt/local/lib -fstack-protector-strong'
Characteristics of this binary (from libperl): 
  Compile-time options:
    HAS_TIMES
    PERLIO_LAYERS
    PERL_COPY_ON_WRITE
    PERL_DONT_CREATE_GVSV
    PERL_MALLOC_WRAP
    PERL_OP_PARENT
    PERL_PRESERVE_IVUV
    PERL_USE_SAFE_PUTENV
    USE_64_BIT_ALL
    USE_64_BIT_INT
    USE_LARGE_FILES
    USE_LOCALE
    USE_LOCALE_COLLATE
    USE_LOCALE_CTYPE
    USE_LOCALE_NUMERIC
    USE_LOCALE_TIME
    USE_PERLIO
    USE_PERL_ATOF
  Built under darwin
  Compiled at Apr 21 2022 15:12:01
  %ENV:
    PERL5LIB=""
    PERL5OPT=""
    PERL5_CPANPLUS_IS_RUNNING="49565"
    PERL5_CPAN_IS_RUNNING="49565"
    PERL_USE_UNSAFE_INC="1"
  @INC:
    /usr/local/lib/perl5/site_perl/5.32.1/darwin-2level
    /usr/local/lib/perl5/site_perl/5.32.1
    /usr/local/lib/perl5/5.32.1/darwin-2level
    /usr/local/lib/perl5/5.32.1
    .