Net-HTTP-Spore v0.09 Perl 5 v5.16.0 MSWin32-x86-multi-thread

Status
Pass
From
Alexandr Ciornii (CHORNY)
Dist
Net-HTTP-Spore v0.09
Platform
Perl 5 v5.16.0 MSWin32-x86-multi-thread
Date
2018-01-23 13:46:02
ID
c2f67434-6c43-1014-a7ea-8f47c1d24e60
This distribution has been tested as part of the CPAN Testers
project, supporting the Perl programming language.  See
http://wiki.cpantesters.org/ for more information or email
questions to cpan-testers-discuss@perl.org


--
Dear Ahmad Fatoum,

This is a computer-generated report for Net-HTTP-Spore-0.09
on perl 5.16.0, created by CPAN-Reporter-1.2018.

Thank you for uploading your work to CPAN.  Congratulations!
All tests were successful.

Sections of this report:

    * Tester comments
    * Program output
    * Prerequisites
    * Environment and other context

------------------------------
TESTER COMMENTS
------------------------------

Additional comments from tester:

this report is from an automated smoke testing program
and was not reviewed by a human for accuracy

------------------------------
PROGRAM OUTPUT
------------------------------

Output from 'C:\strawberry160\c\bin\dmake.exe test':

C:\strawberry160\perl\bin\perl.exe "-MExtUtils::Command::MM" "-MTest::Harness" "-e" "undef *Test::Harness::Switches; test_harness(0, 'blib\lib', 'blib\arch')" t/*.t t/spore-method/*.t t/spore-middleware/*.t t/spore-request/*.t t/spore-response/*.t t/spore-role/*.t t/spore/*.t
t/00-compile.t ....................... ok
t/author-eol.t ....................... skipped: these tests are for testing by the author
t/author-no-tabs.t ................... skipped: these tests are for testing by the author
t/author-pod-syntax.t ................ skipped: these tests are for testing by the author
t/author-test-version.t .............. skipped: these tests are for testing by the author
t/release-minimum-version.t .......... skipped: these tests are for release candidate testing
t/spore-method/base.t ................ ok
t/spore-method/payload.t ............. ok
t/spore-middleware/anonymous.t ....... ok
t/spore-middleware/auth-basic.t ...... ok
t/spore-middleware/auth-header.t ..... ok
t/spore-middleware/auth-oauth.t ...... ok
t/spore-middleware/format-auto.t ..... ok
t/spore-middleware/format-json.t ..... ok
t/spore-middleware/format-text.t ..... ok
t/spore-middleware/format-xml.t ...... ok
t/spore-middleware/format-yaml.t ..... ok
t/spore-middleware/ns.t .............. ok
t/spore-middleware/redirection.t ..... ok
t/spore-middleware/runtime.t ......... ok
t/spore-middleware/useragent.t ....... ok
t/spore-middleware/x-do-not-track.t .. ok
t/spore-request/base.t ............... ok
t/spore-request/exception.t .......... ok
t/spore-request/finalize.t ........... ok
t/spore-request/form_data.t .......... ok
t/spore-request/headers.t ............ ok
t/spore-request/new.t ................ ok
t/spore-request/request_uri.t ........ ok
t/spore-request/script_name.t ........ ok
t/spore-request/uri.t ................ ok
t/spore-response/body.t .............. ok
t/spore-response/debug.t ............. ok
t/spore-response/headers.t ........... ok
t/spore-response/new.t ............... ok
t/spore-response/response.t .......... ok
t/spore-response/timeout.t ........... ok
t/spore-role/basic.t ................. ok
t/spore/01_new_from_string.t ......... ok
t/spore/02_enable.t .................. ok
All tests successful.
Files=40, Tests=224, 85 wallclock secs ( 0.24 usr +  0.07 sys =  0.31 CPU)
Result: PASS

------------------------------
PREREQUISITES
------------------------------

Prerequisite modules loaded:

requires:

    Module                       Need  Have    
    ---------------------------- ----- --------
    Carp                         0     1.26    
    Class::Load                  0     0.20    
    Digest::SHA                  0     5.71    
    Encode                       0     2.55    
    HTTP::Headers                0     6.00    
    HTTP::Request                0     6.00    
    IO::All                      0     0.87    
    IO::File                     0     1.16    
    JSON                         0     2.53    
    LWP::UserAgent               0     6.05    
    MIME::Base64                 0     3.13    
    Moose                        0     2.1005  
    Moose::Exporter              0     2.1005  
    Moose::Meta::Method          0     2.1005  
    Moose::Role                  0     2.1005  
    Moose::Util::MetaRole        0     2.1005  
    Moose::Util::TypeConstraints 0     2.1005  
    MooseX::Role::Parameterized  1.01  1.10    
    MooseX::Types                0     0.31    
    MooseX::Types::Moose         0     0.31    
    MooseX::Types::URI           0     0.04    
    overload                     0     1.18    
    perl                         5.010 5.016000
    Scalar::Util                 0     1.35    
    strict                       0     1.07    
    Time::HiRes                  0     1.9725  
    Try::Tiny                    0     0.18    
    URI                          0     1.60    
    URI::Escape                  0     3.31    
    warnings                     0     1.13    
    XML::Simple                  0     2.18    
    YAML                         0     0.88    

build_requires:

    Module                       Need  Have    
    ---------------------------- ----- --------
    base                         0     2.18    
    blib                         1.01  1.06    
    ExtUtils::MakeMaker          0     6.84    
    File::Spec                   0     3.40    
    File::Temp                   0     0.22    
    IO::Handle                   0     1.33    
    IPC::Open3                   0     1.12    
    Test::Exception              0     0.32    
    Test::Moose                  0     2.1005  
    Test::More                   0     1.001002

configure_requires:

    Module                       Need  Have    
    ---------------------------- ----- --------
    ExtUtils::MakeMaker          0     6.84    
    perl                         5.010 5.016000


------------------------------
ENVIRONMENT AND OTHER CONTEXT
------------------------------

Environment variables:

    AUTOMATED_TESTING = 1
    COMSPEC = C:\WINDOWS\system32\cmd.exe
    NUMBER_OF_PROCESSORS = 1
    PATH = C:\WINDOWS\system32;C:\WINDOWS;C:\WINDOWS\System32\Wbem;C:\strawberry160\c\bin;C:\strawberry160\perl\site\bin;C:\strawberry160\perl\bin
    PERL5LIB = C:\strawberry160\cpan\build\MooseX-Role-Parameterized-1.10-sVmO99/blib/arch;C:\strawberry160\cpan\build\MooseX-Role-Parameterized-1.10-sVmO99/blib/lib;C:\strawberry160\cpan\build\CPAN-Meta-Check-0.014-WzPVJL/blib/arch;C:\strawberry160\cpan\build\CPAN-Meta-Check-0.014-WzPVJL/blib/lib;C:\strawberry160\cpan\build\Module-Metadata-1.000033-H490bQ/blib/arch;C:\strawberry160\cpan\build\Module-Metadata-1.000033-H490bQ/blib/lib;C:\strawberry160\cpan\build\IO-All-0.87-7dzb1p/blib/arch;C:\strawberry160\cpan\build\IO-All-0.87-7dzb1p/blib/lib;C:\strawberry160\cpan\build\File-ShareDir-Install-0.11-VRTJ9g/blib/arch;C:\strawberry160\cpan\build\File-ShareDir-Install-0.11-VRTJ9g/blib/lib;C:\strawberry160\cpan\build\Module-Build-Tiny-0.039-VsAiAr/blib/arch;C:\strawberry160\cpan\build\Module-Build-Tiny-0.039-VsAiAr/blib/lib
    PERL5OPT = 
    PERL5_CPANPLUS_IS_RUNNING = 77000
    PERL5_CPAN_IS_RUNNING = 77000
    PERL5_CPAN_IS_RUNNING_IN_RECURSION = 4856,77000
    PERL_CR_SMOKER_CURRENT = WebService-KVV-Live-Stop-0.007
    PERL_CR_SMOKER_RUNONCE = 1
    PERL_EXTUTILS_AUTOINSTALL = --defaultdeps
    PERL_JSON_BACKEND = JSON::XS
    PERL_MM_USE_DEFAULT = 1
    PERL_YAML_BACKEND = YAML
    PROCESSOR_IDENTIFIER = x86 Family 18 Model 1 Stepping 0, AuthenticAMD
    TEMP = C:\DOCUME~1\a\LOCALS~1\Temp
    TERM = dumb

Perl special variables (and OS-specific diagnostics, for MSWin32):

    $^X = C:\strawberry160\perl\bin\perl.exe
    $UID/$EUID = 0 / 0
    $GID = 0
    $EGID = 0
    Win32::GetOSName = WinXP/.Net
    Win32::GetOSVersion = Service Pack 3, 5, 1, 2600, 2, 3, 0, 256, 1
    Win32::FsType = NTFS
    Win32::IsAdminUser = 1

Perl module toolchain versions installed:

    Module              Have    
    ------------------- --------
    CPAN                2.00    
    CPAN::Meta          2.133380
    Cwd                 3.40    
    ExtUtils::CBuilder  0.280206
    ExtUtils::Command   1.17    
    ExtUtils::Install   1.58    
    ExtUtils::MakeMaker 6.84    
    ExtUtils::Manifest  1.61    
    ExtUtils::ParseXS   3.22    
    File::Spec          3.40    
    JSON                2.53    
    JSON::PP            2.27203 
    Module::Build       0.4203  
    Module::Signature   0.68    
    Parse::CPAN::Meta   1.4405  
    Test::Harness       3.30    
    Test::More          1.001002
    YAML                0.88    
    YAML::Syck          1.27    
    version             0.9904  


--

Summary of my perl5 (revision 5 version 16 subversion 0) configuration:
   
  Platform:
    osname=MSWin32, osvers=4.0, archname=MSWin32-x86-multi-thread
    uname='Win32 strawberry-perl 5.16.0.1 #1 Mon May 21 22:07:30 2012 i386'
    config_args='undef'
    hint=recommended, useposix=true, d_sigaction=undef
    useithreads=define, usemultiplicity=define
    useperlio=define, d_sfio=undef, uselargefiles=define, usesocks=undef
    use64bitint=undef, use64bitall=undef, uselongdouble=undef
    usemymalloc=n, bincompat5005=undef
  Compiler:
    cc='gcc', ccflags =' -s -O2 -DWIN32  -DPERL_TEXTMODE_SCRIPTS -DPERL_IMPLICIT_CONTEXT -DPERL_IMPLICIT_SYS -fno-strict-aliasing -mms-bitfields',
    optimize='-s -O2',
    cppflags='-DWIN32'
    ccversion='', gccversion='4.6.3', gccosandvers=''
    intsize=4, longsize=4, ptrsize=4, doublesize=8, byteorder=1234
    d_longlong=undef, longlongsize=8, d_longdbl=define, longdblsize=12
    ivtype='long', ivsize=4, nvtype='double', nvsize=8, Off_t='long long', lseeksize=8
    alignbytes=8, prototype=define
  Linker and Libraries:
    ld='g++', ldflags ='-s -L"C:\strawberry160\perl\lib\CORE" -L"C:\strawberry160\c\lib"'
    libpth=C:\strawberry160\c\lib C:\strawberry160\c\i686-w64-mingw32\lib
    libs=-lmoldname -lkernel32 -luser32 -lgdi32 -lwinspool -lcomdlg32 -ladvapi32 -lshell32 -lole32 -loleaut32 -lnetapi32 -luuid -lws2_32 -lmpr -lwinmm -lversion -lodbc32 -lodbccp32 -lcomctl32
    perllibs=-lmoldname -lkernel32 -luser32 -lgdi32 -lwinspool -lcomdlg32 -ladvapi32 -lshell32 -lole32 -loleaut32 -lnetapi32 -luuid -lws2_32 -lmpr -lwinmm -lversion -lodbc32 -lodbccp32 -lcomctl32
    libc=, so=dll, useshrplib=true, libperl=libperl516.a
    gnulibc_version=''
  Dynamic Linking:
    dlsrc=dl_win32.xs, dlext=dll, d_dlsymun=undef, ccdlflags=' '
    cccdlflags=' ', lddlflags='-mdll -s -L"C:\strawberry160\perl\lib\CORE" -L"C:\strawberry160\c\lib"'


Characteristics of this binary (from libperl): 
  Compile-time options: HAS_TIMES HAVE_INTERP_INTERN MULTIPLICITY
                        PERLIO_LAYERS PERL_DONT_CREATE_GVSV
                        PERL_IMPLICIT_CONTEXT PERL_IMPLICIT_SYS
                        PERL_MALLOC_WRAP PERL_PRESERVE_IVUV PL_OP_SLAB_ALLOC
                        USE_ITHREADS USE_LARGE_FILES USE_LOCALE
                        USE_LOCALE_COLLATE USE_LOCALE_CTYPE
                        USE_LOCALE_NUMERIC USE_PERLIO USE_PERL_ATOF
  Built under MSWin32
  Compiled at May 21 2012 22:15:38
  %ENV:
    PERL5LIB="C:\strawberry160\cpan\build\MooseX-Role-Parameterized-1.10-sVmO99/blib/arch;C:\strawberry160\cpan\build\MooseX-Role-Parameterized-1.10-sVmO99/blib/lib;C:\strawberry160\cpan\build\CPAN-Meta-Check-0.014-WzPVJL/blib/arch;C:\strawberry160\cpan\build\CPAN-Meta-Check-0.014-WzPVJL/blib/lib;C:\strawberry160\cpan\build\Module-Metadata-1.000033-H490bQ/blib/arch;C:\strawberry160\cpan\build\Module-Metadata-1.000033-H490bQ/blib/lib;C:\strawberry160\cpan\build\IO-All-0.87-7dzb1p/blib/arch;C:\strawberry160\cpan\build\IO-All-0.87-7dzb1p/blib/lib;C:\strawberry160\cpan\build\File-ShareDir-Install-0.11-VRTJ9g/blib/arch;C:\strawberry160\cpan\build\File-ShareDir-Install-0.11-VRTJ9g/blib/lib;C:\strawberry160\cpan\build\Module-Build-Tiny-0.039-VsAiAr/blib/arch;C:\strawberry160\cpan\build\Module-Build-Tiny-0.039-VsAiAr/blib/lib"
    PERL5_CPANPLUS_IS_RUNNING="77000"
    PERL5_CPAN_IS_RUNNING="77000"
    PERL5_CPAN_IS_RUNNING_IN_RECURSION="4856,77000"
    PERL_CR_SMOKER_CURRENT="WebService-KVV-Live-Stop-0.007"
    PERL_CR_SMOKER_RUNONCE="1"
    PERL_EXTUTILS_AUTOINSTALL="--defaultdeps"
    PERL_JSON_BACKEND="JSON::XS"
    PERL_MM_USE_DEFAULT="1"
    PERL_YAML_BACKEND="YAML"
  @INC:
    C:\strawberry160\cpan\build\MooseX-Role-Parameterized-1.10-sVmO99/blib/arch
    C:\strawberry160\cpan\build\MooseX-Role-Parameterized-1.10-sVmO99/blib/lib
    C:\strawberry160\cpan\build\CPAN-Meta-Check-0.014-WzPVJL/blib/arch
    C:\strawberry160\cpan\build\CPAN-Meta-Check-0.014-WzPVJL/blib/lib
    C:\strawberry160\cpan\build\Module-Metadata-1.000033-H490bQ/blib/arch
    C:\strawberry160\cpan\build\Module-Metadata-1.000033-H490bQ/blib/lib
    C:\strawberry160\cpan\build\IO-All-0.87-7dzb1p/blib/arch
    C:\strawberry160\cpan\build\IO-All-0.87-7dzb1p/blib/lib
    C:\strawberry160\cpan\build\File-ShareDir-Install-0.11-VRTJ9g/blib/arch
    C:\strawberry160\cpan\build\File-ShareDir-Install-0.11-VRTJ9g/blib/lib
    C:\strawberry160\cpan\build\Module-Build-Tiny-0.039-VsAiAr/blib/arch
    C:\strawberry160\cpan\build\Module-Build-Tiny-0.039-VsAiAr/blib/lib
    C:/strawberry160/perl/site/lib/MSWin32-x86-multi-thread
    C:/strawberry160/perl/site/lib
    C:/strawberry160/perl/vendor/lib
    C:/strawberry160/perl/lib
    .