Report for Net-Braintree-0.30.0

Back
From: metabase:user:314402c4-2aae-11df-837a-5e0a49663a4f
Subject: PASS Net-Braintree-0.30.0 v5.8.9 GNU/Linux
Date: 2017-04-11T20:02:15Z

This distribution has been tested as part of the CPAN Testers
project, supporting the Perl programming language.  See
http://wiki.cpantesters.org/ for more information or email
questions to cpan-testers-discuss@perl.org


--
Dear Braintree Devs,

This is a computer-generated report for Net-Braintree-0.30.0
on perl 5.8.9, created by CPAN-Reporter-1.2018.

Thank you for uploading your work to CPAN.  Congratulations!
All tests were successful.

Sections of this report:

    * Tester comments
    * Program output
    * Prerequisites
    * Environment and other context

------------------------------
TESTER COMMENTS
------------------------------

Additional comments from tester:

none provided

------------------------------
PROGRAM OUTPUT
------------------------------

Output from '/usr/bin/make test':

PERL_DL_NONLAZY=1 "/bbbike/perl-5.8.9/bin/perl5.8.9" "-MExtUtils::Command::MM" "-MTest::Harness" "-e" "undef *Test::Harness::Switches; test_harness(0, 'inc', 'blib/lib', 'blib/arch'); " t/*t
# Testing Net::Braintree 0.30.0, Perl 5.008009, /bbbike/perl-5.8.9/bin/perl5.8.9
t/00-load.t ............................ ok
t/address.t ............................ ok
t/advanced_search.t .................... ok
t/boilerplate.t ........................ ok
t/client_token.t ....................... ok
t/configuration.t ...................... ok
t/credit_card.t ........................ ok
t/customer.t ........................... ok
t/digest.t ............................. ok
t/inflate_xml.t ........................ ok
t/manifest.t ........................... skipped: Author tests not required for installation
t/merchant_account.t ................... ok
t/pod.t ................................ ok
t/resource_collection.t ................ ok
t/result.t ............................. ok
t/subscription.t ....................... ok
t/transaction.t ........................ ok
t/transparent_redirect.t ............... ok
t/transparent_redirect_query_string.t .. ok
t/util.t ............................... ok
t/validation_error.t ................... ok
t/validation_error_collection.t ........ ok
t/validations_test.t ................... ok
t/webhook_notification.t ............... ok
t/xml.t ................................ ok
t/xml_builder.t ........................ ok
All tests successful.

Test Summary Report
-------------------
t/boilerplate.t                      (Wstat: 0 Tests: 3 Failed: 0)
  TODO passed:   2-3
Files=26, Tests=213, 14 wallclock secs ( 0.10 usr  0.10 sys + 13.08 cusr  1.25 csys = 14.53 CPU)
Result: PASS

------------------------------
PREREQUISITES
------------------------------

Prerequisite modules loaded:

requires:

    Module                      Need  Have    
    --------------------------- ----- --------
    Data::GUID                  0     0.049   
    DateTime                    0     1.41    
    DateTime::Format::Atom      0     v1.2.0  
    DateTime::Format::Strptime  0     1.73    
    Digest                      0     1.17    
    Digest::HMAC_SHA1           0     1.03    
    Digest::SHA1                0     2.13    
    Digest::SHA256              0     0.01    
    File::Spec                  0.80  3.62    
    Hash::Inflator              0     1.100820
    JSON                        0     2.90    
    local::lib                  0     2.000019
    LWP                         6.02  6.25    
    LWP::Protocol::https        0     6.06    
    MIME::Base64                0     3.15    
    Module::Install::TestTarget 0     0.19    
    Moose                       0     2.1806  
    Mozilla::CA                 0     20160104
    perl                        5.006 5.008009
    Test::Moose                 0     2.1806  
    Test::More                  0     1.302078
    Test::Pod                   0     1.51    
    Test::Warn                  0     0.31    
    Try::Tiny                   0     0.28    
    URI::Query                  0     0.16    
    XML::LibXML                 0     2.0128  
    XML::Simple                 0     2.22    

build_requires:

    Module                      Need  Have    
    --------------------------- ----- --------
    ExtUtils::MakeMaker         6.42  7.24    
    Test::Moose                 0     2.1806  
    Test::More                  0     1.302078
    Test::Pod                   0     1.51    
    Test::Warn                  0     0.31    
    Try::Tiny                   0     0.28    


------------------------------
ENVIRONMENT AND OTHER CONTEXT
------------------------------

Environment variables:

    LANG = C
    LC_ALL = de_DE.UTF-8
    PATH = /usr/local/bin:/usr/bin:/bin:/usr/local/sbin:/usr/sbin:/sbin:/home/cpansand/bin/linux-gnu:/home/cpansand/bin/sh:/home/cpansand/bin:/usr/games:/home/cpansand/devel:/home/eserte/src/srezic-misc/scripts
    PERL5LIB = 
    PERL5OPT = 
    PERL5_CPANPLUS_IS_RUNNING = 6501
    PERL5_CPAN_IS_RUNNING = 6501
    PERL5_CPAN_IS_RUNNING_IN_RECURSION = 5740,6501
    PERLDOC = -MPod::Perldoc::ToTextOverstrike
    PERL_BATCH = yes
    PERL_CANARY_STABILITY_NOPROMPT = 1
    PERL_CPAN_REPORTER_CONFIG = /var/tmp/cpansmoker-1023/2017041115/cpanreporter_000_config.ini
    PERL_EXTUTILS_AUTOINSTALL = --defaultdeps
    PERL_PARALLEL_SMOKER = yes
    PERL_USE_UNSAFE_INC = 1
    SHELL = /bin/zsh
    TERM = screen
    TMPDIR = /var/tmp/cpansmoker-1023/2017041115

Perl special variables (and OS-specific diagnostics, for MSWin32):

    $^X = /bbbike/perl-5.8.9/bin/perl5.8.9
    $UID/$EUID = 1023 / 1023
    $GID = 1023 1023
    $EGID = 1023 1023

Perl module toolchain versions installed:

    Module              Have    
    ------------------- --------
    CPAN                2.16    
    CPAN::Meta          2.150010
    Cwd                 3.62    
    ExtUtils::CBuilder  0.280224
    ExtUtils::Command   7.24    
    ExtUtils::Install   1.54    
    ExtUtils::MakeMaker 7.24    
    ExtUtils::Manifest  1.70    
    ExtUtils::ParseXS   3.30    
    File::Spec          3.62    
    JSON                2.90    
    JSON::PP            2.27400 
    Module::Build       0.4220  
    Module::Signature   0.80    
    Parse::CPAN::Meta   2.150010
    Test::Harness       3.36    
    Test::More          1.302078
    YAML                1.20    
    YAML::Syck          1.29    
    version             0.9916  


--

Summary of my perl5 (revision 5 version 8 subversion 9) configuration:
  Platform:
    osname=linux, osvers=3.16.0-4-amd64, archname=x86_64-linux
    uname='linux eserte 3.16.0-4-amd64 #1 smp debian 3.16.7-ckt25-2 (2016-04-08) x86_64 gnulinux '
    config_args='-ds -e -Dprefix=/opt/perl-5.8.9 -Dcf_email=srezic@cpan.org'
    hint=recommended, useposix=true, d_sigaction=define
    usethreads=undef use5005threads=undef useithreads=undef usemultiplicity=undef
    useperlio=define d_sfio=undef uselargefiles=define usesocks=undef
    use64bitint=define use64bitall=define uselongdouble=undef
    usemymalloc=n, bincompat5005=undef
  Compiler:
    cc='cc', ccflags ='-fno-strict-aliasing -pipe -I/usr/local/include -D_LARGEFILE_SOURCE -D_FILE_OFFSET_BITS=64',
    optimize='-O2',
    cppflags='-fno-strict-aliasing -pipe -I/usr/local/include'
    ccversion='', gccversion='4.9.2', gccosandvers=''
    intsize=4, longsize=8, ptrsize=8, doublesize=8, byteorder=12345678
    d_longlong=define, longlongsize=8, d_longdbl=define, longdblsize=16
    ivtype='long', ivsize=8, nvtype='double', nvsize=8, Off_t='off_t', lseeksize=8
    alignbytes=8, prototype=define
  Linker and Libraries:
    ld='cc', ldflags =' -L/usr/local/lib'
    libpth=/usr/local/lib /lib/x86_64-linux-gnu /lib/../lib /usr/lib/x86_64-linux-gnu /usr/lib/../lib /lib /usr/lib
    libs=-lnsl -ldl -lm -lcrypt -lutil -lc
    perllibs=-lnsl -ldl -lm -lcrypt -lutil -lc
    libc=libc-2.19.so, so=so, useshrplib=false, libperl=libperl.a
    gnulibc_version='2.19'
  Dynamic Linking:
    dlsrc=dl_dlopen.xs, dlext=so, d_dlsymun=undef, ccdlflags='-Wl,-E'
    cccdlflags='-fPIC', lddlflags='-shared -O2 -L/usr/local/lib'


Characteristics of this binary (from libperl): 
  Compile-time options: PERL_MALLOC_WRAP USE_64_BIT_ALL USE_64_BIT_INT
                        USE_FAST_STDIO USE_LARGE_FILES USE_PERLIO
  Locally applied patches:
	Devel::PatchPerl 1.42
  Built under linux
  Compiled at May  7 2016 09:05:30
  %ENV:
    PERL5LIB=""
    PERL5OPT=""
    PERL5_CPANPLUS_IS_RUNNING="6501"
    PERL5_CPAN_IS_RUNNING="6501"
    PERL5_CPAN_IS_RUNNING_IN_RECURSION="5740,6501"
    PERLDOC="-MPod::Perldoc::ToTextOverstrike"
    PERL_BATCH="yes"
    PERL_CANARY_STABILITY_NOPROMPT="1"
    PERL_CPAN_REPORTER_CONFIG="/var/tmp/cpansmoker-1023/2017041115/cpanreporter_000_config.ini"
    PERL_EXTUTILS_AUTOINSTALL="--defaultdeps"
    PERL_PARALLEL_SMOKER="yes"
    PERL_USE_UNSAFE_INC="1"
  @INC:
    /opt/perl-5.8.9/lib/5.8.9/x86_64-linux
    /opt/perl-5.8.9/lib/5.8.9
    /opt/perl-5.8.9/lib/site_perl/5.8.9/x86_64-linux
    /opt/perl-5.8.9/lib/site_perl/5.8.9
    .