Report for Plagger-0.7.7

Back
From: metabase:user:e7b34f46-36ca-11e0-a826-945c7ca43f85
Subject: PASS Plagger-0.7.7 v5.10.1 FreeBSD
Date: 2011-03-25T20:59:21Z

This distribution has been tested as part of the CPAN Testers
project, supporting the Perl programming language.  See
http://wiki.cpantesters.org/ for more information or email
questions to cpan-testers-discuss@perl.org


--
Dear Tatsuhiko Miyagawa,

This is a computer-generated report for Plagger-0.7.7
on perl 5.10.1, created by CPAN-Reporter-1.1902.

Thank you for uploading your work to CPAN.  Congratulations!
All tests were successful.

Sections of this report:

    * Tester comments
    * Program output
    * Prerequisites
    * Environment and other context

------------------------------
TESTER COMMENTS
------------------------------

Additional comments from tester:

this report is from an automated smoke testing program
and was not reviewed by a human for accuracy

------------------------------
PROGRAM OUTPUT
------------------------------

Output from '/usr/bin/make test':

/usr/local/bin/perl "-Iinc" Makefile.PL --config= --installdeps=XML::Feed,0.11,XML::Feed,0.09,XML::OPML,0
*** Installing dependencies...
[MSG] No '/home/tom/.cpanplus/custom-sources' dir, skipping custom sources
*** Installing XML::Feed...
==> MISSING Signature file! <==
Running [/usr/local/bin/perl /usr/local/bin/cpanp-run-perl /home/tom/.cpanplus/5.10.1/build/XML-Feed-0.43/Makefile.PL ]...
Writing Makefile for XML::Feed
Running [/usr/bin/make test]...
PERL_DL_NONLAZY=1 /usr/local/bin/perl "-MExtUtils::Command::MM" "-e" "test_harness(0, 'blib/lib', 'blib/arch')" t/*.t
t/00-compile..................ok
t/01-parse....................Can't locate XML/Parser.pm in @INC (@INC contains: /usr/home/tom/.cpanplus/5.10.1/build/XML-Feed-0.43/blib/lib /usr/home/tom/.cpanplus/5.10.1/build/XML-Feed-0.43/blib/arch /home/tom/perl5/lib/perl5/amd64-freebsd /home/tom/perl5/lib/perl5/amd64-freebsd /home/tom/perl5/lib/perl5 /home/tom/.cpanplus/5.10.1/build/XML-Feed-0.43/blib/lib /home/tom/.cpanplus/5.10.1/build/XML-Feed-0.43/blib/arch /home/tom/.cpanplus/5.10.1/build/XML-Feed-0.43/blib /usr/local/lib/perl5/5.10.1/BSDPAN /usr/local/lib/perl5/site_perl/5.10.1/mach /usr/local/lib/perl5/site_perl/5.10.1 /usr/local/lib/perl5/5.10.1/mach /usr/local/lib/perl5/5.10.1 . /usr/local/lib/perl5/5.10.1/BSDPAN /usr/local/lib/perl5/site_perl/5.10.1/mach /usr/local/lib/perl5/site_perl/5.10.1 /usr/local/lib/perl5/5.10.1/mach /usr/local/lib/perl5/5.10.1 .) at /home/tom/perl5/lib/perl5/XML/RSS.pm line 7.
BEGIN failed--compilation aborted at /home/tom/perl5/lib/perl5/XML/RSS.pm line 7.
Compilation failed in require at (eval 1053) line 2.
BEGIN failed--compilation aborted at (eval 1053) line 2.
# 75 tests planned, but 29 ran.
# Looks like your test exited with 2 just after 29.
dubious
	Test returned status 2 (wstat 512, 0x200)
DIED. FAILED tests 30-75
	Failed 46/75 tests, 38.67% okay
t/02-create...................Can't locate XML/Parser.pm in @INC (@INC contains: /usr/home/tom/.cpanplus/5.10.1/build/XML-Feed-0.43/blib/lib /usr/home/tom/.cpanplus/5.10.1/build/XML-Feed-0.43/blib/arch /home/tom/perl5/lib/perl5/amd64-freebsd /home/tom/perl5/lib/perl5/amd64-freebsd /home/tom/perl5/lib/perl5 /home/tom/.cpanplus/5.10.1/build/XML-Feed-0.43/blib/lib /home/tom/.cpanplus/5.10.1/build/XML-Feed-0.43/blib/arch /home/tom/.cpanplus/5.10.1/build/XML-Feed-0.43/blib /usr/local/lib/perl5/5.10.1/BSDPAN /usr/local/lib/perl5/site_perl/5.10.1/mach /usr/local/lib/perl5/site_perl/5.10.1 /usr/local/lib/perl5/5.10.1/mach /usr/local/lib/perl5/5.10.1 . /usr/local/lib/perl5/5.10.1/BSDPAN /usr/local/lib/perl5/site_perl/5.10.1/mach /usr/local/lib/perl5/site_perl/5.10.1 /usr/local/lib/perl5/5.10.1/mach /usr/local/lib/perl5/5.10.1 .) at /home/tom/perl5/lib/perl5/XML/RSS.pm line 7.
BEGIN failed--compilation aborted at /home/tom/perl5/lib/perl5/XML/RSS.pm line 7.
Compilation failed in require at (eval 1064) line 2.
BEGIN failed--compilation aborted at (eval 1064) line 2.
# 72 tests planned, but 36 ran.
# Looks like your test exited with 2 just after 36.
dubious
	Test returned status 2 (wstat 512, 0x200)
DIED. FAILED tests 37-72
	Failed 36/72 tests, 50.00% okay
t/04-splice-atom..............Can't locate XML/Parser.pm in @INC (@INC contains: /usr/home/tom/.cpanplus/5.10.1/build/XML-Feed-0.43/blib/lib /usr/home/tom/.cpanplus/5.10.1/build/XML-Feed-0.43/blib/arch /home/tom/perl5/lib/perl5/amd64-freebsd /home/tom/perl5/lib/perl5/amd64-freebsd /home/tom/perl5/lib/perl5 /home/tom/.cpanplus/5.10.1/build/XML-Feed-0.43/blib/lib /home/tom/.cpanplus/5.10.1/build/XML-Feed-0.43/blib/arch /home/tom/.cpanplus/5.10.1/build/XML-Feed-0.43/blib /usr/local/lib/perl5/5.10.1/BSDPAN /usr/local/lib/perl5/site_perl/5.10.1/mach /usr/local/lib/perl5/site_perl/5.10.1 /usr/local/lib/perl5/5.10.1/mach /usr/local/lib/perl5/5.10.1 . /usr/local/lib/perl5/5.10.1/BSDPAN /usr/local/lib/perl5/site_perl/5.10.1/mach /usr/local/lib/perl5/site_perl/5.10.1 /usr/local/lib/perl5/5.10.1/mach /usr/local/lib/perl5/5.10.1 .) at /home/tom/perl5/lib/perl5/XML/RSS.pm line 7.
BEGIN failed--compilation aborted at /home/tom/perl5/lib/perl5/XML/RSS.pm line 7.
Compilation failed in require at (eval 1033) line 2.
BEGIN failed--compilation aborted at (eval 1033) line 2.
# 3 tests planned, but 2 ran.
# Looks like your test exited with 2 just after 2.
dubious
	Test returned status 2 (wstat 512, 0x200)
DIED. FAILED test 3
	Failed 1/3 tests, 66.67% okay
t/04-splice-rss...............Can't locate XML/Parser.pm in @INC (@INC contains: /usr/home/tom/.cpanplus/5.10.1/build/XML-Feed-0.43/blib/lib /usr/home/tom/.cpanplus/5.10.1/build/XML-Feed-0.43/blib/arch /home/tom/perl5/lib/perl5/amd64-freebsd /home/tom/perl5/lib/perl5/amd64-freebsd /home/tom/perl5/lib/perl5 /home/tom/.cpanplus/5.10.1/build/XML-Feed-0.43/blib/lib /home/tom/.cpanplus/5.10.1/build/XML-Feed-0.43/blib/arch /home/tom/.cpanplus/5.10.1/build/XML-Feed-0.43/blib /usr/local/lib/perl5/5.10.1/BSDPAN /usr/local/lib/perl5/site_perl/5.10.1/mach /usr/local/lib/perl5/site_perl/5.10.1 /usr/local/lib/perl5/5.10.1/mach /usr/local/lib/perl5/5.10.1 . /usr/local/lib/perl5/5.10.1/BSDPAN /usr/local/lib/perl5/site_perl/5.10.1/mach /usr/local/lib/perl5/site_perl/5.10.1 /usr/local/lib/perl5/5.10.1/mach /usr/local/lib/perl5/5.10.1 .) at /home/tom/perl5/lib/perl5/XML/RSS.pm line 7.
BEGIN failed--compilation aborted at /home/tom/perl5/lib/perl5/XML/RSS.pm line 7.
Compilation failed in require at (eval 1009) line 2.
BEGIN failed--compilation aborted at (eval 1009) line 2.
# No tests run!
# Looks like your test exited with 2 before it could output anything.
dubious
	Test returned status 2 (wstat 512, 0x200)
DIED. FAILED tests 1-3
	Failed 3/3 tests, 0.00% okay
t/05-atom10-link..............ok
t/06-atom10...................ok
t/07-atom10-create............ok
t/08-convert-summary-bug......ok
t/09-missing-content-bug......Can't locate XML/Parser.pm in @INC (@INC contains: /usr/home/tom/.cpanplus/5.10.1/build/XML-Feed-0.43/blib/lib /usr/home/tom/.cpanplus/5.10.1/build/XML-Feed-0.43/blib/arch /home/tom/perl5/lib/perl5/amd64-freebsd /home/tom/perl5/lib/perl5/amd64-freebsd /home/tom/perl5/lib/perl5 /home/tom/.cpanplus/5.10.1/build/XML-Feed-0.43/blib/lib /home/tom/.cpanplus/5.10.1/build/XML-Feed-0.43/blib/arch /home/tom/.cpanplus/5.10.1/build/XML-Feed-0.43/blib /usr/local/lib/perl5/5.10.1/BSDPAN /usr/local/lib/perl5/site_perl/5.10.1/mach /usr/local/lib/perl5/site_perl/5.10.1 /usr/local/lib/perl5/5.10.1/mach /usr/local/lib/perl5/5.10.1 . /usr/local/lib/perl5/5.10.1/BSDPAN /usr/local/lib/perl5/site_perl/5.10.1/mach /usr/local/lib/perl5/site_perl/5.10.1 /usr/local/lib/perl5/5.10.1/mach /usr/local/lib/perl5/5.10.1 .) at /home/tom/perl5/lib/perl5/XML/RSS.pm line 7.
BEGIN failed--compilation aborted at /home/tom/perl5/lib/perl5/XML/RSS.pm line 7.
Compilation failed in require at (eval 1011) line 2.
BEGIN failed--compilation aborted at (eval 1011) line 2.
# 13 tests planned, but 1 ran.
# Looks like your test exited with 2 just after 1.
dubious
	Test returned status 2 (wstat 512, 0x200)
DIED. FAILED tests 2-13
	Failed 12/13 tests, 7.69% okay
t/10-mix-and-match............Can't locate XML/Parser.pm in @INC (@INC contains: /usr/home/tom/.cpanplus/5.10.1/build/XML-Feed-0.43/blib/lib /usr/home/tom/.cpanplus/5.10.1/build/XML-Feed-0.43/blib/arch /home/tom/perl5/lib/perl5/amd64-freebsd /home/tom/perl5/lib/perl5/amd64-freebsd /home/tom/perl5/lib/perl5 /home/tom/.cpanplus/5.10.1/build/XML-Feed-0.43/blib/lib /home/tom/.cpanplus/5.10.1/build/XML-Feed-0.43/blib/arch /home/tom/.cpanplus/5.10.1/build/XML-Feed-0.43/blib /usr/local/lib/perl5/5.10.1/BSDPAN /usr/local/lib/perl5/site_perl/5.10.1/mach /usr/local/lib/perl5/site_perl/5.10.1 /usr/local/lib/perl5/5.10.1/mach /usr/local/lib/perl5/5.10.1 . /usr/local/lib/perl5/5.10.1/BSDPAN /usr/local/lib/perl5/site_perl/5.10.1/mach /usr/local/lib/perl5/site_perl/5.10.1 /usr/local/lib/perl5/5.10.1/mach /usr/local/lib/perl5/5.10.1 .) at /home/tom/perl5/lib/perl5/XML/RSS.pm line 7.
BEGIN failed--compilation aborted at /home/tom/perl5/lib/perl5/XML/RSS.pm line 7.
Compilation failed in require at (eval 1010) line 2.
BEGIN failed--compilation aborted at (eval 1010) line 2.
# No tests run!
# Looks like your test exited with 2 before it could output anything.
dubious
	Test returned status 2 (wstat 512, 0x200)
DIED. FAILED tests 1-6
	Failed 6/6 tests, 0.00% okay
t/11-xml-base-atom............ok
t/11-xml-base-rss.............Can't locate XML/Parser.pm in @INC (@INC contains: /usr/home/tom/.cpanplus/5.10.1/build/XML-Feed-0.43/blib/lib /usr/home/tom/.cpanplus/5.10.1/build/XML-Feed-0.43/blib/arch /home/tom/perl5/lib/perl5/amd64-freebsd /home/tom/perl5/lib/perl5/amd64-freebsd /home/tom/perl5/lib/perl5 /home/tom/.cpanplus/5.10.1/build/XML-Feed-0.43/blib/lib /home/tom/.cpanplus/5.10.1/build/XML-Feed-0.43/blib/arch /home/tom/.cpanplus/5.10.1/build/XML-Feed-0.43/blib /usr/local/lib/perl5/5.10.1/BSDPAN /usr/local/lib/perl5/site_perl/5.10.1/mach /usr/local/lib/perl5/site_perl/5.10.1 /usr/local/lib/perl5/5.10.1/mach /usr/local/lib/perl5/5.10.1 . /usr/local/lib/perl5/5.10.1/BSDPAN /usr/local/lib/perl5/site_perl/5.10.1/mach /usr/local/lib/perl5/site_perl/5.10.1 /usr/local/lib/perl5/5.10.1/mach /usr/local/lib/perl5/5.10.1 .) at /home/tom/perl5/lib/perl5/XML/RSS.pm line 7.
BEGIN failed--compilation aborted at /home/tom/perl5/lib/perl5/XML/RSS.pm line 7.
Compilation failed in require at t/11-xml-base-rss.t line 6.
BEGIN failed--compilation aborted at t/11-xml-base-rss.t line 6.
dubious
	Test returned status 2 (wstat 512, 0x200)
t/12-multi-categories-atom....ok
t/12-multi-categories-rss.....Can't locate XML/Parser.pm in @INC (@INC contains: /usr/home/tom/.cpanplus/5.10.1/build/XML-Feed-0.43/blib/lib /usr/home/tom/.cpanplus/5.10.1/build/XML-Feed-0.43/blib/arch /home/tom/perl5/lib/perl5/amd64-freebsd /home/tom/perl5/lib/perl5/amd64-freebsd /home/tom/perl5/lib/perl5 /home/tom/.cpanplus/5.10.1/build/XML-Feed-0.43/blib/lib /home/tom/.cpanplus/5.10.1/build/XML-Feed-0.43/blib/arch /home/tom/.cpanplus/5.10.1/build/XML-Feed-0.43/blib /usr/local/lib/perl5/5.10.1/BSDPAN /usr/local/lib/perl5/site_perl/5.10.1/mach /usr/local/lib/perl5/site_perl/5.10.1 /usr/local/lib/perl5/5.10.1/mach /usr/local/lib/perl5/5.10.1 . /usr/local/lib/perl5/5.10.1/BSDPAN /usr/local/lib/perl5/site_perl/5.10.1/mach /usr/local/lib/perl5/site_perl/5.10.1 /usr/local/lib/perl5/5.10.1/mach /usr/local/lib/perl5/5.10.1 .) at /home/tom/perl5/lib/perl5/XML/RSS.pm line 7.
BEGIN failed--compilation aborted at /home/tom/perl5/lib/perl5/XML/RSS.pm line 7.
Compilation failed in require at (eval 1009) line 2.
BEGIN failed--compilation aborted at (eval 1009) line 2.
Compilation failed in require at t/12-multi-categories-rss.t line 6.
# No tests run!
# Looks like your test exited with 2 before it could output anything.
dubious
	Test returned status 2 (wstat 512, 0x200)
DIED. FAILED tests 1-6
	Failed 6/6 tests, 0.00% okay
t/12-multi-subjects-rss.......Can't locate XML/Parser.pm in @INC (@INC contains: /usr/home/tom/.cpanplus/5.10.1/build/XML-Feed-0.43/blib/lib /usr/home/tom/.cpanplus/5.10.1/build/XML-Feed-0.43/blib/arch /home/tom/perl5/lib/perl5/amd64-freebsd /home/tom/perl5/lib/perl5/amd64-freebsd /home/tom/perl5/lib/perl5 /home/tom/.cpanplus/5.10.1/build/XML-Feed-0.43/blib/lib /home/tom/.cpanplus/5.10.1/build/XML-Feed-0.43/blib/arch /home/tom/.cpanplus/5.10.1/build/XML-Feed-0.43/blib /usr/local/lib/perl5/5.10.1/BSDPAN /usr/local/lib/perl5/site_perl/5.10.1/mach /usr/local/lib/perl5/site_perl/5.10.1 /usr/local/lib/perl5/5.10.1/mach /usr/local/lib/perl5/5.10.1 . /usr/local/lib/perl5/5.10.1/BSDPAN /usr/local/lib/perl5/site_perl/5.10.1/mach /usr/local/lib/perl5/site_perl/5.10.1 /usr/local/lib/perl5/5.10.1/mach /usr/local/lib/perl5/5.10.1 .) at /home/tom/perl5/lib/perl5/XML/RSS.pm line 7.
BEGIN failed--compilation aborted at /home/tom/perl5/lib/perl5/XML/RSS.pm line 7.
Compilation failed in require at (eval 1009) line 2.
BEGIN failed--compilation aborted at (eval 1009) line 2.
Compilation failed in require at t/12-multi-subjects-rss.t line 6.
# No tests run!
# Looks like your test exited with 2 before it could output anything.
dubious
	Test returned status 2 (wstat 512, 0x200)
DIED. FAILED tests 1-6
	Failed 6/6 tests, 0.00% okay
t/13-category-hash-bug........Can't locate XML/Parser.pm in @INC (@INC contains: /usr/home/tom/.cpanplus/5.10.1/build/XML-Feed-0.43/blib/lib /usr/home/tom/.cpanplus/5.10.1/build/XML-Feed-0.43/blib/arch /home/tom/perl5/lib/perl5/amd64-freebsd /home/tom/perl5/lib/perl5/amd64-freebsd /home/tom/perl5/lib/perl5 /home/tom/.cpanplus/5.10.1/build/XML-Feed-0.43/blib/lib /home/tom/.cpanplus/5.10.1/build/XML-Feed-0.43/blib/arch /home/tom/.cpanplus/5.10.1/build/XML-Feed-0.43/blib /usr/local/lib/perl5/5.10.1/BSDPAN /usr/local/lib/perl5/site_perl/5.10.1/mach /usr/local/lib/perl5/site_perl/5.10.1 /usr/local/lib/perl5/5.10.1/mach /usr/local/lib/perl5/5.10.1 . /usr/local/lib/perl5/5.10.1/BSDPAN /usr/local/lib/perl5/site_perl/5.10.1/mach /usr/local/lib/perl5/site_perl/5.10.1 /usr/local/lib/perl5/5.10.1/mach /usr/local/lib/perl5/5.10.1 .) at /home/tom/perl5/lib/perl5/XML/RSS.pm line 7.
BEGIN failed--compilation aborted at /home/tom/perl5/lib/perl5/XML/RSS.pm line 7.
Compilation failed in require at (eval 1011) line 2.
BEGIN failed--compilation aborted at (eval 1011) line 2.
# No tests run!
# Looks like your test exited with 2 before it could output anything.
dubious
	Test returned status 2 (wstat 512, 0x200)
DIED. FAILED tests 1-20
	Failed 20/20 tests, 0.00% okay
t/14-enclosures...............Can't locate XML/Parser.pm in @INC (@INC contains: /usr/home/tom/.cpanplus/5.10.1/build/XML-Feed-0.43/blib/lib /usr/home/tom/.cpanplus/5.10.1/build/XML-Feed-0.43/blib/arch /home/tom/perl5/lib/perl5/amd64-freebsd /home/tom/perl5/lib/perl5/amd64-freebsd /home/tom/perl5/lib/perl5 /home/tom/.cpanplus/5.10.1/build/XML-Feed-0.43/blib/lib /home/tom/.cpanplus/5.10.1/build/XML-Feed-0.43/blib/arch /home/tom/.cpanplus/5.10.1/build/XML-Feed-0.43/blib /usr/local/lib/perl5/5.10.1/BSDPAN /usr/local/lib/perl5/site_perl/5.10.1/mach /usr/local/lib/perl5/site_perl/5.10.1 /usr/local/lib/perl5/5.10.1/mach /usr/local/lib/perl5/5.10.1 . /usr/local/lib/perl5/5.10.1/BSDPAN /usr/local/lib/perl5/site_perl/5.10.1/mach /usr/local/lib/perl5/site_perl/5.10.1 /usr/local/lib/perl5/5.10.1/mach /usr/local/lib/perl5/5.10.1 .) at /home/tom/perl5/lib/perl5/XML/RSS.pm line 7.
BEGIN failed--compilation aborted at /home/tom/perl5/lib/perl5/XML/RSS.pm line 7.
Compilation failed in require at (eval 1022) line 2.
BEGIN failed--compilation aborted at (eval 1022) line 2.
# 44 tests planned, but 22 ran.
# Looks like your test exited with 2 just after 22.
dubious
	Test returned status 2 (wstat 512, 0x200)
DIED. FAILED tests 23-44
	Failed 22/44 tests, 50.00% okay
t/14-multi-enclosures.........Can't locate XML/Parser.pm in @INC (@INC contains: /usr/home/tom/.cpanplus/5.10.1/build/XML-Feed-0.43/blib/lib /usr/home/tom/.cpanplus/5.10.1/build/XML-Feed-0.43/blib/arch /home/tom/perl5/lib/perl5/amd64-freebsd /home/tom/perl5/lib/perl5/amd64-freebsd /home/tom/perl5/lib/perl5 /home/tom/.cpanplus/5.10.1/build/XML-Feed-0.43/blib/lib /home/tom/.cpanplus/5.10.1/build/XML-Feed-0.43/blib/arch /home/tom/.cpanplus/5.10.1/build/XML-Feed-0.43/blib /usr/local/lib/perl5/5.10.1/BSDPAN /usr/local/lib/perl5/site_perl/5.10.1/mach /usr/local/lib/perl5/site_perl/5.10.1 /usr/local/lib/perl5/5.10.1/mach /usr/local/lib/perl5/5.10.1 . /usr/local/lib/perl5/5.10.1/BSDPAN /usr/local/lib/perl5/site_perl/5.10.1/mach /usr/local/lib/perl5/site_perl/5.10.1 /usr/local/lib/perl5/5.10.1/mach /usr/local/lib/perl5/5.10.1 .) at /home/tom/perl5/lib/perl5/XML/RSS.pm line 7.
BEGIN failed--compilation aborted at /home/tom/perl5/lib/perl5/XML/RSS.pm line 7.
Compilation failed in require at (eval 1034) line 2.
BEGIN failed--compilation aborted at (eval 1034) line 2.
# 76 tests planned, but 38 ran.
# Looks like your test exited with 2 just after 38.
dubious
	Test returned status 2 (wstat 512, 0x200)
DIED. FAILED tests 39-76
	Failed 38/76 tests, 50.00% okay
t/pod-coverage................ok
t/pod.........................ok
Failed Test                 Stat Wstat Total Fail  List of Failed
-------------------------------------------------------------------------------
t/01-parse.t                   2   512    75   92  30-75
t/02-create.t                  2   512    72   72  37-72
t/04-splice-atom.t             2   512     3    2  3
t/04-splice-rss.t              2   512     3    6  1-3
t/09-missing-content-bug.t     2   512    13   24  2-13
t/10-mix-and-match.t           2   512     6   12  1-6
t/11-xml-base-rss.t            2   512    ??   ??  ??
t/12-multi-categories-rss.t    2   512     6   12  1-6
t/12-multi-subjects-rss.t      2   512     6   12  1-6
t/13-category-hash-bug.t       2   512    20   40  1-20
t/14-enclosures.t              2   512    44   44  23-44
t/14-multi-enclosures.t        2   512    76   76  39-76
Failed 12/21 test scripts. 196/385 subtests failed.
Files=21, Tests=385,  6 wallclock secs ( 5.15 cusr +  0.80 csys =  5.95 CPU)
Failed 12/21 test programs. 196/385 subtests failed.
*** Error code 255

Stop in /usr/home/tom/.cpanplus/5.10.1/build/XML-Feed-0.43.
[ERROR] MAKE TEST failed: Bad file descriptor PERL_DL_NONLAZY=1 /usr/local/bin/perl "-MExtUtils::Command::MM" "-e" "test_harness(0, 'blib/lib', 'blib/arch')" t/*.t
t/00-compile..................ok
t/01-parse....................Can't locate XML/Parser.pm in @INC (@INC contains: /usr/home/tom/.cpanplus/5.10.1/build/XML-Feed-0.43/blib/lib /usr/home/tom/.cpanplus/5.10.1/build/XML-Feed-0.43/blib/arch /home/tom/perl5/lib/perl5/amd64-freebsd /home/tom/perl5/lib/perl5/amd64-freebsd /home/tom/perl5/lib/perl5 /home/tom/.cpanplus/5.10.1/build/XML-Feed-0.43/blib/lib /home/tom/.cpanplus/5.10.1/build/XML-Feed-0.43/blib/arch /home/tom/.cpanplus/5.10.1/build/XML-Feed-0.43/blib /usr/local/lib/perl5/5.10.1/BSDPAN /usr/local/lib/perl5/site_perl/5.10.1/mach /usr/local/lib/perl5/site_perl/5.10.1 /usr/local/lib/perl5/5.10.1/mach /usr/local/lib/perl5/5.10.1 . /usr/local/lib/perl5/5.10.1/BSDPAN /usr/local/lib/perl5/site_perl/5.10.1/mach /usr/local/lib/perl5/site_perl/5.10.1 /usr/local/lib/perl5/5.10.1/mach /usr/local/lib/perl5/5.10.1 .) at /home/tom/perl5/lib/perl5/XML/RSS.pm line 7.
BEGIN failed--compilation aborted at /home/tom/perl5/lib/perl5/XML/RSS.pm line 7.
Compilation failed in require at (eval 1053) line 2.
BEGIN failed--compilation aborted at (eval 1053) line 2.
# 75 tests planned, but 29 ran.
# Looks like your test exited with 2 just after 29.
dubious
	Test returned status 2 (wstat 512, 0x200)
DIED. FAILED tests 30-75
	Failed 46/75 tests, 38.67% okay
t/02-create...................Can't locate XML/Parser.pm in @INC (@INC contains: /usr/home/tom/.cpanplus/5.10.1/build/XML-Feed-0.43/blib/lib /usr/home/tom/.cpanplus/5.10.1/build/XML-Feed-0.43/blib/arch /home/tom/perl5/lib/perl5/amd64-freebsd /home/tom/perl5/lib/perl5/amd64-freebsd /home/tom/perl5/lib/perl5 /home/tom/.cpanplus/5.10.1/build/XML-Feed-0.43/blib/lib /home/tom/.cpanplus/5.10.1/build/XML-Feed-0.43/blib/arch /home/tom/.cpanplus/5.10.1/build/XML-Feed-0.43/blib /usr/local/lib/perl5/5.10.1/BSDPAN /usr/local/lib/perl5/site_perl/5.10.1/mach /usr/local/lib/perl5/site_perl/5.10.1 /usr/local/lib/perl5/5.10.1/mach /usr/local/lib/perl5/5.10.1 . /usr/local/lib/perl5/5.10.1/BSDPAN /usr/local/lib/perl5/site_perl/5.10.1/mach /usr/local/lib/perl5/site_perl/5.10.1 /usr/local/lib/perl5/5.10.1/mach /usr/local/lib/perl5/5.10.1 .) at /home/tom/perl5/lib/perl5/XML/RSS.pm line 7.
BEGIN failed--compilation aborted at /home/tom/perl5/lib/perl5/XML/RSS.pm line 7.
Compilation failed in require at (eval 1064) line 2.
BEGIN failed--compilation aborted at (eval 1064) line 2.
# 72 tests planned, but 36 ran.
# Looks like your test exited with 2 just after 36.
dubious
	Test returned status 2 (wstat 512, 0x200)
DIED. FAILED tests 37-72
	Failed 36/72 tests, 50.00% okay
t/04-splice-atom..............Can't locate XML/Parser.pm in @INC (@INC contains: /usr/home/tom/.cpanplus/5.10.1/build/XML-Feed-0.43/blib/lib /usr/home/tom/.cpanplus/5.10.1/build/XML-Feed-0.43/blib/arch /home/tom/perl5/lib/perl5/amd64-freebsd /home/tom/perl5/lib/perl5/amd64-freebsd /home/tom/perl5/lib/perl5 /home/tom/.cpanplus/5.10.1/build/XML-Feed-0.43/blib/lib /home/tom/.cpanplus/5.10.1/build/XML-Feed-0.43/blib/arch /home/tom/.cpanplus/5.10.1/build/XML-Feed-0.43/blib /usr/local/lib/perl5/5.10.1/BSDPAN /usr/local/lib/perl5/site_perl/5.10.1/mach /usr/local/lib/perl5/site_perl/5.10.1 /usr/local/lib/perl5/5.10.1/mach /usr/local/lib/perl5/5.10.1 . /usr/local/lib/perl5/5.10.1/BSDPAN /usr/local/lib/perl5/site_perl/5.10.1/mach /usr/local/lib/perl5/site_perl/5.10.1 /usr/local/lib/perl5/5.10.1/mach /usr/local/lib/perl5/5.10.1 .) at /home/tom/perl5/lib/perl5/XML/RSS.pm line 7.
BEGIN failed--compilation aborted at /home/tom/perl5/lib/perl5/XML/RSS.pm line 7.
Compilation failed in require at (eval 1033) line 2.
BEGIN failed--compilation aborted at (eval 1033) line 2.
# 3 tests planned, but 2 ran.
# Looks like your test exited with 2 just after 2.
dubious
	Test returned status 2 (wstat 512, 0x200)
DIED. FAILED test 3
	Failed 1/3 tests, 66.67% okay
t/04-splice-rss...............Can't locate XML/Parser.pm in @INC (@INC contains: /usr/home/tom/.cpanplus/5.10.1/build/XML-Feed-0.43/blib/lib /usr/home/tom/.cpanplus/5.10.1/build/XML-Feed-0.43/blib/arch /home/tom/perl5/lib/perl5/amd64-freebsd /home/tom/perl5/lib/perl5/amd64-freebsd /home/tom/perl5/lib/perl5 /home/tom/.cpanplus/5.10.1/build/XML-Feed-0.43/blib/lib /home/tom/.cpanplus/5.10.1/build/XML-Feed-0.43/blib/arch /home/tom/.cpanplus/5.10.1/build/XML-Feed-0.43/blib /usr/local/lib/perl5/5.10.1/BSDPAN /usr/local/lib/perl5/site_perl/5.10.1/mach /usr/local/lib/perl5/site_perl/5.10.1 /usr/local/lib/perl5/5.10.1/mach /usr/local/lib/perl5/5.10.1 . /usr/local/lib/perl5/5.10.1/BSDPAN /usr/local/lib/perl5/site_perl/5.10.1/mach /usr/local/lib/perl5/site_perl/5.10.1 /usr/local/lib/perl5/5.10.1/mach /usr/local/lib/perl5/5.10.1 .) at /home/tom/perl5/lib/perl5/XML/RSS.pm line 7.
BEGIN failed--compilation aborted at /home/tom/perl5/lib/perl5/XML/RSS.pm line 7.
Compilation failed in require at (eval 1009) line 2.
BEGIN failed--compilation aborted at (eval 1009) line 2.
# No tests run!
# Looks like your test exited with 2 before it could output anything.
dubious
	Test returned status 2 (wstat 512, 0x200)
DIED. FAILED tests 1-3
	Failed 3/3 tests, 0.00% okay
t/05-atom10-link..............ok
t/06-atom10...................ok
t/07-atom10-create............ok
t/08-convert-summary-bug......ok
t/09-missing-content-bug......Can't locate XML/Parser.pm in @INC (@INC contains: /usr/home/tom/.cpanplus/5.10.1/build/XML-Feed-0.43/blib/lib /usr/home/tom/.cpanplus/5.10.1/build/XML-Feed-0.43/blib/arch /home/tom/perl5/lib/perl5/amd64-freebsd /home/tom/perl5/lib/perl5/amd64-freebsd /home/tom/perl5/lib/perl5 /home/tom/.cpanplus/5.10.1/build/XML-Feed-0.43/blib/lib /home/tom/.cpanplus/5.10.1/build/XML-Feed-0.43/blib/arch /home/tom/.cpanplus/5.10.1/build/XML-Feed-0.43/blib /usr/local/lib/perl5/5.10.1/BSDPAN /usr/local/lib/perl5/site_perl/5.10.1/mach /usr/local/lib/perl5/site_perl/5.10.1 /usr/local/lib/perl5/5.10.1/mach /usr/local/lib/perl5/5.10.1 . /usr/local/lib/perl5/5.10.1/BSDPAN /usr/local/lib/perl5/site_perl/5.10.1/mach /usr/local/lib/perl5/site_perl/5.10.1 /usr/local/lib/perl5/5.10.1/mach /usr/local/lib/perl5/5.10.1 .) at /home/tom/perl5/lib/perl5/XML/RSS.pm line 7.
BEGIN failed--compilation aborted at /home/tom/perl5/lib/perl5/XML/RSS.pm line 7.
Compilation failed in require at (eval 1011) line 2.
BEGIN failed--compilation aborted at (eval 1011) line 2.
# 13 tests planned, but 1 ran.
# Looks like your test exited with 2 just after 1.
dubious
	Test returned status 2 (wstat 512, 0x200)
DIED. FAILED tests 2-13
	Failed 12/13 tests, 7.69% okay
t/10-mix-and-match............Can't locate XML/Parser.pm in @INC (@INC contains: /usr/home/tom/.cpanplus/5.10.1/build/XML-Feed-0.43/blib/lib /usr/home/tom/.cpanplus/5.10.1/build/XML-Feed-0.43/blib/arch /home/tom/perl5/lib/perl5/amd64-freebsd /home/tom/perl5/lib/perl5/amd64-freebsd /home/tom/perl5/lib/perl5 /home/tom/.cpanplus/5.10.1/build/XML-Feed-0.43/blib/lib /home/tom/.cpanplus/5.10.1/build/XML-Feed-0.43/blib/arch /home/tom/.cpanplus/5.10.1/build/XML-Feed-0.43/blib /usr/local/lib/perl5/5.10.1/BSDPAN /usr/local/lib/perl5/site_perl/5.10.1/mach /usr/local/lib/perl5/site_perl/5.10.1 /usr/local/lib/perl5/5.10.1/mach /usr/local/lib/perl5/5.10.1 . /usr/local/lib/perl5/5.10.1/BSDPAN /usr/local/lib/perl5/site_perl/5.10.1/mach /usr/local/lib/perl5/site_perl/5.10.1 /usr/local/lib/perl5/5.10.1/mach /usr/local/lib/perl5/5.10.1 .) at /home/tom/perl5/lib/perl5/XML/RSS.pm line 7.
BEGIN failed--compilation aborted at /home/tom/perl5/lib/perl5/XML/RSS.pm line 7.
Compilation failed in require at (eval 1010) line 2.
BEGIN failed--compilation aborted at (eval 1010) line 2.
# No tests run!
# Looks like your test exited with 2 before it could output anything.
dubious
	Test returned status 2 (wstat 512, 0x200)
DIED. FAILED tests 1-6
	Failed 6/6 tests, 0.00% okay
t/11-xml-base-atom............ok
t/11-xml-base-rss.............Can't locate XML/Parser.pm in @INC (@INC contains: /usr/home/tom/.cpanplus/5.10.1/build/XML-Feed-0.43/blib/lib /usr/home/tom/.cpanplus/5.10.1/build/XML-Feed-0.43/blib/arch /home/tom/perl5/lib/perl5/amd64-freebsd /home/tom/perl5/lib/perl5/amd64-freebsd /home/tom/perl5/lib/perl5 /home/tom/.cpanplus/5.10.1/build/XML-Feed-0.43/blib/lib /home/tom/.cpanplus/5.10.1/build/XML-Feed-0.43/blib/arch /home/tom/.cpanplus/5.10.1/build/XML-Feed-0.43/blib /usr/local/lib/perl5/5.10.1/BSDPAN /usr/local/lib/perl5/site_perl/5.10.1/mach /usr/local/lib/perl5/site_perl/5.10.1 /usr/local/lib/perl5/5.10.1/mach /usr/local/lib/perl5/5.10.1 . /usr/local/lib/perl5/5.10.1/BSDPAN /usr/local/lib/perl5/site_perl/5.10.1/mach /usr/local/lib/perl5/site_perl/5.10.1 /usr/local/lib/perl5/5.10.1/mach /usr/local/lib/perl5/5.10.1 .) at /home/tom/perl5/lib/perl5/XML/RSS.pm line 7.
BEGIN failed--compilation aborted at /home/tom/perl5/lib/perl5/XML/RSS.pm line 7.
Compilation failed in require at t/11-xml-base-rss.t line 6.
BEGIN failed--compilation aborted at t/11-xml-base-rss.t line 6.
dubious
	Test returned status 2 (wstat 512, 0x200)
t/12-multi-categories-atom....ok
t/12-multi-categories-rss.....Can't locate XML/Parser.pm in @INC (@INC contains: /usr/home/tom/.cpanplus/5.10.1/build/XML-Feed-0.43/blib/lib /usr/home/tom/.cpanplus/5.10.1/build/XML-Feed-0.43/blib/arch /home/tom/perl5/lib/perl5/amd64-freebsd /home/tom/perl5/lib/perl5/amd64-freebsd /home/tom/perl5/lib/perl5 /home/tom/.cpanplus/5.10.1/build/XML-Feed-0.43/blib/lib /home/tom/.cpanplus/5.10.1/build/XML-Feed-0.43/blib/arch /home/tom/.cpanplus/5.10.1/build/XML-Feed-0.43/blib /usr/local/lib/perl5/5.10.1/BSDPAN /usr/local/lib/perl5/site_perl/5.10.1/mach /usr/local/lib/perl5/site_perl/5.10.1 /usr/local/lib/perl5/5.10.1/mach /usr/local/lib/perl5/5.10.1 . /usr/local/lib/perl5/5.10.1/BSDPAN /usr/local/lib/perl5/site_perl/5.10.1/mach /usr/local/lib/perl5/site_perl/5.10.1 /usr/local/lib/perl5/5.10.1/mach /usr/local/lib/perl5/5.10.1 .) at /home/tom/perl5/lib/perl5/XML/RSS.pm line 7.
BEGIN failed--compilation aborted at /home/tom/perl5/lib/perl5/XML/RSS.pm line 7.
Compilation failed in require at (eval 1009) line 2.
BEGIN failed--compilation aborted at (eval 1009) line 2.
Compilation failed in require at t/12-multi-categories-rss.t line 6.
# No tests run!
# Looks like your test exited with 2 before it could output anything.
dubious
	Test returned status 2 (wstat 512, 0x200)
DIED. FAILED tests 1-6
	Failed 6/6 tests, 0.00% okay
t/12-multi-subjects-rss.......Can't locate XML/Parser.pm in @INC (@INC contains: /usr/home/tom/.cpanplus/5.10.1/build/XML-Feed-0.43/blib/lib /usr/home/tom/.cpanplus/5.10.1/build/XML-Feed-0.43/blib/arch /home/tom/perl5/lib/perl5/amd64-freebsd /home/tom/perl5/lib/perl5/amd64-freebsd /home/tom/perl5/lib/perl5 /home/tom/.cpanplus/5.10.1/build/XML-Feed-0.43/blib/lib /home/tom/.cpanplus/5.10.1/build/XML-Feed-0.43/blib/arch /home/tom/.cpanplus/5.10.1/build/XML-Feed-0.43/blib /usr/local/lib/perl5/5.10.1/BSDPAN /usr/local/lib/perl5/site_perl/5.10.1/mach /usr/local/lib/perl5/site_perl/5.10.1 /usr/local/lib/perl5/5.10.1/mach /usr/local/lib/perl5/5.10.1 . /usr/local/lib/perl5/5.10.1/BSDPAN /usr/local/lib/perl5/site_perl/5.10.1/mach /usr/local/lib/perl5/site_perl/5.10.1 /usr/local/lib/perl5/5.10.1/mach /usr/local/lib/perl5/5.10.1 .) at /home/tom/perl5/lib/perl5/XML/RSS.pm line 7.
BEGIN failed--compilation aborted at /home/tom/perl5/lib/perl5/XML/RSS.pm line 7.
Compilation failed in require at (eval 1009) line 2.
BEGIN failed--compilation aborted at (eval 1009) line 2.
Compilation failed in require at t/12-multi-subjects-rss.t line 6.
# No tests run!
# Looks like your test exited with 2 before it could output anything.
dubious
	Test returned status 2 (wstat 512, 0x200)
DIED. FAILED tests 1-6
	Failed 6/6 tests, 0.00% okay
t/13-category-hash-bug........Can't locate XML/Parser.pm in @INC (@INC contains: /usr/home/tom/.cpanplus/5.10.1/build/XML-Feed-0.43/blib/lib /usr/home/tom/.cpanplus/5.10.1/build/XML-Feed-0.43/blib/arch /home/tom/perl5/lib/perl5/amd64-freebsd /home/tom/perl5/lib/perl5/amd64-freebsd /home/tom/perl5/lib/perl5 /home/tom/.cpanplus/5.10.1/build/XML-Feed-0.43/blib/lib /home/tom/.cpanplus/5.10.1/build/XML-Feed-0.43/blib/arch /home/tom/.cpanplus/5.10.1/build/XML-Feed-0.43/blib /usr/local/lib/perl5/5.10.1/BSDPAN /usr/local/lib/perl5/site_perl/5.10.1/mach /usr/local/lib/perl5/site_perl/5.10.1 /usr/local/lib/perl5/5.10.1/mach /usr/local/lib/perl5/5.10.1 . /usr/local/lib/perl5/5.10.1/BSDPAN /usr/local/lib/perl5/site_perl/5.10.1/mach /usr/local/lib/perl5/site_perl/5.10.1 /usr/local/lib/perl5/5.10.1/mach /usr/local/lib/perl5/5.10.1 .) at /home/tom/perl5/lib/perl5/XML/RSS.pm line 7.
BEGIN failed--compilation aborted at /home/tom/perl5/lib/perl5/XML/RSS.pm line 7.
Compilation failed in require at (eval 1011) line 2.
BEGIN failed--compilation aborted at (eval 1011) line 2.
# No tests run!
# Looks like your test exited with 2 before it could output anything.
dubious
	Test returned status 2 (wstat 512, 0x200)
DIED. FAILED tests 1-20
	Failed 20/20 tests, 0.00% okay
t/14-enclosures...............Can't locate XML/Parser.pm in @INC (@INC contains: /usr/home/tom/.cpanplus/5.10.1/build/XML-Feed-0.43/blib/lib /usr/home/tom/.cpanplus/5.10.1/build/XML-Feed-0.43/blib/arch /home/tom/perl5/lib/perl5/amd64-freebsd /home/tom/perl5/lib/perl5/amd64-freebsd /home/tom/perl5/lib/perl5 /home/tom/.cpanplus/5.10.1/build/XML-Feed-0.43/blib/lib /home/tom/.cpanplus/5.10.1/build/XML-Feed-0.43/blib/arch /home/tom/.cpanplus/5.10.1/build/XML-Feed-0.43/blib /usr/local/lib/perl5/5.10.1/BSDPAN /usr/local/lib/perl5/site_perl/5.10.1/mach /usr/local/lib/perl5/site_perl/5.10.1 /usr/local/lib/perl5/5.10.1/mach /usr/local/lib/perl5/5.10.1 . /usr/local/lib/perl5/5.10.1/BSDPAN /usr/local/lib/perl5/site_perl/5.10.1/mach /usr/local/lib/perl5/site_perl/5.10.1 /usr/local/lib/perl5/5.10.1/mach /usr/local/lib/perl5/5.10.1 .) at /home/tom/perl5/lib/perl5/XML/RSS.pm line 7.
BEGIN failed--compilation aborted at /home/tom/perl5/lib/perl5/XML/RSS.pm line 7.
Compilation failed in require at (eval 1022) line 2.
BEGIN failed--compilation aborted at (eval 1022) line 2.
# 44 tests planned, but 22 ran.
# Looks like your test exited with 2 just after 22.
dubious
	Test returned status 2 (wstat 512, 0x200)
DIED. FAILED tests 23-44
	Failed 22/44 tests, 50.00% okay
t/14-multi-enclosures.........Can't locate XML/Parser.pm in @INC (@INC contains: /usr/home/tom/.cpanplus/5.10.1/build/XML-Feed-0.43/blib/lib /usr/home/tom/.cpanplus/5.10.1/build/XML-Feed-0.43/blib/arch /home/tom/perl5/lib/perl5/amd64-freebsd /home/tom/perl5/lib/perl5/amd64-freebsd /home/tom/perl5/lib/perl5 /home/tom/.cpanplus/5.10.1/build/XML-Feed-0.43/blib/lib /home/tom/.cpanplus/5.10.1/build/XML-Feed-0.43/blib/arch /home/tom/.cpanplus/5.10.1/build/XML-Feed-0.43/blib /usr/local/lib/perl5/5.10.1/BSDPAN /usr/local/lib/perl5/site_perl/5.10.1/mach /usr/local/lib/perl5/site_perl/5.10.1 /usr/local/lib/perl5/5.10.1/mach /usr/local/lib/perl5/5.10.1 . /usr/local/lib/perl5/5.10.1/BSDPAN /usr/local/lib/perl5/site_perl/5.10.1/mach /usr/local/lib/perl5/site_perl/5.10.1 /usr/local/lib/perl5/5.10.1/mach /usr/local/lib/perl5/5.10.1 .) at /home/tom/perl5/lib/perl5/XML/RSS.pm line 7.
BEGIN failed--compilation aborted at /home/tom/perl5/lib/perl5/XML/RSS.pm line 7.
Compilation failed in require at (eval 1034) line 2.
BEGIN failed--compilation aborted at (eval 1034) line 2.
# 76 tests planned, but 38 ran.
# Looks like your test exited with 2 just after 38.
dubious
	Test returned status 2 (wstat 512, 0x200)
DIED. FAILED tests 39-76
	Failed 38/76 tests, 50.00% okay
t/pod-coverage................ok
t/pod.........................ok
Failed Test                 Stat Wstat Total Fail  List of Failed
-------------------------------------------------------------------------------
t/01-parse.t                   2   512    75   92  30-75
t/02-create.t                  2   512    72   72  37-72
t/04-splice-atom.t             2   512     3    2  3
t/04-splice-rss.t              2   512     3    6  1-3
t/09-missing-content-bug.t     2   512    13   24  2-13
t/10-mix-and-match.t           2   512     6   12  1-6
t/11-xml-base-rss.t            2   512    ??   ??  ??
t/12-multi-categories-rss.t    2   512     6   12  1-6
t/12-multi-subjects-rss.t      2   512     6   12  1-6
t/13-category-hash-bug.t       2   512    20   40  1-20
t/14-enclosures.t              2   512    44   44  23-44
t/14-multi-enclosures.t        2   512    76   76  39-76
Failed 12/21 test scripts. 196/385 subtests failed.
Files=21, Tests=385,  6 wallclock secs ( 5.15 cusr +  0.80 csys =  5.95 CPU)
Failed 12/21 test programs. 196/385 subtests failed.
*** Error code 255

Stop in /usr/home/tom/.cpanplus/5.10.1/build/XML-Feed-0.43.


[ERROR] Unable to create a new distribution object for 'XML::Feed' -- cannot continue

Key 'ok' () is of invalid type for 'CPANPLUS::Backend::RV::new' provided by CPANPLUS::Backend::__ANON__ at /home/tom/perl5/lib/perl5/CPANPLUS/Backend.pm line 395
*** XML::Feed installation cancelled.
*** Installing XML::Feed...
*** XML::Feed successfully installed.
*** Installing XML::OPML...
==> MISSING Signature file! <==
Running [/usr/local/bin/perl /usr/local/bin/cpanp-run-perl /home/tom/.cpanplus/5.10.1/build/XML-OPML-0.26/Makefile.PL ]...
Warning: prerequisite XML::Parser 0 not found.
Warning: prerequisite XML::SimpleObject 0 not found.
Writing Makefile for XML::OPML
==> MISSING Signature file! <==
Running [/usr/local/bin/perl /usr/local/bin/cpanp-run-perl /home/tom/.cpanplus/5.10.1/build/XML-Parser-2.40/Makefile.PL ]...

Expat must be installed prior to building XML::Parser and I can't find
it in the standard library directories. Install 'expat-devel' package with your
OS package manager.

Or you can download expat from:

http://sourceforge.net/projects/expat/

If expat is installed, but in a non-standard directory, then use the
following options to Makefile.PL:

    EXPATLIBPATH=...  To set the directory in which to find libexpat

    EXPATINCPATH=...  To set the directory in which to find expat.h

For example:

    perl Makefile.PL EXPATLIBPATH=/home/me/lib EXPATINCPATH=/home/me/include

Note that if you build against a shareable library in a non-standard location
you may (on some platforms) also have to set your LD_LIBRARY_PATH environment
variable at run time for perl to find the library.

Writing Makefile for XML::Parser::Expat
Writing Makefile for XML::Parser
Running [/usr/bin/make test]...
PERL_DL_NONLAZY=1 /usr/local/bin/perl "-MExtUtils::Command::MM" "-e" "test_harness(0, 'blib/lib', 'blib/arch')" t/*.t
t/astress.........ok
t/cdata...........ok
t/decl............
syntax error at line 14, column 3, byte 214:
%ext;

<![%bar;[
==^
<!ATTLIST bar xyz (a|b|c) 'b'>
]]>

error in processing external entity reference at line 21, column 3, byte 3161:
   <!ELEMENT bar ANY>
   <!ATTLIST bar big CDATA 'This is a large string value to test whether the declaration parser still works when the entity or attribute default value may be broken into multiple calls to the default handler. 01234567890123456789012345678901234567890123456789012345678901234567890123456789 01234567890123456789012345678901234567890123456789012345678901234567890123456789 01234567890123456789012345678901234567890123456789012345678901234567890123456789 01234567890123456789012345678901234567890123456789012345678901234567890123456789 01234567890123456789012345678901234567890123456789012345678901234567890123456789 01234567890123456789012345678901234567890123456789012345678901234567890123456789 01234567890123456789012345678901234567890123456789012345678901234567890123456789 01234567890123456789012345678901234567890123456789012345678901234567890123456789 01234567890123456789012345678901234567890123456789012345678901234567890123456789 01234567890123456789012345678901234567890123456789012345678901234567890123456789 01234567890123456789012345678901234567890123456789012345678901234567890123456789 01234567890123456789012345678901234567890123456789012345678901234567890123456789 01234567890123456789012345678901234567890123456789012345678901234567890123456789 '>
  ]>
==^
<foo/>
 at /usr/home/tom/.cpanplus/5.10.1/build/XML-Parser-2.40/blib/lib/XML/Parser.pm line 187
dubious
	Test returned status 9 (wstat 2304, 0x900)
DIED. FAILED tests 2-30
	Failed 29/30 tests, 3.33% okay
t/defaulted.......ok
t/encoding........ok
t/external_ent....ok
t/file............ok
t/finish..........ok
t/namespaces......ok
t/parament........
error in processing external entity reference at line 8, column 0, byte 173:
  <!ENTITY more SYSTEM "t/ext2.ent">
]
>
^
<foo>Happy, happy
<bar>&joy;, &joy;</bar>
 at /usr/home/tom/.cpanplus/5.10.1/build/XML-Parser-2.40/blib/lib/XML/Parser.pm line 187
dubious
	Test returned status 255 (wstat 65280, 0xff00)
DIED. FAILED tests 2-12
	Failed 11/12 tests, 8.33% okay
t/partial.........ok
t/skip............ok
t/stream..........ok
t/styles..........ok
Failed Test  Stat Wstat Total Fail  List of Failed
-------------------------------------------------------------------------------
t/decl.t        9  2304    30   58  2-30
t/parament.t  255 65280    12   22  2-12
Failed 2/14 test scripts. 40/130 subtests failed.
Files=14, Tests=130,  1 wallclock secs ( 0.53 cusr +  0.20 csys =  0.73 CPU)
Failed 2/14 test programs. 40/130 subtests failed.
*** Error code 255

Stop in /usr/home/tom/.cpanplus/5.10.1/build/XML-Parser-2.40.
[ERROR] MAKE TEST failed: Bad file descriptor PERL_DL_NONLAZY=1 /usr/local/bin/perl "-MExtUtils::Command::MM" "-e" "test_harness(0, 'blib/lib', 'blib/arch')" t/*.t
t/astress.........ok
t/cdata...........ok
t/decl............
syntax error at line 14, column 3, byte 214:
%ext;

<![%bar;[
==^
<!ATTLIST bar xyz (a|b|c) 'b'>
]]>

error in processing external entity reference at line 21, column 3, byte 3161:
   <!ELEMENT bar ANY>
   <!ATTLIST bar big CDATA 'This is a large string value to test whether the declaration parser still works when the entity or attribute default value may be broken into multiple calls to the default handler. 01234567890123456789012345678901234567890123456789012345678901234567890123456789 01234567890123456789012345678901234567890123456789012345678901234567890123456789 01234567890123456789012345678901234567890123456789012345678901234567890123456789 01234567890123456789012345678901234567890123456789012345678901234567890123456789 01234567890123456789012345678901234567890123456789012345678901234567890123456789 01234567890123456789012345678901234567890123456789012345678901234567890123456789 01234567890123456789012345678901234567890123456789012345678901234567890123456789 01234567890123456789012345678901234567890123456789012345678901234567890123456789 01234567890123456789012345678901234567890123456789012345678901234567890123456789 01234567890123456789012345678901234567890123456789012345678901234567890123456789 01234567890123456789012345678901234567890123456789012345678901234567890123456789 01234567890123456789012345678901234567890123456789012345678901234567890123456789 01234567890123456789012345678901234567890123456789012345678901234567890123456789 '>
  ]>
==^
<foo/>
 at /usr/home/tom/.cpanplus/5.10.1/build/XML-Parser-2.40/blib/lib/XML/Parser.pm line 187
dubious
	Test returned status 9 (wstat 2304, 0x900)
DIED. FAILED tests 2-30
	Failed 29/30 tests, 3.33% okay
t/defaulted.......ok
t/encoding........ok
t/external_ent....ok
t/file............ok
t/finish..........ok
t/namespaces......ok
t/parament........
error in processing external entity reference at line 8, column 0, byte 173:
  <!ENTITY more SYSTEM "t/ext2.ent">
]
>
^
<foo>Happy, happy
<bar>&joy;, &joy;</bar>
 at /usr/home/tom/.cpanplus/5.10.1/build/XML-Parser-2.40/blib/lib/XML/Parser.pm line 187
dubious
	Test returned status 255 (wstat 65280, 0xff00)
DIED. FAILED tests 2-12
	Failed 11/12 tests, 8.33% okay
t/partial.........ok
t/skip............ok
t/stream..........ok
t/styles..........ok
Failed Test  Stat Wstat Total Fail  List of Failed
-------------------------------------------------------------------------------
t/decl.t        9  2304    30   58  2-30
t/parament.t  255 65280    12   22  2-12
Failed 2/14 test scripts. 40/130 subtests failed.
Files=14, Tests=130,  1 wallclock secs ( 0.53 cusr +  0.20 csys =  0.73 CPU)
Failed 2/14 test programs. 40/130 subtests failed.
*** Error code 255

Stop in /usr/home/tom/.cpanplus/5.10.1/build/XML-Parser-2.40.


[ERROR] Unable to create a new distribution object for 'XML::Parser' -- cannot continue

[ERROR] Failed to install 'XML::Parser' as prerequisite for 'XML::OPML'

[ERROR] Unable to satisfy prerequisites for 'XML::OPML' -- aborting install

[ERROR] Unable to create a new distribution object for 'XML::OPML' -- cannot continue

Key 'ok' () is of invalid type for 'CPANPLUS::Backend::RV::new' provided by CPANPLUS::Backend::__ANON__ at /home/tom/perl5/lib/perl5/CPANPLUS/Backend.pm line 395
*** XML::OPML installation cancelled.
*** Module::AutoInstall installation finished.
PERL_DL_NONLAZY=1 /usr/local/bin/perl "-MExtUtils::Command::MM" "-e" "test_harness(0, 'inc', 'blib/lib', 'blib/arch')" t/*.t t/*/*.t t/*/*/*.t
t/00_compile....ok
All tests successful.
Files=1, Tests=1,  0 wallclock secs ( 0.15 cusr +  0.05 csys =  0.20 CPU)

------------------------------
PREREQUISITES
------------------------------

Prerequisite modules loaded:

requires:

    Module                       Need  Have   
    ---------------------------- ----- -------
    Cache::Cache                 1.04  1.06   
    Class::Accessor::Fast        0     0.34   
    Date::Parse                  0     2.30   
    DateTime                     0.29  0.66   
    DateTime::Format::Mail       0     0.3001 
    DateTime::Format::Strptime   0     1.5000 
    DateTime::Format::W3CDTF     0     0.06   
    Digest::MD5                  0     2.51   
    Encode                       2.1   2.23   
    File::Find::Rule             0     0.32   
    File::HomeDir                0     0.97   
    HTML::Parser                 3.51  3.68   
    HTML::ResolveLink            0     0.05   
    LWP                          0     6.01   
    MIME::Types                  1.16  1.31   
    Module::Pluggable::Fast      0     0.19   
    Net::DNS                     0     0.66   
    Template                     2.13  2.22   
    Template::Provider::Encoding 0.04  0.10   
    Term::Encoding               0     0.02   
    Test::Base                   0.52  0.59   
    Test::More                   0.42  2.00_07
    Text::Tags                   0     0.04   
    UNIVERSAL::require           0.1   0.13   
    URI::Fetch                   0.071 0.09   
    XML::Atom                    0.19  0.37   
  ! XML::Feed                    0.11  n/a    
    XML::LibXML                  0     1.70   
    XML::RSS::LibXML             0.2   0.3100 
    YAML                         0.39  0.72   


------------------------------
ENVIRONMENT AND OTHER CONTEXT
------------------------------

Environment variables:

    AUTOMATED_TESTING = 1
    LD_LIBRARY_PATH = /home/tom/local/lib:
    PATH = /home/tom/perl5/bin:/home/tom/etc/cpan/bin:/home/tom/local/bin:/sbin:/bin:/usr/sbin:/usr/bin:/usr/games:/usr/local/sbin:/usr/local/bin:/home/tom/bin
    PERL5LIB = /home/tom/perl5/lib/perl5/amd64-freebsd:/home/tom/perl5/lib/perl5
    PERL5OPT = 
    PERL5_CPANPLUS_IS_RUNNING = 76504
    PERL5_CPAN_IS_RUNNING = 76504
    PERL5_CPAN_IS_RUNNING_IN_RECURSION = 55373,76504
    PERL_CR_SMOKER_CURRENT = Plagger-0.7.7
    PERL_EXTUTILS_AUTOINSTALL = --defaultdeps
    PERL_LOCAL_LIB_ROOT = /home/tom/perl5
    PERL_MB_OPT = --install_base /home/tom/perl5
    PERL_MM_OPT = INSTALL_BASE=/home/tom/perl5
    PERL_MM_USE_DEFAULT = 1
    SHELL = /usr/local/bin/bash
    TERM = xterm

Perl special variables (and OS-specific diagnostics, for MSWin32):

    $^X = /usr/local/bin/perl
    $UID/$EUID = 1001 / 1001
    $GID = 1001 1001 0 5
    $EGID = 1001 1001 0 5

Perl module toolchain versions installed:

    Module              Have    
    ------------------- --------
    CPAN                1.9600  
    Cwd                 3.33    
    ExtUtils::CBuilder  0.280202
    ExtUtils::Command   1.17    
    ExtUtils::Install   1.54    
    ExtUtils::MakeMaker 6.56    
    ExtUtils::Manifest  1.58    
    ExtUtils::ParseXS   2.2206  
    File::Spec          3.33    
    Module::Build       0.3800  
    Module::Signature   0.66    
    Test::Harness       2.64    
    Test::More          2.00_07 
    YAML                0.72    
    YAML::Syck          1.17    
    version             0.88    


--

Summary of my perl5 (revision 5 version 10 subversion 1) configuration:
   
  Platform:
    osname=freebsd, osvers=8.0-release-p2, archname=amd64-freebsd
    uname='freebsd freebsd.org 8.0-release-p2 freebsd 8.0-release-p2 #0: mon nov 8 01:52:51 pst 2010 kris@freebsd.org:usrsrcsysmagickernelpath amd64 '
    config_args='-sde -Dprefix=/usr/local -Darchlib=/usr/local/lib/perl5/5.10.1/mach -Dprivlib=/usr/local/lib/perl5/5.10.1 -Dman3dir=/usr/local/lib/perl5/5.10.1/perl/man/man3 -Dman1dir=/usr/local/man/man1 -Dsitearch=/usr/local/lib/perl5/site_perl/5.10.1/mach -Dsitelib=/usr/local/lib/perl5/site_perl/5.10.1 -Dscriptdir=/usr/local/bin -Dsiteman3dir=/usr/local/lib/perl5/5.10.1/man/man3 -Dsiteman1dir=/usr/local/man/man1 -Ui_malloc -Ui_iconv -Uinstallusrbinperl -Dcc=cc -Duseshrplib -Dinc_version_list=none -Dccflags=-DAPPLLIB_EXP="/usr/local/lib/perl5/5.10.1/BSDPAN" -Doptimize=-O2 -pipe -fno-strict-aliasing -Ud_dosuid -Ui_gdbm -Dusethreads=n -Dusemymalloc=n -Duse64bitint'
    hint=recommended, useposix=true, d_sigaction=define
    useithreads=undef, usemultiplicity=undef
    useperlio=define, d_sfio=undef, uselargefiles=define, usesocks=undef
    use64bitint=define, use64bitall=define, uselongdouble=undef
    usemymalloc=n, bincompat5005=undef
  Compiler:
    cc='cc', ccflags ='-DAPPLLIB_EXP="/usr/local/lib/perl5/5.10.1/BSDPAN" -DHAS_FPSETMASK -DHAS_FLOATINGPOINT_H -fno-strict-aliasing -pipe -fstack-protector -I/usr/local/include',
    optimize='-O2 -pipe -fno-strict-aliasing',
    cppflags='-DAPPLLIB_EXP="/usr/local/lib/perl5/5.10.1/BSDPAN" -DHAS_FPSETMASK -DHAS_FLOATINGPOINT_H -fno-strict-aliasing -pipe -fstack-protector -I/usr/local/include'
    ccversion='', gccversion='4.2.1 20070719  [FreeBSD]', gccosandvers=''
    intsize=4, longsize=8, ptrsize=8, doublesize=8, byteorder=12345678
    d_longlong=define, longlongsize=8, d_longdbl=define, longdblsize=16
    ivtype='long', ivsize=8, nvtype='double', nvsize=8, Off_t='off_t', lseeksize=8
    alignbytes=8, prototype=define
  Linker and Libraries:
    ld='cc', ldflags =' -Wl,-E  -fstack-protector -L/usr/local/lib'
    libpth=/usr/lib /usr/local/lib
    libs=-lm -lcrypt -lutil
    perllibs=-lm -lcrypt -lutil
    libc=, so=so, useshrplib=true, libperl=libperl.so
    gnulibc_version=''
  Dynamic Linking:
    dlsrc=dl_dlopen.xs, dlext=so, d_dlsymun=undef, ccdlflags='  -Wl,-R/usr/local/lib/perl5/5.10.1/mach/CORE'
    cccdlflags='-DPIC -fPIC', lddlflags='-shared  -L/usr/local/lib -fstack-protector'


Characteristics of this binary (from libperl): 
  Compile-time options: PERL_DONT_CREATE_GVSV PERL_MALLOC_WRAP USE_64_BIT_ALL
                        USE_64_BIT_INT USE_LARGE_FILES USE_PERLIO
  Built under freebsd
  Compiled at Nov  8 2010 09:55:01
  %ENV:
    PERL5LIB="/home/tom/perl5/lib/perl5/amd64-freebsd:/home/tom/perl5/lib/perl5"
    PERL5OPT=""
    PERL5_CPANPLUS_IS_RUNNING="76504"
    PERL5_CPAN_IS_RUNNING="76504"
    PERL5_CPAN_IS_RUNNING_IN_RECURSION="55373,76504"
    PERL_CR_SMOKER_CURRENT="Plagger-0.7.7"
    PERL_EXTUTILS_AUTOINSTALL="--defaultdeps"
    PERL_LOCAL_LIB_ROOT="/home/tom/perl5"
    PERL_MB_OPT="--install_base /home/tom/perl5"
    PERL_MM_OPT="INSTALL_BASE=/home/tom/perl5"
    PERL_MM_USE_DEFAULT="1"
  @INC:
    /home/tom/perl5/lib/perl5/amd64-freebsd
    /home/tom/perl5/lib/perl5/amd64-freebsd
    /home/tom/perl5/lib/perl5
    /usr/local/lib/perl5/5.10.1/BSDPAN
    /usr/local/lib/perl5/site_perl/5.10.1/mach
    /usr/local/lib/perl5/site_perl/5.10.1
    /usr/local/lib/perl5/5.10.1/mach
    /usr/local/lib/perl5/5.10.1
    .