Report for Rex-Repositorio-1.0.0

Back
From: metabase:user:00e8548a-0e72-11e3-8ee3-df0a9c418065
Subject: PASS Rex-Repositorio-1.0.0 v5.10.1 GNU/Linux
Date: 2015-04-11T00:50:32Z

This distribution has been tested as part of the CPAN Testers
project, supporting the Perl programming language.  See
http://wiki.cpantesters.org/ for more information or email
questions to cpan-testers-discuss@perl.org


--
Dear Jan Gehring,

This is a computer-generated report for Rex-Repositorio-1.0.0
on perl 5.10.1, created by CPAN-Reporter-1.2014.

Thank you for uploading your work to CPAN.  Congratulations!
All tests were successful.

Sections of this report:

    * Tester comments
    * Program output
    * Prerequisites
    * Environment and other context

------------------------------
TESTER COMMENTS
------------------------------

Additional comments from tester:

this report is from an automated smoke testing program
and was not reviewed by a human for accuracy

------------------------------
PROGRAM OUTPUT
------------------------------

Output from '/usr/bin/make test':

PERL_DL_NONLAZY=1 "/usr/bin/perl" "-MExtUtils::Command::MM" "-MTest::Harness" "-e" "undef *Test::Harness::Switches; test_harness(0, 'blib/lib', 'blib/arch')" t/*.t
t/author-critic.t ....... skipped: these tests are for testing by the author
t/base.t ................ ok
t/release-pod-syntax.t .. skipped: these tests are for release candidate testing
All tests successful.
Files=3, Tests=6,  1 wallclock secs ( 0.02 usr  0.01 sys +  0.32 cusr  0.04 csys =  0.39 CPU)
Result: PASS

------------------------------
PREREQUISITES
------------------------------

Prerequisite modules loaded:

requires:

    Module                Need Have    
    --------------------- ---- --------
    base                  0    2.18    
    Carp                  0    1.36    
    common::sense         0    3.73    
    Compress::Zlib        0    2.068   
    Config::General       0    2.56    
    Data::Dumper          0    2.154   
    Digest::MD5           0    2.54    
    Digest::SHA           0    5.95    
    Encode                0    2.72    
    English               0    1.04    
    File::Basename        0    2.77    
    File::Copy            0    2.14    
    File::Path            0    2.09    
    File::Spec            0    3.47    
    File::Spec::Functions 0    3.47    
    FindBin               0    1.50    
    Getopt::Long          0    2.45    
    IO::All               0    0.86    
    JSON::XS              0    3.01    
    lib                   0    0.63    
    List::MoreUtils       0    0.410   
    Log::Log4perl         0    1.46    
    LWP::UserAgent        0    6.13    
    MIME::Base64          0    3.15    
    Mojo::Base            0    0       
    Mojo::DOM             0    0       
    Mojo::UserAgent       0    0       
    Mojo::Util            0    0       
    Mojolicious::Commands 0    0       
    Mojolicious::Plugin   0    0       
    Moose                 0    2.1403  
    Params::Validate      0    1.18    
    strict                0    1.04    
    Term::ANSIColor       0    4.03    
    Term::ProgressBar     0    2.17    
    Term::ReadKey         0    2.32    
    Try::Tiny             0    0.22    
    warnings              0    1.06    
    XML::LibXML           0    2.0118  
    XML::Simple           0    2.18    

build_requires:

    Module                Need Have    
    --------------------- ---- --------
    ExtUtils::MakeMaker   0    7.04    
    Test::More            0    1.001014

configure_requires:

    Module                Need Have    
    --------------------- ---- --------
    ExtUtils::MakeMaker   0    7.04    


------------------------------
ENVIRONMENT AND OTHER CONTEXT
------------------------------

Environment variables:

    AUTOMATED_TESTING = 1
    LANG = en_US.UTF-8
    PATH = /usr/local/sbin:/usr/local/bin:/sbin:/bin:/usr/sbin:/usr/bin:/root/bin
    PERL5LIB = /root/.cpan/build/Term-ProgressBar-2.17-Y63hgc/blib/arch:/root/.cpan/build/Term-ProgressBar-2.17-Y63hgc/blib/lib:/root/.cpan/build/Class-MethodMaker-2.24-dYQ8Wu/blib/arch:/root/.cpan/build/Class-MethodMaker-2.24-dYQ8Wu/blib/lib:/root/.cpan/build/IO-All-0.86-IpQ8nN/blib/arch:/root/.cpan/build/IO-All-0.86-IpQ8nN/blib/lib:/root/.cpan/build/Mojolicious-6.08-8Eh0R6/blib/arch:/root/.cpan/build/Mojolicious-6.08-8Eh0R6/blib/lib:/root/.cpan/build/IO-Socket-IP-0.37-tDaIgu/blib/arch:/root/.cpan/build/IO-Socket-IP-0.37-tDaIgu/blib/lib:/root/.cpan/build/Config-General-2.56-r7Jk6W/blib/arch:/root/.cpan/build/Config-General-2.56-r7Jk6W/blib/lib:/root/.cpan/build/JSON-XS-3.01-qmcnnB/blib/arch:/root/.cpan/build/JSON-XS-3.01-qmcnnB/blib/lib:/root/.cpan/build/Types-Serialiser-1.0-DF9DWs/blib/arch:/root/.cpan/build/Types-Serialiser-1.0-DF9DWs/blib/lib:/root/.cpan/build/common-sense-3.73-lvO9aZ/blib/arch:/root/.cpan/build/common-sense-3.73-lvO9aZ/blib/lib
    PERL5OPT = 
    PERL5_CPANPLUS_IS_RUNNING = 12562
    PERL5_CPAN_IS_RUNNING = 12562
    PERL5_CPAN_IS_RUNNING_IN_RECURSION = 25592,12562
    PERL_CR_SMOKER_CURRENT = Rex-Repositorio-1.0.0
    PERL_EXTUTILS_AUTOINSTALL = --defaultdeps
    PERL_MM_USE_DEFAULT = 1
    SHELL = /bin/bash
    TERM = linux

Perl special variables (and OS-specific diagnostics, for MSWin32):

    $^X = /usr/bin/perl
    $UID/$EUID = 0 / 0
    $GID = 0 0
    $EGID = 0 0

Perl module toolchain versions installed:

    Module              Have    
    ------------------- --------
    CPAN                2.10    
    CPAN::Meta          2.150001
    Cwd                 3.47    
    ExtUtils::CBuilder  0.280220
    ExtUtils::Command   1.20    
    ExtUtils::Install   2.04    
    ExtUtils::MakeMaker 7.04    
    ExtUtils::Manifest  1.70    
    ExtUtils::ParseXS   3.24    
    File::Spec          3.47    
    JSON                2.61    
    JSON::PP            2.27300 
    Module::Build       0.4211  
    Module::Signature   n/a     
    Parse::CPAN::Meta   1.4414  
    Test::Harness       3.35    
    Test::More          1.001014
    YAML                1.14    
    YAML::Syck          1.29    
    version             0.9912  


--

Summary of my perl5 (revision 5 version 10 subversion 1) configuration:
   
  Platform:
    osname=linux, osvers=2.6.32-220.el6.x86_64, archname=x86_64-linux-thread-multi
    uname='linux c6b8.bsys.dev.centos.org 2.6.32-220.el6.x86_64 #1 smp tue dec 6 19:48:22 gmt 2011 x86_64 x86_64 x86_64 gnulinux '
    config_args='-des -Doptimize=-O2 -g -pipe -Wall -Wp,-D_FORTIFY_SOURCE=2 -fexceptions -fstack-protector --param=ssp-buffer-size=4 -m64 -mtune=generic -DDEBUGGING=-g -Dversion=5.10.1 -Dmyhostname=localhost -Dperladmin=root@localhost -Dcc=gcc -Dcf_by=Red Hat, Inc. -Dprefix=/usr -Dvendorprefix=/usr -Dsiteprefix=/usr/local -Dsitelib=/usr/local/share/perl5 -Dsitearch=/usr/local/lib64/perl5 -Dprivlib=/usr/share/perl5 -Darchlib=/usr/lib64/perl5 -Dvendorlib=/usr/share/perl5/vendor_perl -Dvendorarch=/usr/lib64/perl5/vendor_perl -Dinc_version_list=5.10.0 -Darchname=x86_64-linux-thread-multi -Dlibpth=/usr/local/lib64 /lib64 /usr/lib64 -Duseshrplib -Dusethreads -Duseithreads -Duselargefiles -Dd_dosuid -Dd_semctl_semun -Di_db -Ui_ndbm -Di_gdbm -Di_shadow -Di_syslog -Dman3ext=3pm -Duseperlio -Dinstallusrbinperl=n -Ubincompat5005 -Uversiononly -Dpager=/usr/bin/less -isr -Dd_gethostent_r_proto -Ud_endhostent_r_proto -Ud_sethostent_r_proto -Ud_endprotoent_r_proto -Ud_setprotoent_r_proto -Ud_endservent_r_proto -Ud_setservent_r_proto -Dscriptdir=/usr/bin -Dusesitecustomize'
    hint=recommended, useposix=true, d_sigaction=define
    useithreads=define, usemultiplicity=define
    useperlio=define, d_sfio=undef, uselargefiles=define, usesocks=undef
    use64bitint=define, use64bitall=define, uselongdouble=undef
    usemymalloc=n, bincompat5005=undef
  Compiler:
    cc='gcc', ccflags ='-D_REENTRANT -D_GNU_SOURCE -fno-strict-aliasing -pipe -fstack-protector -I/usr/local/include -D_LARGEFILE_SOURCE -D_FILE_OFFSET_BITS=64',
    optimize='-O2 -g -pipe -Wall -Wp,-D_FORTIFY_SOURCE=2 -fexceptions -fstack-protector --param=ssp-buffer-size=4 -m64 -mtune=generic',
    cppflags='-D_REENTRANT -D_GNU_SOURCE -fno-strict-aliasing -pipe -fstack-protector -I/usr/local/include'
    ccversion='', gccversion='4.4.7 20120313 (Red Hat 4.4.7-11)', gccosandvers=''
    intsize=4, longsize=8, ptrsize=8, doublesize=8, byteorder=12345678
    d_longlong=define, longlongsize=8, d_longdbl=define, longdblsize=16
    ivtype='long', ivsize=8, nvtype='double', nvsize=8, Off_t='off_t', lseeksize=8
    alignbytes=8, prototype=define
  Linker and Libraries:
    ld='gcc', ldflags =' -fstack-protector'
    libpth=/usr/local/lib64 /lib64 /usr/lib64
    libs=-lresolv -lnsl -lgdbm -ldb -ldl -lm -lcrypt -lutil -lpthread -lc
    perllibs=-lresolv -lnsl -ldl -lm -lcrypt -lutil -lpthread -lc
    libc=, so=so, useshrplib=true, libperl=libperl.so
    gnulibc_version='2.12'
  Dynamic Linking:
    dlsrc=dl_dlopen.xs, dlext=so, d_dlsymun=undef, ccdlflags='-Wl,-E -Wl,-rpath,/usr/lib64/perl5/CORE'
    cccdlflags='-fPIC', lddlflags='-shared -O2 -g -pipe -Wall -Wp,-D_FORTIFY_SOURCE=2 -fexceptions -fstack-protector --param=ssp-buffer-size=4 -m64 -mtune=generic'


Characteristics of this binary (from libperl): 
  Compile-time options: MULTIPLICITY PERL_DONT_CREATE_GVSV
                        PERL_IMPLICIT_CONTEXT PERL_MALLOC_WRAP USE_64_BIT_ALL
                        USE_64_BIT_INT USE_ITHREADS USE_LARGE_FILES
                        USE_PERLIO USE_REENTRANT_API USE_SITECUSTOMIZE
  Built under linux
  Compiled at Nov 12 2014 09:09:35
  %ENV:
    PERL5LIB="/root/.cpan/build/Term-ProgressBar-2.17-Y63hgc/blib/arch:/root/.cpan/build/Term-ProgressBar-2.17-Y63hgc/blib/lib:/root/.cpan/build/Class-MethodMaker-2.24-dYQ8Wu/blib/arch:/root/.cpan/build/Class-MethodMaker-2.24-dYQ8Wu/blib/lib:/root/.cpan/build/IO-All-0.86-IpQ8nN/blib/arch:/root/.cpan/build/IO-All-0.86-IpQ8nN/blib/lib:/root/.cpan/build/Mojolicious-6.08-8Eh0R6/blib/arch:/root/.cpan/build/Mojolicious-6.08-8Eh0R6/blib/lib:/root/.cpan/build/IO-Socket-IP-0.37-tDaIgu/blib/arch:/root/.cpan/build/IO-Socket-IP-0.37-tDaIgu/blib/lib:/root/.cpan/build/Config-General-2.56-r7Jk6W/blib/arch:/root/.cpan/build/Config-General-2.56-r7Jk6W/blib/lib:/root/.cpan/build/JSON-XS-3.01-qmcnnB/blib/arch:/root/.cpan/build/JSON-XS-3.01-qmcnnB/blib/lib:/root/.cpan/build/Types-Serialiser-1.0-DF9DWs/blib/arch:/root/.cpan/build/Types-Serialiser-1.0-DF9DWs/blib/lib:/root/.cpan/build/common-sense-3.73-lvO9aZ/blib/arch:/root/.cpan/build/common-sense-3.73-lvO9aZ/blib/lib"
    PERL5OPT=""
    PERL5_CPANPLUS_IS_RUNNING="12562"
    PERL5_CPAN_IS_RUNNING="12562"
    PERL5_CPAN_IS_RUNNING_IN_RECURSION="25592,12562"
    PERL_CR_SMOKER_CURRENT="Rex-Repositorio-1.0.0"
    PERL_EXTUTILS_AUTOINSTALL="--defaultdeps"
    PERL_MM_USE_DEFAULT="1"
  @INC:
    /root/.cpan/build/Term-ProgressBar-2.17-Y63hgc/blib/arch
    /root/.cpan/build/Term-ProgressBar-2.17-Y63hgc/blib/lib
    /root/.cpan/build/Class-MethodMaker-2.24-dYQ8Wu/blib/arch
    /root/.cpan/build/Class-MethodMaker-2.24-dYQ8Wu/blib/lib
    /root/.cpan/build/IO-All-0.86-IpQ8nN/blib/arch
    /root/.cpan/build/IO-All-0.86-IpQ8nN/blib/lib
    /root/.cpan/build/Mojolicious-6.08-8Eh0R6/blib/arch
    /root/.cpan/build/Mojolicious-6.08-8Eh0R6/blib/lib
    /root/.cpan/build/IO-Socket-IP-0.37-tDaIgu/blib/arch
    /root/.cpan/build/IO-Socket-IP-0.37-tDaIgu/blib/lib
    /root/.cpan/build/Config-General-2.56-r7Jk6W/blib/arch
    /root/.cpan/build/Config-General-2.56-r7Jk6W/blib/lib
    /root/.cpan/build/JSON-XS-3.01-qmcnnB/blib/arch
    /root/.cpan/build/JSON-XS-3.01-qmcnnB/blib/lib
    /root/.cpan/build/Types-Serialiser-1.0-DF9DWs/blib/arch
    /root/.cpan/build/Types-Serialiser-1.0-DF9DWs/blib/lib
    /root/.cpan/build/common-sense-3.73-lvO9aZ/blib/arch
    /root/.cpan/build/common-sense-3.73-lvO9aZ/blib/lib
    /usr/local/lib64/perl5
    /usr/local/share/perl5
    /usr/lib64/perl5/vendor_perl
    /usr/share/perl5/vendor_perl
    /usr/lib64/perl5
    /usr/share/perl5
    .