Back
From: metabase:user:e7b34f46-36ca-11e0-a826-945c7ca43f85
Subject: PASS X11-WindowHierarchy-0.003 v5.14.2 Windows (Cygwin)
Date: 2012-08-04T23:13:42Z
This distribution has been tested as part of the CPAN Testers
project, supporting the Perl programming language. See
http://wiki.cpantesters.org/ for more information or email
questions to cpan-testers-discuss@perl.org
--
Dear Tom Molesworth,
This is a computer-generated report for X11-WindowHierarchy-0.003
on perl 5.14.2, created by CPAN-Reporter-1.2006.
Thank you for uploading your work to CPAN. Congratulations!
All tests were successful.
Sections of this report:
* Tester comments
* Program output
* Prerequisites
* Environment and other context
------------------------------
TESTER COMMENTS
------------------------------
Additional comments from tester:
none provided
------------------------------
PROGRAM OUTPUT
------------------------------
Output from 'make test':
PERL_DL_NONLAZY=1 /usr/bin/perl.exe "-MExtUtils::Command::MM" "-e" "test_harness(0, 'blib/lib', 'blib/arch')" t/*.t
t/00-compile.t ........................... ok
t/00-pod.t ............................... ok
t/00-use.t ............................... ok
t/author-test-eol.t ...................... skipped: these tests are for testing by the author
t/hierarchy.t ............................ ok
t/release-localbrew-dzil-clean-5.10.1.t .. skipped: these tests are for release candidate testing
t/release-localbrew-dzil-clean-5.12.4.t .. skipped: these tests are for release candidate testing
t/release-localbrew-dzil-clean-5.14.2.t .. skipped: these tests are for release candidate testing
t/release-localbrew-dzil-clean-5.16.0.t .. skipped: these tests are for release candidate testing
t/release-localbrew-dzil-clean-5.8.9.t ... skipped: these tests are for release candidate testing
t/release-mojibake.t ..................... skipped: these tests are for release candidate testing
t/release-pod-coverage.t ................. skipped: these tests are for release candidate testing
t/release-pod-linkcheck.t ................ skipped: these tests are for release candidate testing
t/release-pod-syntax.t ................... skipped: these tests are for release candidate testing
t/release-synopsis.t ..................... skipped: these tests are for release candidate testing
t/release-test-version.t ................. skipped: these tests are for release candidate testing
t/release-unused-vars.t .................. skipped: these tests are for release candidate testing
All tests successful.
Files=17, Tests=9, 1 wallclock secs ( 0.02 usr 0.05 sys + 1.19 cusr 0.52 csys = 1.78 CPU)
Result: PASS
------------------------------
PREREQUISITES
------------------------------
Prerequisite modules loaded:
requires:
Module Need Have
------------------- ---- -----
parent 0 0.225
X11::Protocol 0.56 0.56
build_requires:
Module Need Have
------------------- ---- -----
Test::More 0.98 0.98
configure_requires:
Module Need Have
------------------- ---- -----
ExtUtils::MakeMaker 6.30 6.62
------------------------------
ENVIRONMENT AND OTHER CONTEXT
------------------------------
Environment variables:
COMSPEC = C:\WINDOWS\system32\cmd.exe
LANG = en_US.UTF-8
NUMBER_OF_PROCESSORS = 1
PATH = /usr/local/bin:/usr/bin:/cygdrive/c/WINDOWS/system32:/cygdrive/c/WINDOWS:/cygdrive/c/WINDOWS/System32/Wbem
PERL5LIB =
PERL5OPT =
PERL5_CPANPLUS_IS_RUNNING = 2076
PERL5_CPAN_IS_RUNNING = 2076
PROCESSOR_IDENTIFIER = x86 Family 16 Model 10 Stepping 0, AuthenticAMD
SHELL = /bin/bash
TEMP = /tmp
TERM = xterm
Perl special variables (and OS-specific diagnostics, for MSWin32):
$^X = /usr/bin/perl
$UID/$EUID = 1003 / 1003
$GID = 513 0 544 545 513
$EGID = 513 0 544 545 513
Perl module toolchain versions installed:
Module Have
------------------- ---------
CPAN 1.9600_01
CPAN::Meta 2.120921
Cwd 3.36
ExtUtils::CBuilder 0.280203
ExtUtils::Command 1.17
ExtUtils::Install 1.56
ExtUtils::MakeMaker 6.62
ExtUtils::Manifest 1.58
ExtUtils::ParseXS 2.2210
File::Spec 3.33
JSON 2.53
JSON::PP 2.27200
Module::Build 0.4002
Module::Signature n/a
Parse::CPAN::Meta 1.4404
Test::Harness 3.23
Test::More 0.98
YAML 0.84
YAML::Syck 1.20
version 0.88
--
Summary of my perl5 (revision 5 version 14 subversion 2) configuration:
Platform:
osname=cygwin, osvers=1.7.15(0.26053), archname=cygwin-thread-multi-64int
uname='cygwin_nt-5.1 winxp 1.7.15(0.26053) 2012-05-09 10:25 i686 cygwin '
config_args='-de -Dlibperl=cygperl5_14.dll -Dcc=gcc-4 -Dld=g++-4 -Darchname=i686-cygwin-threads-64int -Dmksymlinks -Dusethreads -Accflags=-g'
hint=recommended, useposix=true, d_sigaction=define
useithreads=define, usemultiplicity=define
useperlio=define, d_sfio=undef, uselargefiles=define, usesocks=undef
use64bitint=define, use64bitall=undef, uselongdouble=undef
usemymalloc=n, bincompat5005=undef
Compiler:
cc='gcc-4', ccflags ='-DPERL_USE_SAFE_PUTENV -U__STRICT_ANSI__ -g -fno-strict-aliasing -pipe -fstack-protector',
optimize='-O3',
cppflags='-DPERL_USE_SAFE_PUTENV -U__STRICT_ANSI__ -g -fno-strict-aliasing -pipe -fstack-protector'
ccversion='', gccversion='4.5.3', gccosandvers=''
intsize=4, longsize=4, ptrsize=4, doublesize=8, byteorder=12345678
d_longlong=define, longlongsize=8, d_longdbl=define, longdblsize=12
ivtype='long long', ivsize=8, nvtype='double', nvsize=8, Off_t='off_t', lseeksize=8
alignbytes=8, prototype=define
Linker and Libraries:
ld='g++-4', ldflags =' -Wl,--enable-auto-import -Wl,--export-all-symbols -Wl,--enable-auto-image-base -fstack-protector -L/usr/local/lib'
libpth=/usr/local/lib /usr/lib /lib
libs=-lgdbm -ldb -ldl -lcrypt -lgdbm_compat
perllibs=-ldl -lcrypt
libc=/usr/lib/libc.a, so=dll, useshrplib=true, libperl=cygperl5_14.dll
gnulibc_version=''
Dynamic Linking:
dlsrc=dl_dlopen.xs, dlext=dll, d_dlsymun=undef, ccdlflags=' '
cccdlflags=' ', lddlflags=' --shared -Wl,--enable-auto-import -Wl,--export-all-symbols -Wl,--enable-auto-image-base -L/usr/local/lib -fstack-protector'
Characteristics of this binary (from libperl):
Compile-time options: MULTIPLICITY PERL_DONT_CREATE_GVSV
PERL_IMPLICIT_CONTEXT PERL_PRESERVE_IVUV
PERL_USE_SAFE_PUTENV USE_64_BIT_INT USE_ITHREADS
USE_LARGE_FILES USE_PERLIO USE_PERL_ATOF
USE_REENTRANT_API
Locally applied patches:
Bug#55162 File::Spec::case_tolerant performance
CYG07 $vendorarch/auto/.rebase
CYG15 static Win32CORE
CYG17 cyg-1.7 paths-utf8
0c612ce82 Fix building static extensions on cygwin, -UUSEIMPORTLIB
1bac5ecc1 Fix 64-bit threading sv.c: S_anonymise_cv_maybe
Cygwin::sync_winenv added
Built under cygwin
Compiled at Jul 12 2012 14:17:21
%ENV:
PERL5LIB=""
PERL5OPT=""
PERL5_CPANPLUS_IS_RUNNING="2076"
PERL5_CPAN_IS_RUNNING="2076"
@INC:
/usr/lib/perl5/site_perl/5.14/i686-cygwin-threads-64int
/usr/lib/perl5/site_perl/5.14
/usr/lib/perl5/vendor_perl/5.14/i686-cygwin-threads-64int
/usr/lib/perl5/vendor_perl/5.14
/usr/lib/perl5/5.14/i686-cygwin-threads-64int
/usr/lib/perl5/5.14
/usr/lib/perl5/site_perl/5.10
/usr/lib/perl5/vendor_perl/5.10
/usr/lib/perl5/site_perl/5.8
.