Test-Class-Moose v0.93 Perl 5 v5.24.4 amd64-netbsd

Status
Pass
From
Nigel Horne
Dist
Test-Class-Moose v0.93
Platform
Perl 5 v5.24.4 amd64-netbsd
Date
2018-08-16 08:24:12
ID
c1227c8c-a12d-11e8-9f98-f0b862b887d7
This distribution has been tested as part of the CPAN Testers
project, supporting the Perl programming language.  See
http://wiki.cpantesters.org/ for more information or email
questions to cpan-testers-discuss@perl.org


--
Dear Dave Rolsky,

This is a computer-generated report for Test-Class-Moose-0.93
on perl 5.24.4, created by CPAN-Reporter-1.2018.

Thank you for uploading your work to CPAN.  Congratulations!
All tests were successful.

Sections of this report:

    * Tester comments
    * Program output
    * Prerequisites
    * Environment and other context

------------------------------
TESTER COMMENTS
------------------------------

Additional comments from tester:

none provided

------------------------------
PROGRAM OUTPUT
------------------------------

Output from '/usr/bin/make test':

PERL_DL_NONLAZY=1 "/home/njh/perl5/perlbrew/perls/perl-5.24.4/bin/perl" "-MExtUtils::Command::MM" "-MTest::Harness" "-e" "undef *Test::Harness::Switches; test_harness(0, 'blib/lib', 'blib/arch')" t/*.t
# 
# Versions for all modules listed in MYMETA.json (including optional ones):
# 
# === Configure Requires ===
# 
#     Module              Want Have
#     ------------------- ---- ----
#     ExtUtils::MakeMaker  any 7.34
# 
# === Build Requires ===
# 
#     Module              Want Have
#     ------------------- ---- ----
#     ExtUtils::MakeMaker  any 7.34
# 
# === Test Requires ===
# 
#     Module                    Want     Have
#     --------------------- -------- --------
#     ExtUtils::MakeMaker        any     7.34
#     File::Spec                 any     3.74
#     File::Temp                 any   0.2306
#     Test2::Tools::Basic        any 0.000114
#     Test2::Tools::Class        any 0.000114
#     Test2::Tools::Compare      any 0.000114
#     Test2::Tools::Subtest      any 0.000114
#     Test2::V0                  any 0.000114
#     Test::Builder              any 1.302136
#     Test::More            1.302015 1.302136
#     Test::Requires             any     0.10
#     Test::Warnings             any    0.026
#     lib                        any     0.63
# 
# === Test Recommends ===
# 
#     Module           Want     Have
#     ------------ -------- --------
#     CPAN::Meta   2.120900 2.150010
#     Test::Output   0.0005    1.031
# 
# === Runtime Requires ===
# 
#     Module                            Want     Have
#     ---------------------------- --------- --------
#     Benchmark                          any     1.22
#     Carp                               any     1.40
#     Class::MOP                         any   2.2011
#     Exporter                           any     5.72
#     File::Find                         any     1.34
#     File::Spec                         any     3.74
#     Import::Into                       any 1.002005
#     JSON                               any  2.97001
#     List::SomeUtils                    any     0.56
#     List::Util                         any     1.50
#     Module::Runtime                    any    0.016
#     Module::Util                       any     1.09
#     Moose                           2.0000   2.2011
#     Moose::Role                     2.0000   2.2011
#     Moose::Util                        any   2.2011
#     Moose::Util::TypeConstraints       any   2.2011
#     MooseX::Getopt                    0.71     0.71
#     MooseX::Getopt::Dashes             any     0.71
#     Package::DeprecationManager       0.16     0.17
#     Parallel::ForkManager              any     1.19
#     Scalar::Util                       any     1.50
#     Sub::Attribute                     any     0.06
#     TAP::Formatter::Color             3.29     3.42
#     Test2                        1.1302118 1.302136
#     Test2::API                         any 1.302136
#     Test2::AsyncSubtest           0.000018 0.000114
#     Test2::IPC                         any 1.302136
#     Test2::Tools::AsyncSubtest         any 0.000114
#     Test::Most                         any     0.35
#     Try::Tiny                          any     0.30
#     namespace::autoclean               any     0.28
#     strict                             any     1.11
#     warnings                           any     1.36
# 
# === Runtime Recommends ===
# 
#     Module                  Want Have
#     --------------------- ------ ----
#     Parallel::ForkManager v0.7.6 1.19
# 
t/00-report-prereqs.t .......... ok
t/autouse.t .................... ok
t/bad_subclass.t ............... ok
t/bare.t ....................... ok
t/basic.t ...................... ok
t/cli.t ........................ ok
t/environment.t ................ ok
t/executor_roles.t ............. ok
t/include_classes.t ............ ok
t/include_exclude.t ............ ok
t/load.t ....................... ok
t/no_tests_run.t ............... ok
t/non_randomize_classes.t ...... ok
.....................X.X..t/parallel.t ................... ok
t/parameterized.t .............. ok
t/plans.t ...................... ok
t/process_name.t ............... ok
t/reportpassed.t ............... ok
t/skip.t ....................... ok
t/tags.t ....................... ok
t/test_class_is_not_loaded.t ... ok
t/test_control_methods.t ....... ok
t/test_control_methods_skip.t .. ok
t/timing.t ..................... ok
t/todo.t ....................... ok
All tests successful.
Files=25, Tests=213, 34 wallclock secs ( 0.56 usr  0.12 sys + 20.07 cusr  3.64 csys = 24.39 CPU)
Result: PASS

------------------------------
PREREQUISITES
------------------------------

Prerequisite modules loaded:

requires:

    Module                       Need      Have    
    ---------------------------- --------- --------
    Benchmark                    0         1.22    
    Carp                         0         1.40    
    Class::MOP                   0         2.2011  
    Exporter                     0         5.72    
    File::Find                   0         1.34    
    File::Spec                   0         3.74    
    Import::Into                 0         1.002005
    JSON                         0         2.97001 
    List::SomeUtils              0         0.56    
    List::Util                   0         1.50    
    Module::Runtime              0         0.016   
    Module::Util                 0         1.09    
    Moose                        2.0000    2.2011  
    Moose::Role                  2.0000    2.2011  
    Moose::Util                  0         2.2011  
    Moose::Util::TypeConstraints 0         2.2011  
    MooseX::Getopt               0.71      0.71    
    MooseX::Getopt::Dashes       0         0.71    
    namespace::autoclean         0         0.28    
    Package::DeprecationManager  0.16      0.17    
    Parallel::ForkManager        0         1.19    
    perl                         5.010000  5.024004
    Scalar::Util                 0         1.50    
    strict                       0         1.11    
    Sub::Attribute               0         0.06    
    TAP::Formatter::Color        3.29      3.42    
    Test2                        1.1302118 1.302136
    Test2::API                   0         1.302136
    Test2::AsyncSubtest          0.000018  0.000114
    Test2::IPC                   0         1.302136
    Test2::Tools::AsyncSubtest   0         0.000114
    Test::Most                   0         0.35    
    Try::Tiny                    0         0.30    
    warnings                     0         1.36    

build_requires:

    Module                       Need      Have    
    ---------------------------- --------- --------
    ExtUtils::MakeMaker          0         7.34    
    File::Spec                   0         3.74    
    File::Temp                   0         0.2306  
    lib                          0         0.63    
    Test2::Tools::Basic          0         0.000114
    Test2::Tools::Class          0         0.000114
    Test2::Tools::Compare        0         0.000114
    Test2::Tools::Subtest        0         0.000114
    Test2::V0                    0         0.000114
    Test::Builder                0         1.302136
    Test::More                   1.302015  1.302136
    Test::Requires               0         0.10    
    Test::Warnings               0         0.026   

configure_requires:

    Module                       Need      Have    
    ---------------------------- --------- --------
    ExtUtils::MakeMaker          0         7.34    


------------------------------
ENVIRONMENT AND OTHER CONTEXT
------------------------------

Environment variables:

    PATH = /home/njh/perl5/perlbrew/bin:/home/njh/perl5/perlbrew/perls/perl-5.24.4/bin:/usr/bin:/bin:/usr/pkg/bin:/usr/local/bin
    PERL5LIB = 
    PERL5OPT = 
    PERL5_CPANPLUS_IS_RUNNING = 23848
    PERL5_CPAN_IS_RUNNING = 23848
    PERLBREW_HOME = /home/njh/.perlbrew
    PERLBREW_MANPATH = /home/njh/perl5/perlbrew/perls/perl-5.24.4/man
    PERLBREW_PATH = /home/njh/perl5/perlbrew/bin:/home/njh/perl5/perlbrew/perls/perl-5.24.4/bin
    PERLBREW_PERL = perl-5.24.4
    PERLBREW_ROOT = /home/njh/perl5/perlbrew
    PERLBREW_SHELLRC_VERSION = 0.82
    PERLBREW_VERSION = 0.82
    SHELL = /usr/pkg/bin/bash
    TERM = xterm-256color
    TMPDIR = /tmp

Perl special variables (and OS-specific diagnostics, for MSWin32):

    $^X = /home/njh/perl5/perlbrew/perls/perl-5.24.4/bin/perl
    $UID/$EUID = 1000 / 1000
    $GID = 100 100 0
    $EGID = 100 100 0

Perl module toolchain versions installed:

    Module              Have    
    ------------------- --------
    CPAN                2.16    
    CPAN::Meta          2.150010
    Cwd                 3.74    
    ExtUtils::CBuilder  0.280230
    ExtUtils::Command   7.34    
    ExtUtils::Install   2.14    
    ExtUtils::MakeMaker 7.34    
    ExtUtils::Manifest  1.71    
    ExtUtils::ParseXS   3.35    
    File::Spec          3.74    
    JSON                2.97001 
    JSON::PP            2.97001 
    Module::Build       0.4224  
    Module::Signature   n/a     
    Parse::CPAN::Meta   2.150010
    Test::Harness       3.42    
    Test::More          1.302136
    YAML                1.26    
    YAML::Syck          1.30    
    version             0.9924  


--

Summary of my perl5 (revision 5 version 24 subversion 4) configuration:
   
  Platform:
    osname=netbsd, osvers=7.1.2, archname=amd64-netbsd
    uname='netbsd njh2.vultr.com 7.1.2 netbsd 7.1.2 (generic.201803151611z) amd64 '
    config_args='-de -Dprefix=/home/njh/perl5/perlbrew/perls/perl-5.24.4 -Aeval:scriptdir=/home/njh/perl5/perlbrew/perls/perl-5.24.4/bin'
    hint=recommended, useposix=true, d_sigaction=define
    useithreads=undef, usemultiplicity=undef
    use64bitint=define, use64bitall=define, uselongdouble=undef
    usemymalloc=n, bincompat5005=undef
  Compiler:
    cc='cc', ccflags ='-fwrapv -fno-strict-aliasing -pipe -fstack-protector -I/usr/pkg/include -D_FORTIFY_SOURCE=2',
    optimize='-O',
    cppflags='-fwrapv -fno-strict-aliasing -pipe -fstack-protector -I/usr/pkg/include'
    ccversion='', gccversion='4.8.5', gccosandvers=''
    intsize=4, longsize=8, ptrsize=8, doublesize=8, byteorder=12345678, doublekind=3
    d_longlong=define, longlongsize=8, d_longdbl=define, longdblsize=16, longdblkind=3
    ivtype='long', ivsize=8, nvtype='double', nvsize=8, Off_t='off_t', lseeksize=8
    alignbytes=8, prototype=define
  Linker and Libraries:
    ld='cc', ldflags =' -Wl,-rpath,/usr/pkg/lib -Wl,-rpath,/usr/local/lib -fstack-protector -L/usr/pkg/lib'
    libpth=/usr/include/gcc-4.8 /usr/lib /usr/pkg/lib /lib
    libs=-lpthread -lm -lcrypt -lutil -lc -lposix
    perllibs=-lpthread -lm -lcrypt -lutil -lc -lposix
    libc=/lib/libc.so, so=so, useshrplib=false, libperl=libperl.a
    gnulibc_version=''
  Dynamic Linking:
    dlsrc=dl_dlopen.xs, dlext=so, d_dlsymun=undef, ccdlflags='-Wl,-E '
    cccdlflags='-DPIC -fPIC ', lddlflags='-shared  -L/usr/pkg/lib -fstack-protector'


Characteristics of this binary (from libperl): 
  Compile-time options: HAS_TIMES PERLIO_LAYERS PERL_COPY_ON_WRITE
                        PERL_DONT_CREATE_GVSV
                        PERL_HASH_FUNC_ONE_AT_A_TIME_HARD PERL_MALLOC_WRAP
                        PERL_PRESERVE_IVUV USE_64_BIT_ALL USE_64_BIT_INT
                        USE_LARGE_FILES USE_LOCALE USE_LOCALE_COLLATE
                        USE_LOCALE_CTYPE USE_LOCALE_NUMERIC USE_LOCALE_TIME
                        USE_PERLIO USE_PERL_ATOF
  Locally applied patches:
	Devel::PatchPerl 1.48
  Built under netbsd
  Compiled at Jun  3 2018 10:22:40
  %ENV:
    PERL5LIB=""
    PERL5OPT=""
    PERL5_CPANPLUS_IS_RUNNING="23848"
    PERL5_CPAN_IS_RUNNING="23848"
    PERLBREW_HOME="/home/njh/.perlbrew"
    PERLBREW_MANPATH="/home/njh/perl5/perlbrew/perls/perl-5.24.4/man"
    PERLBREW_PATH="/home/njh/perl5/perlbrew/bin:/home/njh/perl5/perlbrew/perls/perl-5.24.4/bin"
    PERLBREW_PERL="perl-5.24.4"
    PERLBREW_ROOT="/home/njh/perl5/perlbrew"
    PERLBREW_SHELLRC_VERSION="0.82"
    PERLBREW_VERSION="0.82"
  @INC:
    /home/njh/perl5/perlbrew/perls/perl-5.24.4/lib/site_perl/5.24.4/amd64-netbsd
    /home/njh/perl5/perlbrew/perls/perl-5.24.4/lib/site_perl/5.24.4
    /home/njh/perl5/perlbrew/perls/perl-5.24.4/lib/5.24.4/amd64-netbsd
    /home/njh/perl5/perlbrew/perls/perl-5.24.4/lib/5.24.4
    .