KiokuDB v0.57 Perl 5 v5.22.2 amd64-freebsd-thread-multi

Status
Pass
From
Slaven Rezić (SREZIC)
Dist
KiokuDB v0.57
Platform
Perl 5 v5.22.2 amd64-freebsd-thread-multi
Date
2018-11-18 10:50:25
ID
c10f67f0-eb1f-11e8-ae01-c30defd60c0e
This distribution has been tested as part of the CPAN Testers
project, supporting the Perl programming language.  See
http://wiki.cpantesters.org/ for more information or email
questions to cpan-testers-discuss@perl.org


--
Dear Jesse Luehrs,

This is a computer-generated report for KiokuDB-0.57
on perl 5.22.2, created by CPAN-Reporter-1.2017.

Thank you for uploading your work to CPAN.  Congratulations!
All tests were successful.

Sections of this report:

    * Tester comments
    * Program output
    * Prerequisites
    * Environment and other context

------------------------------
TESTER COMMENTS
------------------------------

Additional comments from tester:

none provided

------------------------------
PROGRAM OUTPUT
------------------------------

Output from '/usr/bin/make test':

PERL_DL_NONLAZY=1 "/usr/perl5.22.2t/bin/perl" "-MExtUtils::Command::MM" "-MTest::Harness" "-e" "undef *Test::Harness::Switches; test_harness(0, 'blib/lib', 'blib/arch')" t/*.t
t/00-compile.t ................. ok
t/coderefs.t ................... ok
t/collapser.t .................. ok
t/digest.t ..................... ok
t/directory.t .................. ok
t/entry.t ...................... ok
t/gc_naive.t ................... ok
t/gin.t ........................ ok
t/hash.t ....................... ok
t/hash_backend.t ............... ok
t/jspon_serialization.t ........ ok
t/kiokudb_class_native.t ....... ok
t/lazy.t ....................... ok
t/link_checker.t ............... ok
t/link_checker_real.t .......... ok
t/live_objs.t .................. ok
t/moose_triggers.t ............. ok
t/ref.t ........................ ok
t/scaling.t .................... ok
t/serializer.t ................. ok
t/stream.t ..................... ok
t/tied.t ....................... ok
t/typemap.t .................... ok
t/typemap_default_json.t ....... ok
t/typemap_default_storable.t ... ok
t/typemap_entry_callback.t ..... ok
t/typemap_entry_mop.t .......... ok
t/typemap_entry_naive.t ........ ok
t/typemap_entry_passthrough.t .. ok
t/typemap_entry_storable.t ..... ok
t/typemap_extra.t .............. ok
t/typemap_resolver.t ........... ok
t/typemap_values.t ............. ok
t/uuid.t ....................... ok
t/versioning.t ................. ok
All tests successful.
Files=35, Tests=23695, 298 wallclock secs ( 0.28 usr  3.48 sys + 24.61 cusr 58.80 csys = 87.18 CPU)
Result: PASS

------------------------------
PREREQUISITES
------------------------------

Prerequisite modules loaded:

requires:

    Module                                         Need   Have    
    ---------------------------------------------- ------ --------
    B                                              0      1.58    
    B::Deparse                                     0      1.35    
    Cache::Ref                                     0.02   0.04    
    Carp                                           0      1.36    
    Class::Load                                    0      0.23    
    constant                                       0      1.33    
    Data::Stream::Bulk                             0.08   0.11    
    Data::Stream::Bulk::Util                       0      0.11    
    Data::Swap                                     0      0.08    
    Data::UUID                                     1.203  1.221   
    Data::Visitor                                  0.24   0.30    
    Digest::SHA                                    0      5.95    
    Encode                                         0      2.72    
    Hash::Util::FieldHash::Compat                  0      0.11    
    IO::Handle                                     0      1.35    
    JSON                                           2.12   2.90    
    JSON::XS                                       2.231  3.02    
    List::Util                                     0      1.45    
    Module::Pluggable::Object                      0      5.2     
    Moose                                          2.0000 2.1804  
    Moose::Exporter                                0      2.1804  
    Moose::Role                                    0      2.1804  
    Moose::Util                                    0      2.1804  
    Moose::Util::MetaRole                          0      2.1804  
    Moose::Util::TypeConstraints                   0      2.1804  
    MooseX::Clone                                  0.04   0.06    
    MooseX::Clone::Meta::Attribute::Trait::NoClone 0      0.06    
    MooseX::Role::Parameterized                    0.10   1.08    
    MooseX::YAML                                   0.04   0.04    
    namespace::clean                               0.08   0.27    
    overload                                       0      1.26    
    PadWalker                                      1.9    2.2     
    Path::Class                                    0      0.36    
    POSIX                                          0      1.53_01 
    Scalar::Util                                   0      1.45    
    Scope::Guard                                   0      0.21    
    Search::GIN::Driver                            0      0.11    
    Search::GIN::Extract                           0      0.11    
    Search::GIN::Query::Class                      0.03   0.11    
    Set::Object                                    1.26   1.35    
    Storable                                       0      2.53_01 
    strict                                         0      1.09    
    Sub::Exporter                                  0      0.987   
    Symbol                                         0      1.07    
    Test::Exception                                0      0.43    
    Test::Moose                                    0      2.1804  
    Test::More                                     0.88   1.302075
    Throwable                                      0      0.200013
    Tie::RefHash                                   0      1.39    
    Tie::ToObject                                  0      0.03    
    Try::Tiny                                      0      0.28    
    utf8                                           0      1.17    
    warnings                                       0      1.34    
    YAML::XS                                       0.30   0.62    

build_requires:

    Module                                         Need   Have    
    ---------------------------------------------- ------ --------
    base                                           0      2.22    
    Cache::Ref::CART                               0      0.04    
    Cache::Ref::CLOCK                              0      0.04    
    Data::Dumper                                   0      2.158   
    Data::Stream::Bulk::Callback                   0      0.11    
    File::Spec                                     0      3.62    
    if                                             0      0.0604  
    IO::Handle                                     0      1.35    
    IPC::Open3                                     0      1.18    
    Search::GIN::Driver::Hash                      0      0.11    
    Search::GIN::Extract::Class                    0      0.11    
    Search::GIN::Extract::Delegate                 0      0.11    
    Test::More                                     0.88   1.302075

configure_requires:

    Module                                         Need   Have    
    ---------------------------------------------- ------ --------
    ExtUtils::MakeMaker                            6.30   7.24    


------------------------------
ENVIRONMENT AND OTHER CONTEXT
------------------------------

Environment variables:

    LC_ALL = C
    PATH = /usr/local/bin:/usr/bin:/bin:/usr/local/sbin:/usr/sbin:/sbin:/home/cpansand/bin/freebsd10.3:/home/cpansand/bin/sh:/home/cpansand/bin:/usr/games:/home/cpansand/devel:/home/eserte/src/srezic-misc/scripts
    PERL5LIB = /home/cpansand/.cpan/build/2018111810/Data-Swap-0.08-nYgjDI/blib/arch:/home/cpansand/.cpan/build/2018111810/Data-Swap-0.08-nYgjDI/blib/lib:/home/cpansand/.cpan/build/2018111810/Cache-Ref-0.04-0nS40C/blib/arch:/home/cpansand/.cpan/build/2018111810/Cache-Ref-0.04-0nS40C/blib/lib:/home/cpansand/.cpan/build/2018111810/Search-GIN-0.11-iOEaHq/blib/arch:/home/cpansand/.cpan/build/2018111810/Search-GIN-0.11-iOEaHq/blib/lib:/home/cpansand/.cpan/build/2018111810/MooseX-Types-Set-Object-0.05-q7B7JA/blib/arch:/home/cpansand/.cpan/build/2018111810/MooseX-Types-Set-Object-0.05-q7B7JA/blib/lib:/home/cpansand/.cpan/build/2018111810/MooseX-YAML-0.04-NtxD7V/blib/arch:/home/cpansand/.cpan/build/2018111810/MooseX-YAML-0.04-NtxD7V/blib/lib:/home/cpansand/.cpan/build/2018111810/MooseX-Blessed-Reconstruct-1.01-bVzacY/blib/arch:/home/cpansand/.cpan/build/2018111810/MooseX-Blessed-Reconstruct-1.01-bVzacY/blib/lib:/home/cpansand/.cpan/build/2018111810/Test-TempDir-0.10-woAlw1/blib/arch:/home/cpansand/.cpan/build/2018111810/Test-TempDir-0.10-woAlw1/blib/lib:/home/cpansand/.cpan/build/2018111810/File-NFSLock-1.29-r2wlF9/blib/arch:/home/cpansand/.cpan/build/2018111810/File-NFSLock-1.29-r2wlF9/blib/lib
    PERL5OPT = -MDevel::Hide
    PERL5_CPANPLUS_IS_RUNNING = 69723
    PERL5_CPAN_IS_RUNNING = 69723
    PERL5_CPAN_IS_RUNNING_IN_RECURSION = 66583,69723
    PERLDOC = -MPod::Perldoc::ToTextOverstrike
    PERL_BATCH = yes
    PERL_CANARY_STABILITY_NOPROMPT = 1
    PERL_CPAN_REPORTER_CONFIG = /var/tmp/cpansmoker-1023/2018111810/cpanreporter_002_config.ini
    PERL_EXTUTILS_AUTOINSTALL = --defaultdeps
    SHELL = /usr/local/bin/zsh
    TERM = screen
    TMPDIR = /var/tmp/cpansmoker-1023/2018111810

Perl special variables (and OS-specific diagnostics, for MSWin32):

    $^X = /usr/perl5.22.2t/bin/perl
    $UID/$EUID = 1023 / 1023
    $GID = 1023 1023
    $EGID = 1023 1023

Perl module toolchain versions installed:

    Module              Have    
    ------------------- --------
    CPAN                2.11    
    CPAN::Meta          2.150001
    Cwd                 3.62    
    ExtUtils::CBuilder  0.280221
    ExtUtils::Command   7.24    
    ExtUtils::Install   2.04    
    ExtUtils::MakeMaker 7.24    
    ExtUtils::Manifest  1.70    
    ExtUtils::ParseXS   3.28    
    File::Spec          3.62    
    JSON                2.90    
    JSON::PP            2.27300 
    Module::Build       0.4218  
    Module::Signature   0.80    
    Parse::CPAN::Meta   1.4422  
    Test::Harness       3.35    
    Test::More          1.302075
    YAML                1.15    
    YAML::Syck          1.29    
    version             0.9917  


--

Summary of my perl5 (revision 5 version 22 subversion 2) configuration:
   
  Platform:
    osname=freebsd, osvers=10.1-release, archname=amd64-freebsd-thread-multi
    uname='freebsd cvrsnica-freebsd-101.herceg.de 10.1-release freebsd 10.1-release #0 r274401: tue nov 11 21:02:49 utc 2014 root@releng1.nyi.freebsd.org:usrobjusrsrcsysgeneric amd64 '
    config_args='-ds -e -Dprefix=/usr/perl5.22.2t -Dusethreads -Dcf_email=srezic@cpan.org -Doptimize=-O2 -pipe'
    hint=recommended, useposix=true, d_sigaction=define
    useithreads=define, usemultiplicity=define
    use64bitint=define, use64bitall=define, uselongdouble=undef
    usemymalloc=n, bincompat5005=undef
  Compiler:
    cc='cc', ccflags ='-DHAS_FPSETMASK -DHAS_FLOATINGPOINT_H -fno-strict-aliasing -pipe -fstack-protector -I/usr/local/include -D_FORTIFY_SOURCE=2',
    optimize='-O2 -pipe',
    cppflags='-DHAS_FPSETMASK -DHAS_FLOATINGPOINT_H -fno-strict-aliasing -pipe -fstack-protector -I/usr/local/include'
    ccversion='', gccversion='4.2.1 Compatible FreeBSD Clang 3.4.1 (tags/RELEASE_34/dot1-final 208032)', gccosandvers=''
    intsize=4, longsize=8, ptrsize=8, doublesize=8, byteorder=12345678, doublekind=3
    d_longlong=define, longlongsize=8, d_longdbl=define, longdblsize=16, longdblkind=3
    ivtype='long', ivsize=8, nvtype='double', nvsize=8, Off_t='off_t', lseeksize=8
    alignbytes=8, prototype=define
  Linker and Libraries:
    ld='cc', ldflags ='-pthread -Wl,-E  -fstack-protector -L/usr/local/lib'
    libpth=/usr/lib /usr/local/lib /usr/include/clang/3.4.1 /usr/lib
    libs=-lpthread -lgdbm -lm -lcrypt -lutil
    perllibs=-lpthread -lm -lcrypt -lutil
    libc=, so=so, useshrplib=false, libperl=libperl.a
    gnulibc_version=''
  Dynamic Linking:
    dlsrc=dl_dlopen.xs, dlext=so, d_dlsymun=undef, ccdlflags=' '
    cccdlflags='-DPIC -fPIC', lddlflags='-shared  -L/usr/local/lib -fstack-protector'


Characteristics of this binary (from libperl): 
  Compile-time options: HAS_TIMES MULTIPLICITY PERLIO_LAYERS
                        PERL_DONT_CREATE_GVSV
                        PERL_HASH_FUNC_ONE_AT_A_TIME_HARD
                        PERL_IMPLICIT_CONTEXT PERL_MALLOC_WRAP
                        PERL_NEW_COPY_ON_WRITE PERL_PRESERVE_IVUV
                        USE_64_BIT_ALL USE_64_BIT_INT USE_ITHREADS
                        USE_LARGE_FILES USE_LOCALE USE_LOCALE_COLLATE
                        USE_LOCALE_CTYPE USE_LOCALE_NUMERIC USE_LOCALE_TIME
                        USE_PERLIO USE_PERL_ATOF USE_REENTRANT_API
  Built under freebsd
  Compiled at Jun 18 2016 12:32:50
  %ENV:
    PERL5LIB="/home/cpansand/.cpan/build/2018111810/Data-Swap-0.08-nYgjDI/blib/arch:/home/cpansand/.cpan/build/2018111810/Data-Swap-0.08-nYgjDI/blib/lib:/home/cpansand/.cpan/build/2018111810/Cache-Ref-0.04-0nS40C/blib/arch:/home/cpansand/.cpan/build/2018111810/Cache-Ref-0.04-0nS40C/blib/lib:/home/cpansand/.cpan/build/2018111810/Search-GIN-0.11-iOEaHq/blib/arch:/home/cpansand/.cpan/build/2018111810/Search-GIN-0.11-iOEaHq/blib/lib:/home/cpansand/.cpan/build/2018111810/MooseX-Types-Set-Object-0.05-q7B7JA/blib/arch:/home/cpansand/.cpan/build/2018111810/MooseX-Types-Set-Object-0.05-q7B7JA/blib/lib:/home/cpansand/.cpan/build/2018111810/MooseX-YAML-0.04-NtxD7V/blib/arch:/home/cpansand/.cpan/build/2018111810/MooseX-YAML-0.04-NtxD7V/blib/lib:/home/cpansand/.cpan/build/2018111810/MooseX-Blessed-Reconstruct-1.01-bVzacY/blib/arch:/home/cpansand/.cpan/build/2018111810/MooseX-Blessed-Reconstruct-1.01-bVzacY/blib/lib:/home/cpansand/.cpan/build/2018111810/Test-TempDir-0.10-woAlw1/blib/arch:/home/cpansand/.cpan/build/2018111810/Test-TempDir-0.10-woAlw1/blib/lib:/home/cpansand/.cpan/build/2018111810/File-NFSLock-1.29-r2wlF9/blib/arch:/home/cpansand/.cpan/build/2018111810/File-NFSLock-1.29-r2wlF9/blib/lib"
    PERL5OPT="-MDevel::Hide"
    PERL5_CPANPLUS_IS_RUNNING="69723"
    PERL5_CPAN_IS_RUNNING="69723"
    PERL5_CPAN_IS_RUNNING_IN_RECURSION="66583,69723"
    PERLDOC="-MPod::Perldoc::ToTextOverstrike"
    PERL_BATCH="yes"
    PERL_CANARY_STABILITY_NOPROMPT="1"
    PERL_CPAN_REPORTER_CONFIG="/var/tmp/cpansmoker-1023/2018111810/cpanreporter_002_config.ini"
    PERL_EXTUTILS_AUTOINSTALL="--defaultdeps"
  @INC:
    CODE(0x41ceedb0)
    /home/cpansand/.cpan/build/2018111810/Data-Swap-0.08-nYgjDI/blib/arch
    /home/cpansand/.cpan/build/2018111810/Data-Swap-0.08-nYgjDI/blib/lib
    /home/cpansand/.cpan/build/2018111810/Cache-Ref-0.04-0nS40C/blib/arch
    /home/cpansand/.cpan/build/2018111810/Cache-Ref-0.04-0nS40C/blib/lib
    /home/cpansand/.cpan/build/2018111810/Search-GIN-0.11-iOEaHq/blib/arch
    /home/cpansand/.cpan/build/2018111810/Search-GIN-0.11-iOEaHq/blib/lib
    /home/cpansand/.cpan/build/2018111810/MooseX-Types-Set-Object-0.05-q7B7JA/blib/arch
    /home/cpansand/.cpan/build/2018111810/MooseX-Types-Set-Object-0.05-q7B7JA/blib/lib
    /home/cpansand/.cpan/build/2018111810/MooseX-YAML-0.04-NtxD7V/blib/arch
    /home/cpansand/.cpan/build/2018111810/MooseX-YAML-0.04-NtxD7V/blib/lib
    /home/cpansand/.cpan/build/2018111810/MooseX-Blessed-Reconstruct-1.01-bVzacY/blib/arch
    /home/cpansand/.cpan/build/2018111810/MooseX-Blessed-Reconstruct-1.01-bVzacY/blib/lib
    /home/cpansand/.cpan/build/2018111810/Test-TempDir-0.10-woAlw1/blib/arch
    /home/cpansand/.cpan/build/2018111810/Test-TempDir-0.10-woAlw1/blib/lib
    /home/cpansand/.cpan/build/2018111810/File-NFSLock-1.29-r2wlF9/blib/arch
    /home/cpansand/.cpan/build/2018111810/File-NFSLock-1.29-r2wlF9/blib/lib
    /usr/perl5.22.2t/lib/site_perl/5.22.2/amd64-freebsd-thread-multi
    /usr/perl5.22.2t/lib/site_perl/5.22.2
    /usr/perl5.22.2t/lib/5.22.2/amd64-freebsd-thread-multi
    /usr/perl5.22.2t/lib/5.22.2
    .