Back
From: metabase:user:c083259e-6d13-11e4-9039-fe3c7b8625b6
Subject: FAIL libapreq2-2.13 v5.20.1 GNU/Linux
Date: 2014-11-15T22:21:32Z
This distribution has been tested as part of the CPAN Testers
project, supporting the Perl programming language. See
http://wiki.cpantesters.org/ for more information or email
questions to cpan-testers-discuss@perl.org
--
Dear Issac Goldstand,
This is a computer-generated report for libapreq2-2.13
on perl 5.20.1, created by CPAN-Reporter-1.2011.
Thank you for uploading your work to CPAN. However, there was a problem
testing your distribution.
If you think this report is invalid, please consult the CPAN Testers Wiki
for suggestions on how to avoid getting FAIL reports for missing library
or binary dependencies, unsupported operating systems, and so on:
http://wiki.cpantesters.org/wiki/CPANAuthorNotes
Sections of this report:
* Tester comments
* Program output
* Prerequisites
* Environment and other context
------------------------------
TESTER COMMENTS
------------------------------
Additional comments from tester:
none provided
------------------------------
PROGRAM OUTPUT
------------------------------
Output from '/bin/make test':
Making all in .
make[1]: Entering directory `/root/.cpan/build/libapreq2-2.13-iTHLub'
make[1]: Nothing to be done for `all-am'.
make[1]: Leaving directory `/root/.cpan/build/libapreq2-2.13-iTHLub'
Making all in include
make[1]: Entering directory `/root/.cpan/build/libapreq2-2.13-iTHLub/include'
/bin/make all-am
make[2]: Entering directory `/root/.cpan/build/libapreq2-2.13-iTHLub/include'
make[2]: Leaving directory `/root/.cpan/build/libapreq2-2.13-iTHLub/include'
make[1]: Leaving directory `/root/.cpan/build/libapreq2-2.13-iTHLub/include'
Making all in library
make[1]: Entering directory `/root/.cpan/build/libapreq2-2.13-iTHLub/library'
/bin/make all-am
make[2]: Entering directory `/root/.cpan/build/libapreq2-2.13-iTHLub/library'
make[2]: Nothing to be done for `all-am'.
make[2]: Leaving directory `/root/.cpan/build/libapreq2-2.13-iTHLub/library'
make[1]: Leaving directory `/root/.cpan/build/libapreq2-2.13-iTHLub/library'
Making all in module
make[1]: Entering directory `/root/.cpan/build/libapreq2-2.13-iTHLub/module'
Making all in apache2
make[2]: Entering directory `/root/.cpan/build/libapreq2-2.13-iTHLub/module/apache2'
make[2]: Nothing to be done for `all'.
make[2]: Leaving directory `/root/.cpan/build/libapreq2-2.13-iTHLub/module/apache2'
make[2]: Entering directory `/root/.cpan/build/libapreq2-2.13-iTHLub/module'
make[2]: Nothing to be done for `all-am'.
make[2]: Leaving directory `/root/.cpan/build/libapreq2-2.13-iTHLub/module'
make[1]: Leaving directory `/root/.cpan/build/libapreq2-2.13-iTHLub/module'
Making all in glue
make[1]: Entering directory `/root/.cpan/build/libapreq2-2.13-iTHLub/glue'
cd perl; /bin/make
make[2]: Entering directory `/root/.cpan/build/libapreq2-2.13-iTHLub/glue/perl'
make[3]: Entering directory `/root/.cpan/build/libapreq2-2.13-iTHLub/glue/perl/xs'
make[4]: Entering directory `/root/.cpan/build/libapreq2-2.13-iTHLub/glue/perl/xs/APR'
make[5]: Entering directory `/root/.cpan/build/libapreq2-2.13-iTHLub/glue/perl/xs/APR/Request'
make[6]: Entering directory `/root/.cpan/build/libapreq2-2.13-iTHLub/glue/perl/xs/APR/Request/Apache2'
Running Mkbootstrap for APR::Request::Apache2 ()
chmod 644 "Apache2.bs"
Manifying 1 pod document
make[6]: Leaving directory `/root/.cpan/build/libapreq2-2.13-iTHLub/glue/perl/xs/APR/Request/Apache2'
make[6]: Entering directory `/root/.cpan/build/libapreq2-2.13-iTHLub/glue/perl/xs/APR/Request/CGI'
Running Mkbootstrap for APR::Request::CGI ()
chmod 644 "CGI.bs"
Manifying 1 pod document
make[6]: Leaving directory `/root/.cpan/build/libapreq2-2.13-iTHLub/glue/perl/xs/APR/Request/CGI'
make[6]: Entering directory `/root/.cpan/build/libapreq2-2.13-iTHLub/glue/perl/xs/APR/Request/Cookie'
Running Mkbootstrap for APR::Request::Cookie ()
chmod 644 "Cookie.bs"
Manifying 1 pod document
make[6]: Leaving directory `/root/.cpan/build/libapreq2-2.13-iTHLub/glue/perl/xs/APR/Request/Cookie'
make[6]: Entering directory `/root/.cpan/build/libapreq2-2.13-iTHLub/glue/perl/xs/APR/Request/Error'
Running Mkbootstrap for APR::Request::Error ()
chmod 644 "Error.bs"
Manifying 1 pod document
make[6]: Leaving directory `/root/.cpan/build/libapreq2-2.13-iTHLub/glue/perl/xs/APR/Request/Error'
make[6]: Entering directory `/root/.cpan/build/libapreq2-2.13-iTHLub/glue/perl/xs/APR/Request/Hook'
Running Mkbootstrap for APR::Request::Hook ()
chmod 644 "Hook.bs"
Manifying 1 pod document
make[6]: Leaving directory `/root/.cpan/build/libapreq2-2.13-iTHLub/glue/perl/xs/APR/Request/Hook'
make[6]: Entering directory `/root/.cpan/build/libapreq2-2.13-iTHLub/glue/perl/xs/APR/Request/Param'
Running Mkbootstrap for APR::Request::Param ()
chmod 644 "Param.bs"
Manifying 1 pod document
make[6]: Leaving directory `/root/.cpan/build/libapreq2-2.13-iTHLub/glue/perl/xs/APR/Request/Param'
make[6]: Entering directory `/root/.cpan/build/libapreq2-2.13-iTHLub/glue/perl/xs/APR/Request/Parser'
Running Mkbootstrap for APR::Request::Parser ()
chmod 644 "Parser.bs"
Manifying 1 pod document
make[6]: Leaving directory `/root/.cpan/build/libapreq2-2.13-iTHLub/glue/perl/xs/APR/Request/Parser'
Running Mkbootstrap for APR::Request ()
chmod 644 "Request.bs"
Manifying 1 pod document
make[5]: Leaving directory `/root/.cpan/build/libapreq2-2.13-iTHLub/glue/perl/xs/APR/Request'
make[4]: Leaving directory `/root/.cpan/build/libapreq2-2.13-iTHLub/glue/perl/xs/APR'
make[3]: Leaving directory `/root/.cpan/build/libapreq2-2.13-iTHLub/glue/perl/xs'
Manifying 3 pod documents
make[2]: Leaving directory `/root/.cpan/build/libapreq2-2.13-iTHLub/glue/perl'
make[1]: Leaving directory `/root/.cpan/build/libapreq2-2.13-iTHLub/glue'
cd library; /bin/make test
make[1]: Entering directory `/root/.cpan/build/libapreq2-2.13-iTHLub/library'
/bin/make all-am
make[2]: Entering directory `/root/.cpan/build/libapreq2-2.13-iTHLub/library'
make[2]: Nothing to be done for `all-am'.
make[2]: Leaving directory `/root/.cpan/build/libapreq2-2.13-iTHLub/library'
cd t; /bin/make test
make[2]: Entering directory `/root/.cpan/build/libapreq2-2.13-iTHLub/library/t'
gcc -DHAVE_CONFIG_H -I. -I../../include -I/usr/local/apache/include -DLINUX -D_REENTRANT -D_GNU_SOURCE -g -O2 -MT version.o -MD -MP -MF .deps/version.Tpo -c -o version.o version.c
mv -f .deps/version.Tpo .deps/version.Po
gcc -DHAVE_CONFIG_H -I. -I../../include -I/usr/local/apache/include -DLINUX -D_REENTRANT -D_GNU_SOURCE -g -O2 -MT at.o -MD -MP -MF .deps/at.Tpo -c -o at.o at.c
mv -f .deps/at.Tpo .deps/at.Po
rm -f libapache_test.a
ar cru libapache_test.a at.o
ranlib libapache_test.a
/bin/sh ../../libtool --tag=CC --mode=link gcc -g -O2 `/root/.cpan/build/libapreq2-2.13-iTHLub/apreq2-config --link-libtool --libs` /usr/local/apache/lib/libapr-1.la /usr/local/apache/lib/libaprutil-1.la -o version version.o libapache_test.a
mkdir .libs
gcc -g -O2 -o .libs/version version.o /root/.cpan/build/libapreq2-2.13-iTHLub/library/.libs/libapreq2.so -lrt -lcrypt -lpthread -ldl -lexpat /usr/local/apache/lib/libapr-1.so /usr/local/apache/lib/libaprutil-1.so libapache_test.a -Wl,--rpath -Wl,/usr/local/apache/lib
creating version
echo "#!perl" > version.t
echo "exec './version'" >> version.t
gcc -DHAVE_CONFIG_H -I. -I../../include -I/usr/local/apache/include -DLINUX -D_REENTRANT -D_GNU_SOURCE -g -O2 -MT cookie.o -MD -MP -MF .deps/cookie.Tpo -c -o cookie.o cookie.c
mv -f .deps/cookie.Tpo .deps/cookie.Po
/bin/sh ../../libtool --tag=CC --mode=link gcc -g -O2 `/root/.cpan/build/libapreq2-2.13-iTHLub/apreq2-config --link-libtool --libs` /usr/local/apache/lib/libapr-1.la /usr/local/apache/lib/libaprutil-1.la -o cookie cookie.o libapache_test.a
gcc -g -O2 -o .libs/cookie cookie.o /root/.cpan/build/libapreq2-2.13-iTHLub/library/.libs/libapreq2.so -lrt -lcrypt -lpthread -ldl -lexpat /usr/local/apache/lib/libapr-1.so /usr/local/apache/lib/libaprutil-1.so libapache_test.a -Wl,--rpath -Wl,/usr/local/apache/lib
creating cookie
echo "#!perl" > cookie.t
echo "exec './cookie'" >> cookie.t
gcc -DHAVE_CONFIG_H -I. -I../../include -I/usr/local/apache/include -DLINUX -D_REENTRANT -D_GNU_SOURCE -g -O2 -MT params.o -MD -MP -MF .deps/params.Tpo -c -o params.o params.c
mv -f .deps/params.Tpo .deps/params.Po
/bin/sh ../../libtool --tag=CC --mode=link gcc -g -O2 `/root/.cpan/build/libapreq2-2.13-iTHLub/apreq2-config --link-libtool --libs` /usr/local/apache/lib/libapr-1.la /usr/local/apache/lib/libaprutil-1.la -o params params.o libapache_test.a
gcc -g -O2 -o .libs/params params.o /root/.cpan/build/libapreq2-2.13-iTHLub/library/.libs/libapreq2.so -lrt -lcrypt -lpthread -ldl -lexpat /usr/local/apache/lib/libapr-1.so /usr/local/apache/lib/libaprutil-1.so libapache_test.a -Wl,--rpath -Wl,/usr/local/apache/lib
creating params
echo "#!perl" > params.t
echo "exec './params'" >> params.t
gcc -DHAVE_CONFIG_H -I. -I../../include -I/usr/local/apache/include -DLINUX -D_REENTRANT -D_GNU_SOURCE -g -O2 -MT parsers.o -MD -MP -MF .deps/parsers.Tpo -c -o parsers.o parsers.c
mv -f .deps/parsers.Tpo .deps/parsers.Po
/bin/sh ../../libtool --tag=CC --mode=link gcc -g -O2 `/root/.cpan/build/libapreq2-2.13-iTHLub/apreq2-config --link-libtool --libs` /usr/local/apache/lib/libapr-1.la /usr/local/apache/lib/libaprutil-1.la -o parsers parsers.o libapache_test.a
gcc -g -O2 -o .libs/parsers parsers.o /root/.cpan/build/libapreq2-2.13-iTHLub/library/.libs/libapreq2.so -lrt -lcrypt -lpthread -ldl -lexpat /usr/local/apache/lib/libapr-1.so /usr/local/apache/lib/libaprutil-1.so libapache_test.a -Wl,--rpath -Wl,/usr/local/apache/lib
creating parsers
echo "#!perl" > parsers.t
echo "exec './parsers'" >> parsers.t
gcc -DHAVE_CONFIG_H -I. -I../../include -I/usr/local/apache/include -DLINUX -D_REENTRANT -D_GNU_SOURCE -g -O2 -MT error.o -MD -MP -MF .deps/error.Tpo -c -o error.o error.c
mv -f .deps/error.Tpo .deps/error.Po
/bin/sh ../../libtool --tag=CC --mode=link gcc -g -O2 `/root/.cpan/build/libapreq2-2.13-iTHLub/apreq2-config --link-libtool --libs` /usr/local/apache/lib/libapr-1.la /usr/local/apache/lib/libaprutil-1.la -o error error.o libapache_test.a
gcc -g -O2 -o .libs/error error.o /root/.cpan/build/libapreq2-2.13-iTHLub/library/.libs/libapreq2.so -lrt -lcrypt -lpthread -ldl -lexpat /usr/local/apache/lib/libapr-1.so /usr/local/apache/lib/libaprutil-1.so libapache_test.a -Wl,--rpath -Wl,/usr/local/apache/lib
creating error
echo "#!perl" > error.t
echo "exec './error'" >> error.t
gcc -DHAVE_CONFIG_H -I. -I../../include -I/usr/local/apache/include -DLINUX -D_REENTRANT -D_GNU_SOURCE -g -O2 -MT util.o -MD -MP -MF .deps/util.Tpo -c -o util.o util.c
mv -f .deps/util.Tpo .deps/util.Po
/bin/sh ../../libtool --tag=CC --mode=link gcc -g -O2 `/root/.cpan/build/libapreq2-2.13-iTHLub/apreq2-config --link-libtool --libs` /usr/local/apache/lib/libapr-1.la /usr/local/apache/lib/libaprutil-1.la -o util util.o libapache_test.a
gcc -g -O2 -o .libs/util util.o /root/.cpan/build/libapreq2-2.13-iTHLub/library/.libs/libapreq2.so -lrt -lcrypt -lpthread -ldl -lexpat /usr/local/apache/lib/libapr-1.so /usr/local/apache/lib/libaprutil-1.so libapache_test.a -Wl,--rpath -Wl,/usr/local/apache/lib
creating util
echo "#!perl" > util.t
echo "exec './util'" >> util.t
/usr/local/bin/perl -MTest::Harness -e 'runtests(@ARGV)' version.t cookie.t params.t parsers.t error.t util.t
version.t .. ok
cookie.t ... ok
params.t ... ok
parsers.t .. ok
error.t .... ok
util.t ..... ok
All tests successful.
Files=6, Tests=757, 3 wallclock secs ( 0.10 usr 0.01 sys + 2.85 cusr 0.10 csys = 3.06 CPU)
Result: PASS
make[2]: Leaving directory `/root/.cpan/build/libapreq2-2.13-iTHLub/library/t'
make[1]: Leaving directory `/root/.cpan/build/libapreq2-2.13-iTHLub/library'
cd module; /bin/make test
make[1]: Entering directory `/root/.cpan/build/libapreq2-2.13-iTHLub/module'
Making all in apache2
make[2]: Entering directory `/root/.cpan/build/libapreq2-2.13-iTHLub/module/apache2'
make[2]: Nothing to be done for `all'.
make[2]: Leaving directory `/root/.cpan/build/libapreq2-2.13-iTHLub/module/apache2'
make[2]: Entering directory `/root/.cpan/build/libapreq2-2.13-iTHLub/module'
make[2]: Nothing to be done for `all-am'.
make[2]: Leaving directory `/root/.cpan/build/libapreq2-2.13-iTHLub/module'
Making check in apache2
make[2]: Entering directory `/root/.cpan/build/libapreq2-2.13-iTHLub/module/apache2'
make[2]: Nothing to be done for `check'.
make[2]: Leaving directory `/root/.cpan/build/libapreq2-2.13-iTHLub/module/apache2'
make[2]: Entering directory `/root/.cpan/build/libapreq2-2.13-iTHLub/module'
make[2]: Nothing to be done for `check-am'.
make[2]: Leaving directory `/root/.cpan/build/libapreq2-2.13-iTHLub/module'
/usr/local/bin/perl -MApache::TestMM -e 'package Apache::TestMM; filter_args(); generate_script("t/TEST")' -- -apxs /usr/local/apache/bin/apxs
[ info] generating script t/TEST
if [ ! -d t/cgi-bin ]; then mkdir t/cgi-bin; fi
cp -f test_cgi t/cgi-bin
cp -Rp .libs t/cgi-bin
MAKE=/bin/make /usr/local/bin/perl t/TEST
[warning] setting ulimit to allow core files
ulimit -c unlimited; /usr/local/bin/perl /root/.cpan/build/libapreq2-2.13-iTHLub/module/t/TEST
[ debug] configuring httpd
[ debug] Using httpd: /usr/local/apache/bin/httpd
[ debug] isolated httpd_info VERSION = Apache/2.2.29 (Unix)
[ debug] isolated httpd_info BUILT = Nov 13 2014 14:35:22
[ debug] isolated httpd_info MODULE_MAGIC_NUMBER = 20051115:36
[ debug] isolated httpd_info SERVER_MPM = Prefork
[ debug] isolated httpd_defines APACHE_MPM_DIR = server/mpm/prefork
[ debug] isolated httpd_defines APR_HAS_SENDFILE = 1
[ debug] isolated httpd_defines APR_HAS_MMAP = 1
[ debug] isolated httpd_defines APR_HAVE_IPV6 (IPv4-mapped addresses enabled) = 1
[ debug] isolated httpd_defines APR_USE_SYSVSEM_SERIALIZE = 1
[ debug] isolated httpd_defines APR_USE_PTHREAD_SERIALIZE = 1
[ debug] isolated httpd_defines SINGLE_LISTEN_UNSERIALIZED_ACCEPT = 1
[ debug] isolated httpd_defines APR_HAS_OTHER_CHILD = 1
[ debug] isolated httpd_defines AP_HAVE_RELIABLE_PIPED_LOGS = 1
[ debug] isolated httpd_defines DYNAMIC_MODULE_LIMIT = 128
[ debug] isolated httpd_defines HTTPD_ROOT = /usr/local/apache
[ debug] isolated httpd_defines SUEXEC_BIN = /usr/local/apache/bin/suexec
[ debug] isolated httpd_defines DEFAULT_PIDLOG = logs/httpd.pid
[ debug] isolated httpd_defines DEFAULT_SCOREBOARD = logs/apache_runtime_status
[ debug] isolated httpd_defines DEFAULT_LOCKFILE = logs/accept.lock
[ debug] isolated httpd_defines DEFAULT_ERRORLOG = logs/error_log
[ debug] isolated httpd_defines AP_TYPES_CONFIG_FILE = conf/mime.types
[ debug] isolated httpd_defines SERVER_CONFIG_FILE = conf/httpd.conf
[ debug] inheriting config file: /usr/local/apache/conf/httpd.conf
[ debug] using httpd.conf inherited ServerRoot to resolve conf/mime.types
[ debug] conf/mime.types successfully resolved to existing file /usr/local/apache/conf/mime.types
[ debug] Matched Apache revision Apache/2.2.29 2
[ error] configure() has failed:
Use of each() on hash after insertion without resetting hash iterator results in undefined behavior at /usr/local/lib/perl5/site_perl/5.20.1/x86_64-linux/Apache/TestSSLCA.pm line 103.
Compilation failed in require at /usr/local/lib/perl5/site_perl/5.20.1/x86_64-linux/Apache/TestConfig.pm line 1474.
[warning] forcing Apache::TestConfig object save
[ debug] generating conf/apache_test_config.pm
[ debug] saving config data to apache_test_config.pm
[warning] run 't/TEST -clean' to clean up before continuing
make[1]: *** [run_tests] Error 1
make[1]: Leaving directory `/root/.cpan/build/libapreq2-2.13-iTHLub/module'
make: *** [module_test] Error 2
------------------------------
PREREQUISITES
------------------------------
Prerequisite modules loaded:
requires:
Module Need Have
------------------- -------- --------
Apache::Test 1.04 1.37
ExtUtils::MakeMaker 6.15 7.02
ExtUtils::XSBuilder 0.23 0.28
mod_perl2 1.999022 2.000008
Test::More 0.47 1.001002
------------------------------
ENVIRONMENT AND OTHER CONTEXT
------------------------------
Environment variables:
LANG = en_GB.UTF-8
PATH = /usr/local/apache/bin:/usr/local/bin:/usr/local/sbin:/usr/local/bin:/sbin:/bin:/usr/sbin:/usr/bin:/root/bin
PERL5LIB =
PERL5OPT =
PERL5_CPANPLUS_IS_RUNNING = 17644
PERL5_CPAN_IS_RUNNING = 17644
SHELL = /bin/bash
TERM = xterm
Perl special variables (and OS-specific diagnostics, for MSWin32):
$^X = /usr/local/bin/perl
$UID/$EUID = 0 / 0
$GID = 0 0
$EGID = 0 0
Perl module toolchain versions installed:
Module Have
------------------- --------
CPAN 2.05
CPAN::Meta 2.142690
Cwd 3.48
ExtUtils::CBuilder 0.280217
ExtUtils::Command 1.18
ExtUtils::Install 1.67
ExtUtils::MakeMaker 7.02
ExtUtils::Manifest 1.65
ExtUtils::ParseXS 3.24
File::Spec 3.48
JSON 2.90
JSON::PP 2.27203
Module::Build 0.4210
Module::Signature n/a
Parse::CPAN::Meta 1.4414
Test::Harness 3.30
Test::More 1.001002
YAML 1.13
YAML::Syck 1.27
version 0.9909
--
Summary of my perl5 (revision 5 version 20 subversion 1) configuration:
Platform:
osname=linux, osvers=3.10.0-123.9.3.el7.x86_64, archname=x86_64-linux
uname='linux cogendo1.hosting 3.10.0-123.9.3.el7.x86_64 #1 smp thu nov 6 15:06:03 utc 2014 x86_64 x86_64 x86_64 gnulinux '
config_args='-A ccflags=-fPIC -Dprefix=/usr/local'
hint=recommended, useposix=true, d_sigaction=define
useithreads=undef, usemultiplicity=undef
use64bitint=define, use64bitall=define, uselongdouble=undef
usemymalloc=n, bincompat5005=undef
Compiler:
cc='gcc', ccflags ='-m64 -mtune=nocona -fPIC -fwrapv -fno-strict-aliasing -pipe -fstack-protector -I/usr/local/include -D_LARGEFILE_SOURCE -D_FILE_OFFSET_BITS=64',
optimize='-O2',
cppflags='-m64 -mtune=nocona -fPIC -fwrapv -fno-strict-aliasing -pipe -fstack-protector -I/usr/local/include'
ccversion='', gccversion='4.8.2 20140120 (Red Hat 4.8.2-16)', gccosandvers=''
intsize=4, longsize=8, ptrsize=8, doublesize=8, byteorder=12345678
d_longlong=define, longlongsize=8, d_longdbl=define, longdblsize=16
ivtype='long', ivsize=8, nvtype='double', nvsize=8, Off_t='off_t', lseeksize=8
alignbytes=8, prototype=define
Linker and Libraries:
ld='gcc', ldflags ='-m64 -mtune=nocona -fPIC -fstack-protector -L/usr/local/lib'
libpth=/usr/local/lib /usr/lib /lib/../lib64 /usr/lib/../lib64 /lib /lib64 /usr/lib64 /usr/local/lib64
libs=-lnsl -ldl -lm -lcrypt -lutil -lc
perllibs=-lnsl -ldl -lm -lcrypt -lutil -lc
libc=libc-2.17.so, so=so, useshrplib=false, libperl=libperl.a
gnulibc_version='2.17'
Dynamic Linking:
dlsrc=dl_dlopen.xs, dlext=so, d_dlsymun=undef, ccdlflags='-Wl,-E'
cccdlflags='-m64 -mtune=nocona -fPIC', lddlflags='-m64 -mtune=nocona -fPIC -fwrapv -fno-strict-aliasing -pipe -fstack-protector -shared -O2 -L/usr/local/lib'
Characteristics of this binary (from libperl):
Compile-time options: HAS_TIMES PERLIO_LAYERS PERL_DONT_CREATE_GVSV
PERL_HASH_FUNC_ONE_AT_A_TIME_HARD PERL_MALLOC_WRAP
PERL_NEW_COPY_ON_WRITE PERL_PRESERVE_IVUV
USE_64_BIT_ALL USE_64_BIT_INT USE_LARGE_FILES
USE_LOCALE USE_LOCALE_COLLATE USE_LOCALE_CTYPE
USE_LOCALE_NUMERIC USE_PERLIO USE_PERL_ATOF
Built under linux
Compiled at Nov 14 2014 16:18:31
%ENV:
PERL5LIB=""
PERL5OPT=""
PERL5_CPANPLUS_IS_RUNNING="17644"
PERL5_CPAN_IS_RUNNING="17644"
@INC:
/usr/local/lib/perl5/site_perl/5.20.1/x86_64-linux
/usr/local/lib/perl5/site_perl/5.20.1
/usr/local/lib/perl5/5.20.1/x86_64-linux
/usr/local/lib/perl5/5.20.1
.