RDF-Query v2.919 Perl 5 v5.16.3 x86_64-linux

Status
Pass
From
David Cantrell (DCANTRELL)
Dist
RDF-Query v2.919
Platform
Perl 5 v5.16.3 x86_64-linux
Date
2024-06-14 23:42:25
ID
c0c90882-2aa7-11ef-995f-c4746ba40f4e
This distribution has been tested as part of the CPAN Testers
project, supporting the Perl programming language.  See
http://wiki.cpantesters.org/ for more information or email
questions to cpan-testers-discuss@perl.org


--
Dear Gregory Todd Williams,

This is a computer-generated report for RDF-Query-2.919
on perl 5.16.3, created by CPAN-Reporter-1.2019.

Thank you for uploading your work to CPAN.  Congratulations!
All tests were successful.

Sections of this report:

    * Tester comments
    * Program output
    * Prerequisites
    * Environment and other context

------------------------------
TESTER COMMENTS
------------------------------

Additional comments from tester:

this report is from an automated smoke testing program
and was not reviewed by a human for accuracy

------------------------------
PROGRAM OUTPUT
------------------------------

Output from '/usr/bin/make test':

PERL_DL_NONLAZY=1 "/home/david/cpantesting/perl-5.16.3/bin/perl" "-MExtUtils::Command::MM" "-MTest::Harness" "-e" "undef *Test::Harness::Switches; test_harness(0, 'inc', 'blib/lib', 'blib/arch')" t/*.t
t/00-simple.t .................... ok
t/01-coverage.t .................. ok
t/algebra-bgp.t .................. ok
t/algebra-expr.t ................. ok
t/algebra-func.t ................. ok
t/algebra-subsumption.t .......... ok
t/algebra.t ...................... ok
t/constraints.t .................. ok
t/dataset-from-file.t ............ ok
t/dataset-from-net.t ............. skipped: No network. Set RDFQUERY_NETWORK_TESTS to run these tests.
t/dev-computed-statements.t ...... ok
t/ext-select-expr.t .............. ok
t/filters.t ...................... ok
t/functions.t .................... ok
t/hooks.t ........................ skipped: No network. Set RDFQUERY_NETWORK_TESTS to run these tests.
t/iterators.t .................... ok
t/literals.t ..................... ok
t/named-graphs.t ................. ok
t/optional.t ..................... ok
t/plan.t ......................... skipped: Developer tests. Set RDFQUERY_DEV_TESTS to run these tests.
t/protocol-serialization.t ....... ok
t/queryform-ask.t ................ ok
t/queryform-construct.t .......... ok
t/queryform-describe.t ........... ok
t/rdql.t ......................... ok
t/resultforms.t .................. ok
t/serialize.t .................... ok
t/sparql11-aggregates.t .......... ok
t/sparql11-federation.t .......... ok
t/sparql11-negation.t ............ ok
t/sparql11-propery_paths.t ....... ok
t/sparql11-select_expressions.t .. ok
t/sparql11-subselect.t ........... ok
t/sparql11-update.t .............. ok
t/syntactic_forms.t .............. ok
t/union.t ........................ ok
All tests successful.
Files=36, Tests=1143, 489 wallclock secs ( 0.48 usr  0.13 sys + 76.22 cusr  8.53 csys = 85.36 CPU)
Result: PASS

------------------------------
PREREQUISITES
------------------------------

Prerequisite modules loaded:

requires:

    Module                   Need  Have    
    ------------------------ ----- --------
    Data::UUID               0     1.226   
    DateTime::Format::W3CDTF 0     0.08    
    Digest::SHA              0     6.04    
    Error                    0     0.17029 
    File::Spec               0     3.75    
    File::Temp               0     0.2311  
    I18N::LangTags           0     0.38    
    JSON                     2     4.10    
    Module::Pluggable        0     5.2     
    Parse::RecDescent        0     1.967015
    RDF::Trine               1.004 1.019   
    Scalar::Util             0     1.63    
    Set::Scalar              0     1.29    
    URI                      1.52  5.21    

build_requires:

    Module                   Need  Have    
    ------------------------ ----- --------
    ExtUtils::MakeMaker      6.36  7.70    
    FindBin                  0     1.53    
    Test::Exception          0     0.43    
    Test::JSON               0     0.11    
    Test::More               0.88  1.302198
    YAML                     0     1.30    

configure_requires:

    Module                   Need  Have    
    ------------------------ ----- --------
    ExtUtils::MakeMaker      6.36  7.70    


------------------------------
ENVIRONMENT AND OTHER CONTEXT
------------------------------

Environment variables:

    AUTOMATED_TESTING = 1
    LANG = en_GB.UTF-8
    LANGUAGE = en_GB:en
    LC_TERMINAL = iTerm2
    LC_TERMINAL_VERSION = 3.5.0
    NONINTERACTIVE_TESTING = 1
    PATH = /home/david/.nvm/versions/node/v20.14.0/bin:/home/david/.cargo/bin:/home/david/perl5/perlbrew/bin:/home/david/perl5/perlbrew/perls/perl-5.30.2/bin:/home/david/bin:/usr/local/bin:/usr/bin:/bin:/usr/local/games:/usr/games
    PERL = 5.16.3
    PERL5LIB = 
    PERL5OPT = 
    PERL5_CPANPLUS_IS_RUNNING = 1563165
    PERL5_CPAN_IS_RUNNING = 1563165
    PERLBREW_HOME = /home/david/.perlbrew
    PERLBREW_MANPATH = /home/david/perl5/perlbrew/perls/perl-5.30.2/man
    PERLBREW_PATH = /home/david/perl5/perlbrew/bin:/home/david/perl5/perlbrew/perls/perl-5.30.2/bin
    PERLBREW_PERL = perl-5.30.2
    PERLBREW_ROOT = /home/david/perl5/perlbrew
    PERLBREW_SHELLRC_VERSION = 0.98
    PERLBREW_VERSION = 0.98
    PERLVER = 5.16.3
    PERL_INLINE_DIRECTORY = /home/david/.Inline-5.16.3
    PERL_MM_USE_DEFAULT = 1
    PERL_USE_UNSAFE_INC = 0
    SHELL = /bin/bash
    TERM = screen

Perl special variables (and OS-specific diagnostics, for MSWin32):

    $^X = /home/david/cpantesting/perl-5.16.3/bin/perl
    $UID/$EUID = 1000 / 1000
    $GID = 1000 24 25 27 29 30 44 46 109 1000
    $EGID = 1000 24 25 27 29 30 44 46 109 1000

Perl module toolchain versions installed:

    Module              Have    
    ------------------- --------
    CPAN                1.9800  
    CPAN::Meta          2.150010
    Cwd                 3.75    
    ExtUtils::CBuilder  0.280236
    ExtUtils::Command   7.70    
    ExtUtils::Install   2.22    
    ExtUtils::MakeMaker 7.70    
    ExtUtils::Manifest  1.75    
    ExtUtils::ParseXS   3.51    
    File::Spec          3.75    
    JSON                4.10    
    JSON::PP            4.16    
    Module::Build       0.4234  
    Module::Signature   n/a     
    Parse::CPAN::Meta   2.150010
    Test2               1.302198
    Test::Harness       3.48    
    Test::More          1.302198
    YAML                1.30    
    YAML::Syck          n/a     
    version             0.9930  


--

Summary of my perl5 (revision 5 version 16 subversion 3) configuration:
   
  Platform:
    osname=linux, osvers=5.10.0-11-amd64, archname=x86_64-linux
    uname='linux cpantesting-linux 5.10.0-11-amd64 #1 smp debian 5.10.92-1 (2022-01-18) x86_64 gnulinux '
    config_args='-de -Dprefix=/home/david/cpantesting/perl-5.16.3'
    hint=recommended, useposix=true, d_sigaction=define
    useithreads=undef, usemultiplicity=undef
    useperlio=define, d_sfio=undef, uselargefiles=define, usesocks=undef
    use64bitint=define, use64bitall=define, uselongdouble=undef
    usemymalloc=n, bincompat5005=undef
  Compiler:
    cc='cc', ccflags ='-fwrapv -fno-strict-aliasing -pipe -fstack-protector -I/usr/local/include -D_LARGEFILE_SOURCE -D_FILE_OFFSET_BITS=64',
    optimize='-O2',
    cppflags='-fwrapv -fno-strict-aliasing -pipe -fstack-protector -I/usr/local/include'
    ccversion='', gccversion='10.2.1 20210110', gccosandvers=''
    intsize=4, longsize=8, ptrsize=8, doublesize=8, byteorder=12345678
    d_longlong=define, longlongsize=8, d_longdbl=define, longdblsize=16
    ivtype='long', ivsize=8, nvtype='double', nvsize=8, Off_t='off_t', lseeksize=8
    alignbytes=8, prototype=define
  Linker and Libraries:
    ld='cc', ldflags =' -fstack-protector -L/usr/local/lib'
    libpth=/usr/local/lib /lib/x86_64-linux-gnu /lib/../lib /usr/lib/x86_64-linux-gnu /usr/lib/../lib /lib /usr/lib /lib64 /usr/lib64
    libs=-lnsl -ldl -lm -lcrypt -lutil -lc
    perllibs=-lnsl -ldl -lm -lcrypt -lutil -lc
    libc=libc-2.31.so, so=so, useshrplib=false, libperl=libperl.a
    gnulibc_version='2.31'
  Dynamic Linking:
    dlsrc=dl_dlopen.xs, dlext=so, d_dlsymun=undef, ccdlflags='-Wl,-E'
    cccdlflags='-fPIC', lddlflags='-shared -O2 -L/usr/local/lib -fstack-protector'


Characteristics of this binary (from libperl): 
  Compile-time options: HAS_TIMES PERLIO_LAYERS PERL_DONT_CREATE_GVSV
                        PERL_MALLOC_WRAP PERL_PRESERVE_IVUV USE_64_BIT_ALL
                        USE_64_BIT_INT USE_LARGE_FILES USE_LOCALE
                        USE_LOCALE_COLLATE USE_LOCALE_CTYPE
                        USE_LOCALE_NUMERIC USE_PERLIO USE_PERL_ATOF
  Locally applied patches:
	Devel::PatchPerl 2.08
  Built under linux
  Compiled at Jul  5 2023 22:37:37
  %ENV:
    PERL="5.16.3"
    PERL5LIB=""
    PERL5OPT=""
    PERL5_CPANPLUS_IS_RUNNING="1563165"
    PERL5_CPAN_IS_RUNNING="1563165"
    PERLBREW_HOME="/home/david/.perlbrew"
    PERLBREW_MANPATH="/home/david/perl5/perlbrew/perls/perl-5.30.2/man"
    PERLBREW_PATH="/home/david/perl5/perlbrew/bin:/home/david/perl5/perlbrew/perls/perl-5.30.2/bin"
    PERLBREW_PERL="perl-5.30.2"
    PERLBREW_ROOT="/home/david/perl5/perlbrew"
    PERLBREW_SHELLRC_VERSION="0.98"
    PERLBREW_VERSION="0.98"
    PERLVER="5.16.3"
    PERL_INLINE_DIRECTORY="/home/david/.Inline-5.16.3"
    PERL_MM_USE_DEFAULT="1"
    PERL_USE_UNSAFE_INC="0"
  @INC:
    /home/david/cpantesting/perl-5.16.3/lib/site_perl/5.16.3/x86_64-linux
    /home/david/cpantesting/perl-5.16.3/lib/site_perl/5.16.3
    /home/david/cpantesting/perl-5.16.3/lib/5.16.3/x86_64-linux
    /home/david/cpantesting/perl-5.16.3/lib/5.16.3
    .