Back
From: metabase:user:320bfe00-2aae-11df-837a-5e0a49663a4f
Subject: PASS MooseX-WithCache-0.01002 v5.15.0 GNU/Linux
Date: 2011-06-01T17:01:11Z
This distribution has been tested as part of the CPAN Testers
project, supporting the Perl programming language. See
http://wiki.cpantesters.org/ for more information or email
questions to cpan-testers-discuss@perl.org
--
Dear Daisuke Maki,
This is a computer-generated report for MooseX-WithCache-0.01002
on perl 5.15.0, created by CPAN-Reporter-1.1902.
Thank you for uploading your work to CPAN. Congratulations!
All tests were successful.
Sections of this report:
* Tester comments
* Program output
* Prerequisites
* Environment and other context
------------------------------
TESTER COMMENTS
------------------------------
Additional comments from tester:
none provided
------------------------------
PROGRAM OUTPUT
------------------------------
Output from '/usr/bin/make test':
make[1]: Entering directory `/home/sand/.cpan/build/MooseX-WithCache-0.01002-owQzhj'
PERL_DL_NONLAZY=1 /home/sand/src/perl/repoperls/installed-perls/perl/v5.14.0-339-ge2316ad/1df5/bin/perl "-MExtUtils::Command::MM" "-e" "test_harness(0, 'inc', 'blib/lib', 'blib/arch')" t/*.t t/*/*.t
t/00_compile.t ............... ok
Use of qw(...) as parentheses is deprecated at t/02_memcached.t line 25.
t/02_memcached.t ............. skipped: no memcached server found
must specify either 'datastore' hashref or 'global' flag at /home/src/perl/repoperls/installed-perls/perl/v5.14.0-339-ge2316ad/1df5/lib/site_perl/5.15.0/CHI/Driver/Memory.pm line 37
CHI::Driver::Memory::BUILD('Moose::Meta::Class::__ANON__::SERIAL::4=HASH(0x272ada0)', 'HASH(0x2b0ecd0)') called at /home/src/perl/repoperls/installed-perls/perl/v5.14.0-339-ge2316ad/1df5/lib/site_perl/5.15.0/x86_64-linux/Class/MOP/Method.pm line 125
Class::MOP::Method::execute('Moose::Meta::Method=HASH(0x2aeab08)', 'Moose::Meta::Class::__ANON__::SERIAL::4=HASH(0x272ada0)', 'HASH(0x2b0ecd0)') called at /home/src/perl/repoperls/installed-perls/perl/v5.14.0-339-ge2316ad/1df5/lib/site_perl/5.15.0/x86_64-linux/Moose/Object.pm line 59
Moose::Object::BUILDALL('Moose::Meta::Class::__ANON__::SERIAL::4=HASH(0x272ada0)', 'HASH(0x2b0ecd0)') called at /home/src/perl/repoperls/installed-perls/perl/v5.14.0-339-ge2316ad/1df5/lib/site_perl/5.15.0/x86_64-linux/Moose/Meta/Class.pm line 246
Moose::Meta::Class::new_object('Moose::Meta::Class=HASH(0x271cdb8)', 'HASH(0x2b0ecd0)') called at /home/src/perl/repoperls/installed-perls/perl/v5.14.0-339-ge2316ad/1df5/lib/site_perl/5.15.0/x86_64-linux/Moose/Object.pm line 28
Moose::Object::new('Moose::Meta::Class::__ANON__::SERIAL::4', 'chi_root_class', 'CHI', 'driver_class', 'CHI::Driver::Memory') called at constructor CHI::Driver::Memory::new (defined at /home/src/perl/repoperls/installed-perls/perl/v5.14.0-339-ge2316ad/1df5/lib/site_perl/5.15.0/CHI/Driver/Memory.pm line 18) line 4
CHI::Driver::Memory::new('Moose::Meta::Class::__ANON__::SERIAL::4', 'chi_root_class', 'CHI', 'driver_class', 'CHI::Driver::Memory') called at /home/src/perl/repoperls/installed-perls/perl/v5.14.0-339-ge2316ad/1df5/lib/site_perl/5.15.0/CHI.pm line 77
CHI::new('CHI', 'driver', 'Memory') called at t/03_chi.t line 29
t/03_chi.t ................... ok
t/04_fastmmap.t .............. ok
t/deprecated/00_compile.t .... ok
Use of qw(...) as parentheses is deprecated at t/deprecated/02_memcached.t line 20.
t/deprecated/02_memcached.t .. skipped: no memcached server found
must specify either 'datastore' hashref or 'global' flag at /home/src/perl/repoperls/installed-perls/perl/v5.14.0-339-ge2316ad/1df5/lib/site_perl/5.15.0/CHI/Driver/Memory.pm line 37
CHI::Driver::Memory::BUILD('Moose::Meta::Class::__ANON__::SERIAL::4=HASH(0x155dd20)', 'HASH(0x1940fc8)') called at /home/src/perl/repoperls/installed-perls/perl/v5.14.0-339-ge2316ad/1df5/lib/site_perl/5.15.0/x86_64-linux/Class/MOP/Method.pm line 125
Class::MOP::Method::execute('Moose::Meta::Method=HASH(0x1925240)', 'Moose::Meta::Class::__ANON__::SERIAL::4=HASH(0x155dd20)', 'HASH(0x1940fc8)') called at /home/src/perl/repoperls/installed-perls/perl/v5.14.0-339-ge2316ad/1df5/lib/site_perl/5.15.0/x86_64-linux/Moose/Object.pm line 59
Moose::Object::BUILDALL('Moose::Meta::Class::__ANON__::SERIAL::4=HASH(0x155dd20)', 'HASH(0x1940fc8)') called at /home/src/perl/repoperls/installed-perls/perl/v5.14.0-339-ge2316ad/1df5/lib/site_perl/5.15.0/x86_64-linux/Moose/Meta/Class.pm line 246
Moose::Meta::Class::new_object('Moose::Meta::Class=HASH(0x15544d0)', 'HASH(0x1940fc8)') called at /home/src/perl/repoperls/installed-perls/perl/v5.14.0-339-ge2316ad/1df5/lib/site_perl/5.15.0/x86_64-linux/Moose/Object.pm line 28
Moose::Object::new('Moose::Meta::Class::__ANON__::SERIAL::4', 'chi_root_class', 'CHI', 'driver_class', 'CHI::Driver::Memory') called at constructor CHI::Driver::Memory::new (defined at /home/src/perl/repoperls/installed-perls/perl/v5.14.0-339-ge2316ad/1df5/lib/site_perl/5.15.0/CHI/Driver/Memory.pm line 18) line 4
CHI::Driver::Memory::new('Moose::Meta::Class::__ANON__::SERIAL::4', 'chi_root_class', 'CHI', 'driver_class', 'CHI::Driver::Memory') called at /home/src/perl/repoperls/installed-perls/perl/v5.14.0-339-ge2316ad/1df5/lib/site_perl/5.15.0/CHI.pm line 77
CHI::new('CHI', 'driver', 'Memory') called at t/deprecated/03_chi.t line 30
t/deprecated/03_chi.t ........ ok
t/deprecated/04_fastmmap.t ... ok
All tests successful.
Files=8, Tests=62, 2 wallclock secs ( 0.03 usr 0.03 sys + 2.10 cusr 0.23 csys = 2.39 CPU)
Result: PASS
make[1]: Leaving directory `/home/sand/.cpan/build/MooseX-WithCache-0.01002-owQzhj'
------------------------------
PREREQUISITES
------------------------------
Prerequisite modules loaded:
requires:
Module Need Have
--------------------------- ----- --------
Cache::Memcached 0 1.29
Data::Dumper 0 2.131
Digest::MD5 0 2.51
Moose 0.59 2.0002
MooseX::Role::Parameterized 0 0.26
perl 5.008 5.015000
build_requires:
Module Need Have
--------------------------- ----- --------
ExtUtils::MakeMaker 6.42 6.57_05
IO::Socket::INET 0 1.31
Test::Exception 0 0.31
Test::More 0 0.98
configure_requires:
Module Need Have
--------------------------- ----- --------
ExtUtils::MakeMaker 6.42 6.57_05
------------------------------
ENVIRONMENT AND OTHER CONTEXT
------------------------------
Environment variables:
LANG = en_US.UTF-8
LANGUAGE = en_US:en
PATH = /usr/lib/ccache:/home/sand/bin:/usr/local/bin:/usr/bin:/bin:/usr/bin/X11:/usr/games:/usr/local/perl/bin:/usr/X11/bin:/sbin:/usr/sbin
PERL5LIB = /home/sand/.cpan/build/ProjectBuilder-0.11.3-85eEIj/blib/arch:/home/sand/.cpan/build/ProjectBuilder-0.11.3-85eEIj/blib/lib
PERL5OPT =
PERL5_CPANPLUS_IS_RUNNING = 24739
PERL5_CPAN_IS_RUNNING = 24739
SHELL = /usr/bin/zsh
TERM = screen
Perl special variables (and OS-specific diagnostics, for MSWin32):
$^X = /home/sand/src/perl/repoperls/installed-perls/perl/v5.14.0-339-ge2316ad/1df5/bin/perl
$UID/$EUID = 1001 / 1001
$GID = 1001 1001
$EGID = 1001 1001
Perl module toolchain versions installed:
Module Have
------------------- --------
CPAN 1.9600
Cwd 3.36
ExtUtils::CBuilder 0.280204
ExtUtils::Command 1.17
ExtUtils::Install 1.56
ExtUtils::MakeMaker 6.57_05
ExtUtils::Manifest 1.58
ExtUtils::ParseXS 2.2210
File::Spec 3.33
Module::Build 0.3800
Module::Signature 0.68
Test::Harness 3.23
Test::More 0.98
YAML 0.73
YAML::Syck 1.17
version 0.89
--
Summary of my perl5 (revision 5 version 15 subversion 0) configuration:
Commit id: e2316ad3f3c85bfa967d2bacefc5f40905d0c76c
Platform:
osname=linux, osvers=2.6.39-1-amd64, archname=x86_64-linux
uname='linux k81 2.6.39-1-amd64 #1 smp tue may 24 14:34:19 utc 2011 x86_64 gnulinux '
config_args='-Dprefix=/home/src/perl/repoperls/installed-perls/perl/v5.14.0-339-ge2316ad/1df5 -Dinstallusrbinperl=n -Uversiononly -Dusedevel -des -Ui_db -Uuseithreads -Uuselongdouble -DDEBUGGING=-g'
hint=recommended, useposix=true, d_sigaction=define
useithreads=undef, usemultiplicity=undef
useperlio=define, d_sfio=undef, uselargefiles=define, usesocks=undef
use64bitint=define, use64bitall=define, uselongdouble=undef
usemymalloc=n, bincompat5005=undef
Compiler:
cc='cc', ccflags ='-fno-strict-aliasing -pipe -fstack-protector -I/usr/local/include -D_LARGEFILE_SOURCE -D_FILE_OFFSET_BITS=64',
optimize='-O2 -g',
cppflags='-fno-strict-aliasing -pipe -fstack-protector -I/usr/local/include'
ccversion='', gccversion='4.4.5', gccosandvers=''
intsize=4, longsize=8, ptrsize=8, doublesize=8, byteorder=12345678
d_longlong=define, longlongsize=8, d_longdbl=define, longdblsize=16
ivtype='long', ivsize=8, nvtype='double', nvsize=8, Off_t='off_t', lseeksize=8
alignbytes=8, prototype=define
Linker and Libraries:
ld='cc', ldflags =' -fstack-protector -L/usr/local/lib'
libpth=/usr/local/lib /lib/../lib /usr/lib/../lib /lib /usr/lib /usr/lib/x86_64-linux-gnu /lib64 /usr/lib64
libs=-lnsl -ldb -ldl -lm -lcrypt -lutil -lc
perllibs=-lnsl -ldl -lm -lcrypt -lutil -lc
libc=/lib/libc-2.13.so, so=so, useshrplib=false, libperl=libperl.a
gnulibc_version='2.13'
Dynamic Linking:
dlsrc=dl_dlopen.xs, dlext=so, d_dlsymun=undef, ccdlflags='-Wl,-E'
cccdlflags='-fPIC', lddlflags='-shared -O2 -g -L/usr/local/lib -fstack-protector'
Characteristics of this binary (from libperl):
Compile-time options: PERL_DONT_CREATE_GVSV PERL_MALLOC_WRAP
PERL_PRESERVE_IVUV PERL_USE_DEVEL USE_64_BIT_ALL
USE_64_BIT_INT USE_LARGE_FILES USE_LOCALE
USE_LOCALE_COLLATE USE_LOCALE_CTYPE
USE_LOCALE_NUMERIC USE_PERLIO USE_PERL_ATOF
Built under linux
Compiled at Jun 1 2011 07:24:47
%ENV:
PERL5LIB="/home/sand/.cpan/build/ProjectBuilder-0.11.3-85eEIj/blib/arch:/home/sand/.cpan/build/ProjectBuilder-0.11.3-85eEIj/blib/lib"
PERL5OPT=""
PERL5_CPANPLUS_IS_RUNNING="24739"
PERL5_CPAN_IS_RUNNING="24739"
@INC:
/home/sand/.cpan/build/ProjectBuilder-0.11.3-85eEIj/blib/arch
/home/sand/.cpan/build/ProjectBuilder-0.11.3-85eEIj/blib/lib
/home/src/perl/repoperls/installed-perls/perl/v5.14.0-339-ge2316ad/1df5/lib/site_perl/5.15.0/x86_64-linux
/home/src/perl/repoperls/installed-perls/perl/v5.14.0-339-ge2316ad/1df5/lib/site_perl/5.15.0
/home/src/perl/repoperls/installed-perls/perl/v5.14.0-339-ge2316ad/1df5/lib/5.15.0/x86_64-linux
/home/src/perl/repoperls/installed-perls/perl/v5.14.0-339-ge2316ad/1df5/lib/5.15.0
.