Test-Class-Moose v0.98 Perl 5 v5.28.1 darwin-2level

Status
Pass
From
Gregor Goldbach
Dist
Test-Class-Moose v0.98
Platform
Perl 5 v5.28.1 darwin-2level
Date
2019-11-13 10:31:28
ID
c04bc816-0600-11ea-b1dd-e13e21de6a2f
This distribution has been tested as part of the CPAN Testers
project, supporting the Perl programming language.  See
http://wiki.cpantesters.org/ for more information or email
questions to cpan-testers-discuss@perl.org


--
Dear DROLSKY,

This is a computer-generated report for Test-Class-Moose-0.98
on perl 5.28.1, created by App::cpanminus::reporter 0.17 (1.7044).

Thank you for uploading your work to CPAN.  Congratulations!
All tests were successful.

Sections of this report:

    * Tester comments
    * Program output
    * Prerequisites
    * Environment and other context

------------------------------
TESTER COMMENTS
------------------------------

Additional comments from tester:

none provided

------------------------------
PROGRAM OUTPUT
------------------------------

Output from '':

Building and testing Test-Class-Moose-0.98
cp lib/Test/Class/Moose/Report/Instance.pm blib/lib/Test/Class/Moose/Report/Instance.pm
cp lib/Test/Class/Moose/Role/Reporting.pm blib/lib/Test/Class/Moose/Role/Reporting.pm
cp lib/Test/Class/Moose/Role/CLI.pm blib/lib/Test/Class/Moose/Role/CLI.pm
cp lib/Test/Class/Moose/Config.pm blib/lib/Test/Class/Moose/Config.pm
cp lib/Test/Class/Moose/CLI.pm blib/lib/Test/Class/Moose/CLI.pm
cp lib/Test/Class/Moose/Role/AutoUse.pm blib/lib/Test/Class/Moose/Role/AutoUse.pm
cp lib/Test/Class/Moose/Util.pm blib/lib/Test/Class/Moose/Util.pm
cp lib/Test/Class/Moose/Runner.pm blib/lib/Test/Class/Moose/Runner.pm
cp lib/Test/Class/Moose/Tutorial.pm blib/lib/Test/Class/Moose/Tutorial.pm
cp lib/Test/Class/Moose/Report.pm blib/lib/Test/Class/Moose/Report.pm
cp lib/Test/Class/Moose.pm blib/lib/Test/Class/Moose.pm
cp lib/Test/Class/Moose/Role.pm blib/lib/Test/Class/Moose/Role.pm
cp lib/Test/Class/Moose/Role/Executor.pm blib/lib/Test/Class/Moose/Role/Executor.pm
cp lib/Test/Class/Moose/Report/Class.pm blib/lib/Test/Class/Moose/Report/Class.pm
cp lib/Test/Class/Moose/Report/Method.pm blib/lib/Test/Class/Moose/Report/Method.pm
cp lib/Test/Class/Moose/Role/HasTimeReport.pm blib/lib/Test/Class/Moose/Role/HasTimeReport.pm
cp lib/Test/Class/Moose/Deprecated.pm blib/lib/Test/Class/Moose/Deprecated.pm
cp lib/Test/Class/Moose/Role/ParameterizedInstances.pm blib/lib/Test/Class/Moose/Role/ParameterizedInstances.pm
cp lib/Test/Class/Moose/Report/Time.pm blib/lib/Test/Class/Moose/Report/Time.pm
cp lib/Test/Class/Moose/Load.pm blib/lib/Test/Class/Moose/Load.pm
cp lib/Test/Class/Moose/Executor/Sequential.pm blib/lib/Test/Class/Moose/Executor/Sequential.pm
cp lib/Test/Class/Moose/Executor/Parallel.pm blib/lib/Test/Class/Moose/Executor/Parallel.pm
cp lib/Test/Class/Moose/AttributeRegistry.pm blib/lib/Test/Class/Moose/AttributeRegistry.pm
Manifying 23 pod documents
PERL_DL_NONLAZY=1 "/Users/glauschwuffel/perl5/perlbrew/perls/perl-5.28.1/bin/perl" "-MExtUtils::Command::MM" "-MTest::Harness" "-e" "undef *Test::Harness::Switches; test_harness(0, 'blib/lib', 'blib/arch')" t/*.t
# 
# Versions for all modules listed in MYMETA.json (including optional ones):
# 
# === Configure Requires ===
# 
#     Module              Want Have
#     ------------------- ---- ----
#     ExtUtils::MakeMaker  any 7.38
# 
# === Build Requires ===
# 
#     Module              Want Have
#     ------------------- ---- ----
#     ExtUtils::MakeMaker  any 7.38
# 
# === Test Requires ===
# 
#     Module                    Want     Have
#     --------------------- -------- --------
#     ExtUtils::MakeMaker        any     7.38
#     File::Spec                 any     3.74
#     File::Temp                 any   0.2309
#     Test2::Tools::Basic        any 0.000118
#     Test2::Tools::Class        any 0.000118
#     Test2::Tools::Compare      any 0.000118
#     Test2::Tools::Subtest      any 0.000118
#     Test2::V0                  any 0.000118
#     Test::Builder              any 1.302168
#     Test::More            1.302015 1.302168
#     Test::Requires             any     0.10
#     Test::Warnings             any    0.026
#     lib                        any     0.64
# 
# === Test Recommends ===
# 
#     Module           Want     Have
#     ------------ -------- --------
#     CPAN::Meta   2.120900 2.150010
#     Test::Output   0.0005    1.031
# 
# === Runtime Requires ===
# 
#     Module                           Want     Have
#     ---------------------------- -------- --------
#     Benchmark                         any     1.22
#     Carp                              any     1.50
#     Class::MOP                        any   2.2011
#     Exporter                          any     5.73
#     File::Find                        any     1.34
#     File::Spec                        any     3.74
#     Import::Into                      any 1.002005
#     JSON::MaybeXS                     any 1.004000
#     List::SomeUtils                   any     0.56
#     List::Util                        any     1.50
#     Module::Runtime                   any    0.016
#     Module::Util                      any     1.09
#     Moose                          2.0000   2.2011
#     Moose::Role                    2.0000   2.2011
#     Moose::Util                       any   2.2011
#     Moose::Util::TypeConstraints      any   2.2011
#     MooseX::Getopt                   0.71     0.74
#     MooseX::Getopt::Dashes            any     0.74
#     Package::DeprecationManager      0.16     0.17
#     Parallel::ForkManager             any     2.02
#     Scalar::Util                      any     1.50
#     Sub::Attribute                    any     0.07
#     TAP::Formatter::Color            3.29     3.42
#     Test2                        1.302118 1.302168
#     Test2::API                        any 1.302168
#     Test2::AsyncSubtest          0.000018 0.000118
#     Test2::IPC                        any 1.302168
#     Test2::Tools::AsyncSubtest        any 0.000118
#     Test::Most                        any     0.35
#     Try::Tiny                         any     0.30
#     namespace::autoclean              any     0.28
#     strict                            any     1.11
#     warnings                          any     1.42
# 
# === Runtime Recommends ===
# 
#     Module                  Want Have
#     --------------------- ------ ----
#     Parallel::ForkManager v0.7.6 2.02
# 
t/00-report-prereqs.t .......... ok
t/autouse.t .................... ok
t/bad_subclass.t ............... ok
t/bare.t ....................... ok
t/basic.t ...................... ok
Can't stat t/lib/Local: No such file or directory
 at /Users/glauschwuffel/.cpanm/work/1573641014.21073/Test-Class-Moose-0.98/blib/lib/Test/Class/Moose/Load.pm line 73.
t/cli.t ........................ ok
t/environment.t ................ ok
t/executor_roles.t ............. ok
t/include_classes.t ............ ok
t/include_exclude.t ............ ok
t/load-special-characters.t .... ok
t/load.t ....................... ok
t/no_tests_run.t ............... ok
t/non_randomize_classes.t ...... ok
......................XX..t/parallel.t ................... ok
t/parameterized.t .............. ok
t/plans.t ...................... ok
t/process_name.t ............... ok
t/reportpassed.t ............... ok
t/skip.t ....................... ok
t/tags.t ....................... ok
t/test_class_is_not_loaded.t ... ok
t/test_control_methods.t ....... ok
t/test_control_methods_skip.t .. ok
t/timing.t ..................... ok
t/todo.t ....................... ok
All tests successful.
Files=26, Tests=215, 18 wallclock secs ( 0.19 usr  0.06 sys +  9.25 cusr  1.52 csys = 11.02 CPU)
Result: PASS

------------------------------
PREREQUISITES
------------------------------

Prerequisite modules loaded:

    No requirements found

------------------------------
ENVIRONMENT AND OTHER CONTEXT
------------------------------

Environment variables:

    LANG = de_DE.UTF-8
    PATH = /Users/glauschwuffel/perl5/perlbrew/bin:/Users/glauschwuffel/perl5/perlbrew/perls/perl-5.28.1/bin:/usr/local/bin:/usr/bin:/bin:/usr/sbin:/sbin:/Library/Apple/usr/bin:/Library/Apple/bin:/Library/TeX/texbin:/usr/local/MacGPG2/bin:/Applications/Wireshark.app/Contents/MacOS:/Users/glauschwuffel/bin
    PERL5LIB = /Users/glauschwuffel/adzuna/tools
    PERLBREW_HOME = /Users/glauschwuffel/.perlbrew
    PERLBREW_MANPATH = /Users/glauschwuffel/perl5/perlbrew/perls/perl-5.28.1/man
    PERLBREW_PATH = /Users/glauschwuffel/perl5/perlbrew/bin:/Users/glauschwuffel/perl5/perlbrew/perls/perl-5.28.1/bin
    PERLBREW_PERL = perl-5.28.1
    PERLBREW_ROOT = /Users/glauschwuffel/perl5/perlbrew
    PERLBREW_SHELLRC_VERSION = 0.86
    PERLBREW_VERSION = 0.86
    SHELL = /bin/bash
    TERM = xterm-256color
    TMPDIR = /var/folders/cz/3j2yfjp51xq3sm7x1_f77wdh0000gn/T/

Perl special variables (and OS-specific diagnostics, for MSWin32):

    EGID = 20 20 12 61 79 80 81 98 501 33 100 204 250 395 398 399 400
    EUID = 501
    EXECUTABLE_NAME = /Users/glauschwuffel/perl5/perlbrew/perls/perl-5.28.1/bin/perl
    GID = 20 20 12 61 79 80 81 98 501 33 100 204 250 395 398 399 400
    UID = 501

Perl module toolchain versions installed:

    Module              Have    
    ------------------- --------
    CPAN                2.20    
    CPAN::Meta          2.150010
    Cwd                 3.74    
    ExtUtils::CBuilder  0.280230
    ExtUtils::Command   7.38    
    ExtUtils::Install   2.14    
    ExtUtils::MakeMaker 7.38    
    ExtUtils::Manifest  1.70    
    ExtUtils::ParseXS   3.39    
    File::Spec          3.74    
    JSON                4.01    
    JSON::PP            2.97001 
    Module::Build       0.4224  
    Module::Signature   n/a     
    Parse::CPAN::Meta   2.150010
    Test::Harness       3.42    
    Test::More          1.302168
    YAML                1.27    
    YAML::Syck          1.31    
    version             0.9923  


--

Summary of my perl5 (revision 5 version 28 subversion 1) configuration:
   
  Platform:
    osname=darwin
    osvers=18.2.0
    archname=darwin-2level
    uname='darwin macbook-pro.multi.box 18.2.0 darwin kernel version 18.2.0: fri oct 5 19:41:49 pdt 2018; root:xnu-4903.221.2~2release_x86_64 x86_64 '
    config_args='-de -Dprefix=/Users/glauschwuffel/perl5/perlbrew/perls/perl-5.28.1 -Aeval:scriptdir=/Users/glauschwuffel/perl5/perlbrew/perls/perl-5.28.1/bin'
    hint=recommended
    useposix=true
    d_sigaction=define
    useithreads=undef
    usemultiplicity=undef
    use64bitint=define
    use64bitall=define
    uselongdouble=undef
    usemymalloc=n
    default_inc_excludes_dot=define
    bincompat5005=undef
  Compiler:
    cc='cc'
    ccflags ='-fno-common -DPERL_DARWIN -mmacosx-version-min=10.14 -fno-strict-aliasing -pipe -fstack-protector-strong -I/usr/local/include -DPERL_USE_SAFE_PUTENV'
    optimize='-O3'
    cppflags='-fno-common -DPERL_DARWIN -mmacosx-version-min=10.14 -fno-strict-aliasing -pipe -fstack-protector-strong -I/usr/local/include'
    ccversion=''
    gccversion='4.2.1 Compatible Apple LLVM 10.0.0 (clang-1000.11.45.5)'
    gccosandvers=''
    intsize=4
    longsize=8
    ptrsize=8
    doublesize=8
    byteorder=12345678
    doublekind=3
    d_longlong=define
    longlongsize=8
    d_longdbl=define
    longdblsize=16
    longdblkind=3
    ivtype='long'
    ivsize=8
    nvtype='double'
    nvsize=8
    Off_t='off_t'
    lseeksize=8
    alignbytes=8
    prototype=define
  Linker and Libraries:
    ld='cc'
    ldflags =' -mmacosx-version-min=10.14 -fstack-protector-strong -L/usr/local/lib'
    libpth=/usr/local/lib /Applications/Xcode.app/Contents/Developer/Toolchains/XcodeDefault.xctoolchain/usr/lib/clang/10.0.0/lib /Applications/Xcode.app/Contents/Developer/Toolchains/XcodeDefault.xctoolchain/usr/lib /Applications/Xcode.app/Contents/Developer/Platforms/MacOSX.platform/Developer/SDKs/MacOSX10.14.sdk/usr/lib /usr/lib
    libs=-lpthread -ldbm -ldl -lm -lutil -lc
    perllibs=-lpthread -ldl -lm -lutil -lc
    libc=
    so=dylib
    useshrplib=false
    libperl=libperl.a
    gnulibc_version=''
  Dynamic Linking:
    dlsrc=dl_dlopen.xs
    dlext=bundle
    d_dlsymun=undef
    ccdlflags=' '
    cccdlflags=' '
    lddlflags=' -mmacosx-version-min=10.14 -bundle -undefined dynamic_lookup -L/usr/local/lib -fstack-protector-strong'


Characteristics of this binary (from libperl): 
  Compile-time options:
    HAS_TIMES
    PERLIO_LAYERS
    PERL_COPY_ON_WRITE
    PERL_DONT_CREATE_GVSV
    PERL_MALLOC_WRAP
    PERL_OP_PARENT
    PERL_PRESERVE_IVUV
    PERL_USE_SAFE_PUTENV
    USE_64_BIT_ALL
    USE_64_BIT_INT
    USE_LARGE_FILES
    USE_LOCALE
    USE_LOCALE_COLLATE
    USE_LOCALE_CTYPE
    USE_LOCALE_NUMERIC
    USE_LOCALE_TIME
    USE_PERLIO
    USE_PERL_ATOF
  Locally applied patches:
    Devel::PatchPerl 1.52
  Built under darwin
  Compiled at Jan 26 2019 20:21:25
  %ENV:
    PERL5LIB="/Users/glauschwuffel/adzuna/tools"
    PERLBREW_HOME="/Users/glauschwuffel/.perlbrew"
    PERLBREW_MANPATH="/Users/glauschwuffel/perl5/perlbrew/perls/perl-5.28.1/man"
    PERLBREW_PATH="/Users/glauschwuffel/perl5/perlbrew/bin:/Users/glauschwuffel/perl5/perlbrew/perls/perl-5.28.1/bin"
    PERLBREW_PERL="perl-5.28.1"
    PERLBREW_ROOT="/Users/glauschwuffel/perl5/perlbrew"
    PERLBREW_SHELLRC_VERSION="0.86"
    PERLBREW_VERSION="0.86"
  @INC:
    /Users/glauschwuffel/adzuna/tools
    /Users/glauschwuffel/perl5/perlbrew/perls/perl-5.28.1/lib/site_perl/5.28.1/darwin-2level
    /Users/glauschwuffel/perl5/perlbrew/perls/perl-5.28.1/lib/site_perl/5.28.1
    /Users/glauschwuffel/perl5/perlbrew/perls/perl-5.28.1/lib/5.28.1/darwin-2level
    /Users/glauschwuffel/perl5/perlbrew/perls/perl-5.28.1/lib/5.28.1