Dist-Zilla-Plugin-MakeMaker-Fallback v0.030 Perl 5 v5.35.4 darwin-2level

Status
Pass
From
Karen Etheridge
Dist
Dist-Zilla-Plugin-MakeMaker-Fallback v0.030
Platform
Perl 5 v5.35.4 darwin-2level
Date
2021-09-27 05:42:49
ID
bffdc4d4-1f55-11ec-a4f9-fd586f2a3220
This distribution has been tested as part of the CPAN Testers
project, supporting the Perl programming language.  See
http://wiki.cpantesters.org/ for more information or email
questions to cpan-testers-discuss@perl.org


--
Dear ETHER,

This is a computer-generated report for Dist-Zilla-Plugin-MakeMaker-Fallback-0.030
on perl 5.35.4, created by App::cpanminus::reporter 0.17 (1.7044).

Thank you for uploading your work to CPAN.  Congratulations!
All tests were successful.

Sections of this report:

    * Tester comments
    * Program output
    * Prerequisites
    * Environment and other context

------------------------------
TESTER COMMENTS
------------------------------

Additional comments from tester:

none provided

------------------------------
PROGRAM OUTPUT
------------------------------

Output from '':

Building and testing Dist-Zilla-Plugin-MakeMaker-Fallback-0.030
# 
# Versions for all modules listed in MYMETA.json (including optional ones):
# 
# === Configure Requires ===
# 
#     Module               Want  Have
#     ------------------- ----- -----
#     ExtUtils::MakeMaker   any  7.62
#     Module::Build::Tiny 0.034 0.039
# 
# === Test Requires ===
# 
#     Module                                Want     Have
#     ------------------------------------ ----- --------
#     Capture::Tiny                          any     0.48
#     Dist::Zilla::Plugin::ModuleBuildTiny   any    0.015
#     Dist::Zilla::Role::InstallTool         any    6.024
#     File::Spec                             any     3.81
#     Module::Metadata                       any 1.000037
#     Path::Tiny                           0.062    0.118
#     Test::DZil                             any    6.024
#     Test::Deep                             any    1.130
#     Test::Fatal                            any    0.016
#     Test::More                            0.96 1.302185
#     Test::Needs                            any 0.002009
#     Try::Tiny                              any     0.30
#     if                                     any   0.0610
#     lib                                    any     0.65
# 
# === Test Recommends ===
# 
#     Module         Want     Have
#     ---------- -------- --------
#     CPAN::Meta 2.120900 2.150010
# 
# === Runtime Requires ===
# 
#     Module                                  Want     Have
#     --------------------------------------- ---- --------
#     Dist::Zilla::Plugin::MakeMaker::Awesome 0.47     0.49
#     Dist::Zilla::Role::AfterBuild            any    6.024
#     List::Util                               any 1.56_001
#     Moose                                    any   2.2015
#     namespace::autoclean                     any     0.29
#     strict                                   any     1.12
#     version                                  any   0.9929
#     warnings                                 any     1.54
# 
# === Other Modules ===
# 
#     Module                 Have
#     ------------------- -------
#     Encode                 3.12
#     File::Temp           0.2311
#     JSON::PP               4.06
#     Module::Build::Tiny   0.039
#     Module::Runtime       0.016
#     Pod::Coverage       missing
#     Sub::Name              0.26
#     YAML                missing
#     autodie                2.34
# 
t/00-report-prereqs.t .. ok
t/zzz-check-breaks.t ... ok
t/03-dump_config.t ..... ok
t/04-mvp-args.t ........ ok
t/01-basic.t ........... ok
t/02-test.t ............ ok
All tests successful.
Files=6, Tests=72,  3 wallclock secs ( 0.04 usr  0.02 sys +  6.57 cusr  0.95 csys =  7.58 CPU)
Result: PASS

------------------------------
PREREQUISITES
------------------------------

Prerequisite modules loaded:

    No requirements found

------------------------------
ENVIRONMENT AND OTHER CONTEXT
------------------------------

Environment variables:

    HARNESS_OPTIONS = j6:c
    LANG = en_CA.UTF-8
    NO_NETWORK_TESTING = 1
    PATH = /Volumes/amaretto/Users/ether/.perlbrew/libs/35.4@std/bin:/Volumes/amaretto/Users/ether/perl5/perlbrew/bin:/Volumes/amaretto/Users/ether/perl5/perlbrew/perls/35.4/bin:/Volumes/amaretto/Users/ether/bin:/Volumes/amaretto/Users/ether/git/misc/install/jaeger/bin:/Volumes/amaretto/Users/ether/git/misc/install/generic/bin:/opt/local/bin:/opt/local/sbin:/Volumes/amaretto/Users/ether/git/git-hub/lib:/usr/local/bin:/usr/bin:/bin:/usr/sbin:/sbin:/Library/Apple/usr/bin:/opt/local/share/git-core/contrib/workdir
    PERL5LIB = /Volumes/amaretto/Users/ether/.perlbrew/libs/35.4@std/lib/perl5
    PERLBREW_HOME = /Volumes/amaretto/Users/ether/.perlbrew
    PERLBREW_LIB = std
    PERLBREW_MANPATH = /Volumes/amaretto/Users/ether/.perlbrew/libs/35.4@std/man:/Volumes/amaretto/Users/ether/perl5/perlbrew/perls/35.4/man
    PERLBREW_PATH = /Volumes/amaretto/Users/ether/.perlbrew/libs/35.4@std/bin:/Volumes/amaretto/Users/ether/perl5/perlbrew/bin:/Volumes/amaretto/Users/ether/perl5/perlbrew/perls/35.4/bin
    PERLBREW_PERL = 35.4
    PERLBREW_ROOT = /Volumes/amaretto/Users/ether/perl5/perlbrew
    PERLBREW_SHELLRC_VERSION = 0.92
    PERLBREW_VERSION = 0.92
    PERLDOC = -oman
    PERLDOC_PAGER = less -sicMr
    PERL_AUTOINSTALL_PREFER_CPAN = 1
    PERL_INSTALL_QUIET = 1
    PERL_LOCAL_LIB_ROOT = /Volumes/amaretto/Users/ether/.perlbrew/libs/35.4@std
    PERL_MB_OPT = --install_base /Volumes/amaretto/Users/ether/.perlbrew/libs/35.4@std
    PERL_MM_OPT = INSTALL_BASE=/Volumes/amaretto/Users/ether/.perlbrew/libs/35.4@std
    PERL_TEST_HARNESS_ASAP = 1
    PERL_USE_UNSAFE_INC = 0
    SHELL = /bin/bash
    TERM = xterm-color

Perl special variables (and OS-specific diagnostics, for MSWin32):

    EGID = 20 20 12 61 79 80 81 98 701 33 100 204 250 395 398 399 400
    EUID = 502
    EXECUTABLE_NAME = /Volumes/amaretto/Users/ether/perl5/perlbrew/perls/35.4/bin/perl5.35.4
    GID = 20 20 12 61 79 80 81 98 701 33 100 204 250 395 398 399 400
    UID = 502

Perl module toolchain versions installed:

    Module              Have    
    ------------------- --------
    CPAN                2.28    
    CPAN::Meta          2.150010
    Cwd                 3.82    
    ExtUtils::CBuilder  0.280236
    ExtUtils::Command   7.62    
    ExtUtils::Install   2.20    
    ExtUtils::MakeMaker 7.62    
    ExtUtils::Manifest  1.73    
    ExtUtils::ParseXS   3.44    
    File::Spec          3.81    
    JSON                n/a     
    JSON::PP            4.06    
    Module::Build       0.4231  
    Module::Signature   n/a     
    Parse::CPAN::Meta   2.150010
    Test::Harness       3.43    
    Test::More          1.302185
    YAML                n/a     
    YAML::Syck          n/a     
    version             0.9929  


--

Summary of my perl5 (revision 5 version 35 subversion 4) configuration:
   
  Platform:
    osname=darwin
    osvers=19.6.0
    archname=darwin-2level
    uname='darwin jaeger 19.6.0 darwin kernel version 19.6.0: thu may 6 00:48:39 pdt 2021; root:xnu-6153.141.33~1release_x86_64 x86_64 '
    config_args='-de -Dprefix=/Volumes/amaretto/Users/ether/perl5/perlbrew/perls/35.4 -Dman1dir=none -Dman3dir=none -Dusedevel -Aeval:scriptdir=/Volumes/amaretto/Users/ether/perl5/perlbrew/perls/35.4/bin'
    hint=recommended
    useposix=true
    d_sigaction=define
    useithreads=undef
    usemultiplicity=undef
    use64bitint=define
    use64bitall=define
    uselongdouble=undef
    usemymalloc=n
    default_inc_excludes_dot=define
  Compiler:
    cc='cc'
    ccflags ='-fno-common -DPERL_DARWIN -mmacosx-version-min=10.15 -fno-strict-aliasing -pipe -fstack-protector-strong -I/opt/local/include -DPERL_USE_SAFE_PUTENV'
    optimize='-O3'
    cppflags='-fno-common -DPERL_DARWIN -mmacosx-version-min=10.15 -fno-strict-aliasing -pipe -fstack-protector-strong -I/opt/local/include'
    ccversion=''
    gccversion='Apple LLVM 12.0.0 (clang-1200.0.32.29)'
    gccosandvers=''
    intsize=4
    longsize=8
    ptrsize=8
    doublesize=8
    byteorder=12345678
    doublekind=3
    d_longlong=define
    longlongsize=8
    d_longdbl=define
    longdblsize=16
    longdblkind=3
    ivtype='long'
    ivsize=8
    nvtype='double'
    nvsize=8
    Off_t='off_t'
    lseeksize=8
    alignbytes=8
    prototype=define
  Linker and Libraries:
    ld='cc'
    ldflags =' -mmacosx-version-min=10.15 -fstack-protector-strong -L/opt/local/lib'
    libpth=/Applications/Xcode.app/Contents/Developer/Toolchains/XcodeDefault.xctoolchain/usr/lib/clang/12.0.0/lib /Library/Developer/CommandLineTools/SDKs/MacOSX.sdk/usr/lib /Applications/Xcode.app/Contents/Developer/Toolchains/XcodeDefault.xctoolchain/usr/lib /opt/local/lib /usr/lib
    libs=-lpthread -lgdbm -ldbm -ldl -lm -lutil -lc
    perllibs=-lpthread -ldl -lm -lutil -lc
    libc=
    so=dylib
    useshrplib=false
    libperl=libperl.a
    gnulibc_version=''
  Dynamic Linking:
    dlsrc=dl_dlopen.xs
    dlext=bundle
    d_dlsymun=undef
    ccdlflags=' '
    cccdlflags=' '
    lddlflags=' -mmacosx-version-min=10.15 -bundle -undefined dynamic_lookup -L/opt/local/lib -fstack-protector-strong'


Characteristics of this binary (from libperl): 
  Compile-time options:
    HAS_TIMES
    PERLIO_LAYERS
    PERL_COPY_ON_WRITE
    PERL_DONT_CREATE_GVSV
    PERL_MALLOC_WRAP
    PERL_OP_PARENT
    PERL_PRESERVE_IVUV
    PERL_USE_DEVEL
    PERL_USE_SAFE_PUTENV
    USE_64_BIT_ALL
    USE_64_BIT_INT
    USE_LARGE_FILES
    USE_LOCALE
    USE_LOCALE_COLLATE
    USE_LOCALE_CTYPE
    USE_LOCALE_NUMERIC
    USE_LOCALE_TIME
    USE_PERLIO
    USE_PERL_ATOF
  Built under darwin
  Compiled at Sep 26 2021 22:10:54
  %ENV:
    PERL5LIB="/Volumes/amaretto/Users/ether/.perlbrew/libs/35.4@std/lib/perl5"
    PERLBREW_HOME="/Volumes/amaretto/Users/ether/.perlbrew"
    PERLBREW_LIB="std"
    PERLBREW_MANPATH="/Volumes/amaretto/Users/ether/.perlbrew/libs/35.4@std/man:/Volumes/amaretto/Users/ether/perl5/perlbrew/perls/35.4/man"
    PERLBREW_PATH="/Volumes/amaretto/Users/ether/.perlbrew/libs/35.4@std/bin:/Volumes/amaretto/Users/ether/perl5/perlbrew/bin:/Volumes/amaretto/Users/ether/perl5/perlbrew/perls/35.4/bin"
    PERLBREW_PERL="35.4"
    PERLBREW_ROOT="/Volumes/amaretto/Users/ether/perl5/perlbrew"
    PERLBREW_SHELLRC_VERSION="0.92"
    PERLBREW_VERSION="0.92"
    PERLDOC="-oman"
    PERLDOC_PAGER="less -sicMr"
    PERL_AUTOINSTALL_PREFER_CPAN="1"
    PERL_INSTALL_QUIET="1"
    PERL_LOCAL_LIB_ROOT="/Volumes/amaretto/Users/ether/.perlbrew/libs/35.4@std"
    PERL_MB_OPT="--install_base /Volumes/amaretto/Users/ether/.perlbrew/libs/35.4@std"
    PERL_MM_OPT="INSTALL_BASE=/Volumes/amaretto/Users/ether/.perlbrew/libs/35.4@std"
    PERL_TEST_HARNESS_ASAP="1"
    PERL_USE_UNSAFE_INC="0"
  @INC:
    /Volumes/amaretto/Users/ether/.perlbrew/libs/35.4@std/lib/perl5/darwin-2level
    /Volumes/amaretto/Users/ether/.perlbrew/libs/35.4@std/lib/perl5
    /Volumes/amaretto/Users/ether/perl5/perlbrew/perls/35.4/lib/site_perl/5.35.4/darwin-2level
    /Volumes/amaretto/Users/ether/perl5/perlbrew/perls/35.4/lib/site_perl/5.35.4
    /Volumes/amaretto/Users/ether/perl5/perlbrew/perls/35.4/lib/5.35.4/darwin-2level
    /Volumes/amaretto/Users/ether/perl5/perlbrew/perls/35.4/lib/5.35.4