Number-Fraction vv3.0.4 Perl 5 v5.22.1 x86_64-linux-ld

Status
Pass
From
Andreas J. König (ANDK)
Dist
Number-Fraction vv3.0.4
Platform
Perl 5 v5.22.1 x86_64-linux-ld
Date
2023-12-27 22:31:59
ID
bf9cb36c-a507-11ee-a41c-1d54bcd696d7
This distribution has been tested as part of the CPAN Testers
project, supporting the Perl programming language.  See
http://wiki.cpantesters.org/ for more information or email
questions to cpan-testers-discuss@perl.org


--
Dear Dave Cross,

This is a computer-generated report for Number-Fraction-v3.0.4
on perl 5.22.1, created by CPAN-Reporter-1.2019.

Thank you for uploading your work to CPAN.  Congratulations!
All tests were successful.

Sections of this report:

    * Tester comments
    * Program output
    * Prerequisites
    * Environment and other context

------------------------------
TESTER COMMENTS
------------------------------

Additional comments from tester:

this report is from an automated smoke testing program
and was not reviewed by a human for accuracy

------------------------------
PROGRAM OUTPUT
------------------------------

Output from './Build test':

Replacement list is longer than search list at /tmp/loop_over_bdir-2851637-dt3yRk/Number-Fraction-v3.0.4-0/blib/lib/Number/Fraction.pm line 915.
t/01_load.t .......... ok
Replacement list is longer than search list at /tmp/loop_over_bdir-2851637-dt3yRk/Number-Fraction-v3.0.4-0/blib/lib/Number/Fraction.pm line 915.
t/02_create.t ........ ok
Replacement list is longer than search list at /tmp/loop_over_bdir-2851637-dt3yRk/Number-Fraction-v3.0.4-0/blib/lib/Number/Fraction.pm line 915.
t/03_create.t ........ ok
Replacement list is longer than search list at /tmp/loop_over_bdir-2851637-dt3yRk/Number-Fraction-v3.0.4-0/blib/lib/Number/Fraction.pm line 915.
t/04_add.t ........... ok
Replacement list is longer than search list at /tmp/loop_over_bdir-2851637-dt3yRk/Number-Fraction-v3.0.4-0/blib/lib/Number/Fraction.pm line 915.
t/05_subtract.t ...... ok
Replacement list is longer than search list at /tmp/loop_over_bdir-2851637-dt3yRk/Number-Fraction-v3.0.4-0/blib/lib/Number/Fraction.pm line 915.
t/06_multiply.t ...... ok
Replacement list is longer than search list at /tmp/loop_over_bdir-2851637-dt3yRk/Number-Fraction-v3.0.4-0/blib/lib/Number/Fraction.pm line 915.
t/07_divide.t ........ ok
Replacement list is longer than search list at /tmp/loop_over_bdir-2851637-dt3yRk/Number-Fraction-v3.0.4-0/blib/lib/Number/Fraction.pm line 915.
t/08_compare.t ....... ok
Replacement list is longer than search list at /tmp/loop_over_bdir-2851637-dt3yRk/Number-Fraction-v3.0.4-0/blib/lib/Number/Fraction.pm line 915.
t/09_neg.t ........... ok
t/10_pod.t ........... ok
Replacement list is longer than search list at /tmp/loop_over_bdir-2851637-dt3yRk/Number-Fraction-v3.0.4-0/blib/lib/Number/Fraction.pm line 915.
t/11_pod_coverage.t .. ok
Replacement list is longer than search list at /tmp/loop_over_bdir-2851637-dt3yRk/Number-Fraction-v3.0.4-0/blib/lib/Number/Fraction.pm line 915.
t/12_invalid.t ....... ok
Replacement list is longer than search list at /tmp/loop_over_bdir-2851637-dt3yRk/Number-Fraction-v3.0.4-0/blib/lib/Number/Fraction.pm line 915.
t/13_exp.t ........... ok
Replacement list is longer than search list at /tmp/loop_over_bdir-2851637-dt3yRk/Number-Fraction-v3.0.4-0/blib/lib/Number/Fraction.pm line 915.
t/14_abs.t ........... ok
Replacement list is longer than search list at /tmp/loop_over_bdir-2851637-dt3yRk/Number-Fraction-v3.0.4-0/blib/lib/Number/Fraction.pm line 915.
t/15_zeroes.t ........ ok
Replacement list is longer than search list at /tmp/loop_over_bdir-2851637-dt3yRk/Number-Fraction-v3.0.4-0/blib/lib/Number/Fraction.pm line 915.
t/16_decimals.t ...... ok
All tests successful.
Files=16, Tests=175,  4 wallclock secs ( 0.05 usr  0.03 sys +  1.38 cusr  0.55 csys =  2.01 CPU)
Result: PASS

------------------------------
PREREQUISITES
------------------------------

Prerequisite modules loaded:

requires:

    Module                       Need    Have    
    ---------------------------- ------- --------
    Carp                         0       1.50    
    Moo                          0       2.005004
    MooX::Types::MooseLike::Base 0       0.29    
    overload                     0       1.26    
    perl                         v5.10.0 5.022001

build_requires:

    Module                       Need    Have    
    ---------------------------- ------- --------
    Test::More                   0       1.302195
    Test::Warn                   0       0.36    

configure_requires:

    Module                       Need    Have    
    ---------------------------- ------- --------
    Module::Build                0.42    0.4231  


------------------------------
ENVIRONMENT AND OTHER CONTEXT
------------------------------

Environment variables:

    AUTOMATED_TESTING = 1
    LANG = en_US.UTF-8
    LANGUAGE = en_US:en
    PATH = /home/sand/bin:/usr/local/bin:/usr/bin:/bin:/usr/games:/usr/local/perl/bin:/usr/X11/bin:/sbin:/usr/sbin
    PERL5LIB = 
    PERL5OPT = 
    PERL5_CPANPLUS_IS_RUNNING = 1344070
    PERL5_CPAN_IS_RUNNING = 1344070
    PERL_CANARY_STABILITY_NOPROMPT = 1
    PERL_MM_USE_DEFAULT = 1
    PERL_USE_UNSAFE_INC = 1
    SHELL = /usr/bin/zsh
    TERM = screen

Perl special variables (and OS-specific diagnostics, for MSWin32):

    $^X = /home/sand/src/perl/repoperls/installed-perls/host/k93msid/v5.22.1/af11/bin/perl
    $UID/$EUID = 1005 / 1005
    $GID = 1005 1005
    $EGID = 1005 1005

Perl module toolchain versions installed:

    Module              Have    
    ------------------- --------
    CPAN                2.34    
    CPAN::Meta          2.150010
    Cwd                 3.75    
    ExtUtils::CBuilder  0.280236
    ExtUtils::Command   7.70    
    ExtUtils::Install   2.06    
    ExtUtils::MakeMaker 7.70    
    ExtUtils::Manifest  1.70    
    ExtUtils::ParseXS   3.51    
    File::Spec          3.75    
    JSON                4.10    
    JSON::PP            4.16    
    Module::Build       0.4231  
    Module::Signature   0.88    
    Parse::CPAN::Meta   2.150010
    Test2               1.302195
    Test::Harness       3.42    
    Test::More          1.302195
    YAML                1.30    
    YAML::Syck          1.34    
    version             0.9929  


--

Summary of my perl5 (revision 5 version 22 subversion 1) configuration:
  Derived from: 0ab152a1d10861997fe3e1b985cc92f142f4cec7
  Platform:
    osname=linux, osvers=5.16.0-6-amd64, archname=x86_64-linux-ld
    uname='linux k93msid 5.16.0-6-amd64 #1 smp preempt debian 5.16.18-1 (2022-03-29) x86_64 gnulinux '
    config_args='-Dprefix=/home/sand/src/perl/repoperls/installed-perls/host/k93msid/v5.22.1/af11 -Dmyhostname=k93msid -Dinstallusrbinperl=n -Uversiononly -Dusedevel -des -Ui_db -Dlibswanted=cl pthread socket inet nsl gdbm dbm malloc dl ld sun m crypt sec util c cposix posix ucb BSD gdbm_compat -Uuseithreads -Duselongdouble -DEBUGGING=-g'
    hint=recommended, useposix=true, d_sigaction=define
    useithreads=undef, usemultiplicity=undef
    use64bitint=define, use64bitall=define, uselongdouble=define
    usemymalloc=n, bincompat5005=undef
  Compiler:
    cc='cc', ccflags ='-fwrapv -fno-strict-aliasing -pipe -fstack-protector-strong -I/usr/local/include -D_LARGEFILE_SOURCE -D_FILE_OFFSET_BITS=64 -D_FORTIFY_SOURCE=2',
    optimize='-O2 -g',
    cppflags='-fwrapv -fno-strict-aliasing -pipe -fstack-protector-strong -I/usr/local/include'
    ccversion='', gccversion='11.2.0', gccosandvers=''
    intsize=4, longsize=8, ptrsize=8, doublesize=8, byteorder=12345678, doublekind=3
    d_longlong=define, longlongsize=8, d_longdbl=define, longdblsize=16, longdblkind=3
    ivtype='long', ivsize=8, nvtype='long double', nvsize=16, Off_t='off_t', lseeksize=8
    alignbytes=16, prototype=define
  Linker and Libraries:
    ld='cc', ldflags =' -fstack-protector-strong -L/usr/local/lib'
    libpth=/usr/local/lib /usr/include/x86_64-linux-gnu /usr/lib /lib/x86_64-linux-gnu /lib/../lib /usr/lib/x86_64-linux-gnu /usr/lib/../lib /lib
    libs=-lpthread -lnsl -ldl -lm -lcrypt -lutil -lc
    perllibs=-lpthread -lnsl -ldl -lm -lcrypt -lutil -lc
    libc=libc-2.33.so, so=so, useshrplib=false, libperl=libperl.a
    gnulibc_version='2.33'
  Dynamic Linking:
    dlsrc=dl_dlopen.xs, dlext=so, d_dlsymun=undef, ccdlflags='-Wl,-E'
    cccdlflags='-fPIC', lddlflags='-shared -O2 -g -L/usr/local/lib -fstack-protector-strong'


Characteristics of this binary (from libperl): 
  Compile-time options: HAS_TIMES PERLIO_LAYERS PERL_DONT_CREATE_GVSV
                        PERL_HASH_FUNC_ONE_AT_A_TIME_HARD PERL_MALLOC_WRAP
                        PERL_NEW_COPY_ON_WRITE PERL_PRESERVE_IVUV
                        PERL_USE_DEVEL USE_64_BIT_ALL USE_64_BIT_INT
                        USE_LARGE_FILES USE_LOCALE USE_LOCALE_COLLATE
                        USE_LOCALE_CTYPE USE_LOCALE_NUMERIC USE_LOCALE_TIME
                        USE_LONG_DOUBLE USE_PERLIO USE_PERL_ATOF
  Locally applied patches:
	uncommitted-changes
  Built under linux
  Compiled at Apr 17 2022 15:24:37
  %ENV:
    PERL5LIB=""
    PERL5OPT=""
    PERL5_CPANPLUS_IS_RUNNING="1344070"
    PERL5_CPAN_IS_RUNNING="1344070"
    PERL_CANARY_STABILITY_NOPROMPT="1"
    PERL_MM_USE_DEFAULT="1"
    PERL_USE_UNSAFE_INC="1"
  @INC:
    /home/sand/src/perl/repoperls/installed-perls/host/k93msid/v5.22.1/af11/lib/site_perl/5.22.1/x86_64-linux-ld
    /home/sand/src/perl/repoperls/installed-perls/host/k93msid/v5.22.1/af11/lib/site_perl/5.22.1
    /home/sand/src/perl/repoperls/installed-perls/host/k93msid/v5.22.1/af11/lib/5.22.1/x86_64-linux-ld
    /home/sand/src/perl/repoperls/installed-perls/host/k93msid/v5.22.1/af11/lib/5.22.1
    .