Back
From: metabase:user:b0d8060e-ee2c-11e1-9e0c-4239e8c4ad1e
Subject: PASS GDGraph-1.53 v5.24.0 GNU/Linux
Date: 2016-08-28T17:34:59Z
This distribution has been tested as part of the CPAN Testers
project, supporting the Perl programming language. See
http://wiki.cpantesters.org/ for more information or email
questions to cpan-testers-discuss@perl.org
--
Dear Ruslan U. Zakirov,
This is a computer-generated report for GDGraph-1.53
on perl 5.24.0, created by CPAN-Reporter-1.2018.
Thank you for uploading your work to CPAN. Congratulations!
All tests were successful.
Sections of this report:
* Tester comments
* Program output
* Prerequisites
* Environment and other context
------------------------------
TESTER COMMENTS
------------------------------
Additional comments from tester:
none provided
------------------------------
PROGRAM OUTPUT
------------------------------
Output from '/usr/bin/make test':
PERL_DL_NONLAZY=1 "/home/cavac/bin/ActivePerl-5.24/bin/perl-static" "-MExtUtils::Command::MM" "-MTest::Harness" "-e" "undef *Test::Harness::Switches; test_harness(0, 'blib/lib', 'blib/arch')" t/*.t t/*/*.t
t/axestype.t ................... ok
t/bugfixes.t ................... ok
t/colour.t ..................... ok
t/data.t ....................... ok
t/error.t ...................... ok
t/samples.t .................... ok
t/tickets/73185-div-by-zero.t .. ok
t/use.t ........................ ok
All tests successful.
Files=8, Tests=194, 1 wallclock secs ( 0.04 usr 0.00 sys + 0.68 cusr 0.01 csys = 0.73 CPU)
Result: PASS
------------------------------
PREREQUISITES
------------------------------
Prerequisite modules loaded:
requires:
Module Need Have
------------------- ---- --------
GD 1.18 2.56
GD::Text 0.80 0.86
build_requires:
Module Need Have
------------------- ---- --------
Capture::Tiny 0.30 0.44
ExtUtils::MakeMaker 6.76 7.24
FindBin 0 1.51
Test::Exception 0.40 0.43
Test::More 0.88 1.302052
configure_requires:
Module Need Have
------------------- ---- --------
ExtUtils::MakeMaker 6.76 7.24
------------------------------
ENVIRONMENT AND OTHER CONTEXT
------------------------------
Environment variables:
LANG = en_US.UTF-8
LANGUAGE = en_US
LC_ADDRESS = de_AT.UTF-8
LC_IDENTIFICATION = de_AT.UTF-8
LC_MEASUREMENT = de_AT.UTF-8
LC_MONETARY = de_AT.UTF-8
LC_NAME = de_AT.UTF-8
LC_NUMERIC = de_AT.UTF-8
LC_PAPER = de_AT.UTF-8
LC_TELEPHONE = de_AT.UTF-8
LC_TIME = de_AT.UTF-8
PATH = /home/cavac/bin/scripts:/home/cavac/bin/Komodo-IDE-10/bin:/home/cavac/bin/PDK951/bin:/home/cavac/bin/ActivePerl-5.24/site/bin:/home/cavac/bin/ActivePerl-5.24/bin:/home/cavac/bin:/usr/local/sbin:/usr/local/bin:/usr/sbin:/usr/bin:/sbin:/bin:/usr/games:/usr/local/games:/snap/bin:/home/cavac/bin/android-studio/bin:/home/cavac/bin/android-sdk/platform-tools
PERL5LIB =
PERL5OPT =
PERL5_CPANPLUS_IS_RUNNING = 12999
PERL5_CPAN_IS_RUNNING = 12999
SHELL = /bin/bash
TERM = xterm
Perl special variables (and OS-specific diagnostics, for MSWin32):
$^X = /home/cavac/bin/ActivePerl-5.24/bin/perl-static
$UID/$EUID = 1000 / 1000
$GID = 1000 4 20 24 27 30 46 108 124 127 137 1000 1002
$EGID = 1000 4 20 24 27 30 46 108 124 127 137 1000 1002
Perl module toolchain versions installed:
Module Have
------------------- --------
CPAN 2.14
CPAN::Meta 2.150010
Cwd 3.63
ExtUtils::CBuilder 0.280225
ExtUtils::Command 7.24
ExtUtils::Install 2.04
ExtUtils::MakeMaker 7.24
ExtUtils::Manifest 1.70
ExtUtils::ParseXS 3.31
File::Spec 3.63
JSON 2.90
JSON::PP 2.27400
Module::Build 0.4220
Module::Signature n/a
Parse::CPAN::Meta 2.150010
Test::Harness 3.36
Test::More 1.302052
YAML 1.18
YAML::Syck n/a
version 0.9917
--
Summary of my perl5 (revision 5 version 24 subversion 0) configuration:
Platform:
osname=linux, osvers=3.2.0-24-virtual, archname=x86_64-linux-thread-multi
uname='linux perl-stackato64-precise 3.2.0-24-virtual #39-ubuntu smp mon may 21 18:44:18 utc 2012 x86_64 x86_64 x86_64 gnulinux '
config_args='-ders -Dcc=gcc -Dusethreads -Duseithreads -Uinstallusrbinperl -Ulocincpth= -Uloclibpth= -Duse64bitall -Accflags=-DUSE_SITECUSTOMIZE -Duselargefiles -Accflags=-DPERL_RELOCATABLE_INCPUSH -Accflags=-fno-merge-constants -Dprefix=/home/cavac/bin/ActivePerl-5.24 -Dprivlib=/home/cavac/bin/ActivePerl-5.24/lib -Darchlib=/home/cavac/bin/ActivePerl-5.24/lib -Dsiteprefix=/home/cavac/bin/ActivePerl-5.24/site -Dsitelib=/home/cavac/bin/ActivePerl-5.24/site/lib -Dsitearch=/home/cavac/bin/ActivePerl-5.24/site/lib -Dsed=/bin/sed -Duseshrplib -Dcf_by=ActiveState -Dcf_email=support@ActiveState.com'
hint=recommended, useposix=true, d_sigaction=define
useithreads=define, usemultiplicity=define
use64bitint=define, use64bitall=define, uselongdouble=undef
usemymalloc=n, bincompat5005=undef
Compiler:
cc='gcc', ccflags ='-D_REENTRANT -D_GNU_SOURCE -DUSE_SITECUSTOMIZE -DPERL_RELOCATABLE_INCPUSH -fno-merge-constants -fwrapv -fno-strict-aliasing -pipe -fstack-protector -D_LARGEFILE_SOURCE -D_FILE_OFFSET_BITS=64',
optimize='-O2',
cppflags='-D_REENTRANT -D_GNU_SOURCE -DUSE_SITECUSTOMIZE -DPERL_RELOCATABLE_INCPUSH -fno-merge-constants -fwrapv -fno-strict-aliasing -pipe -fstack-protector'
ccversion='', gccversion='4.6.3', gccosandvers=''
intsize=4, longsize=8, ptrsize=8, doublesize=8, byteorder=12345678, doublekind=3
d_longlong=define, longlongsize=8, d_longdbl=define, longdblsize=16, longdblkind=3
ivtype='long', ivsize=8, nvtype='double', nvsize=8, Off_t='off_t', lseeksize=8
alignbytes=8, prototype=define
Linker and Libraries:
ld='gcc', ldflags =' -fstack-protector'
libpth=/usr/local/lib /usr/include/x86_64-linux-gnu /usr/lib /lib/x86_64-linux-gnu /lib/../lib /usr/lib/x86_64-linux-gnu /usr/lib/../lib /lib /lib/x86_64-linux-gnu /usr/lib/x86_64-linux-gnu
libs=-lpthread -lnsl -ldb -ldl -lm -lcrypt -lutil -lc
perllibs=-lpthread -lnsl -ldl -lm -lcrypt -lutil -lc
libc=libc-2.15.so, so=so, useshrplib=true, libperl=libperl.so
gnulibc_version='2.15'
Dynamic Linking:
dlsrc=dl_dlopen.xs, dlext=so, d_dlsymun=undef, ccdlflags='-Wl,-E -Wl,-rpath,/home/cavac/bin/ActivePerl-5.24/lib/CORE'
cccdlflags='-fPIC', lddlflags='-shared -O2 -fstack-protector'
Characteristics of this binary (from libperl):
Compile-time options: HAS_TIMES MULTIPLICITY PERLIO_LAYERS
PERL_COPY_ON_WRITE PERL_DONT_CREATE_GVSV
PERL_HASH_FUNC_ONE_AT_A_TIME_HARD
PERL_IMPLICIT_CONTEXT PERL_MALLOC_WRAP
PERL_PRESERVE_IVUV PERL_RELOCATABLE_INCPUSH
USE_64_BIT_ALL USE_64_BIT_INT USE_ITHREADS
USE_LARGE_FILES USE_LOCALE USE_LOCALE_COLLATE
USE_LOCALE_CTYPE USE_LOCALE_NUMERIC USE_LOCALE_TIME
USE_PERLIO USE_PERL_ATOF USE_REENTRANT_API
USE_SITECUSTOMIZE
Locally applied patches:
ActivePerl Build 2400 [300561]
Built under linux
Compiled at Jun 13 2016 11:25:08
%ENV:
PERL5LIB=""
PERL5OPT=""
PERL5_CPANPLUS_IS_RUNNING="12999"
PERL5_CPAN_IS_RUNNING="12999"
@INC:
/home/cavac/bin/ActivePerl-5.24/site/lib
/home/cavac/bin/ActivePerl-5.24/lib
.