Report for Orochi-0.00010

Back
From: metabase:user:8286d1fc-3d52-11e2-9ec4-cb9cdd236785
Subject: PASS Orochi-0.00010 v5.14.0 GNU/Linux
Date: 2014-01-20T19:33:31Z

This distribution has been tested as part of the CPAN Testers
project, supporting the Perl programming language.  See
http://wiki.cpantesters.org/ for more information or email
questions to cpan-testers-discuss@perl.org


--
Dear Daisuke Maki,

This is a computer-generated report for Orochi-0.00010
on perl 5.14.0, created by CPAN-Reporter-1.2010.

Thank you for uploading your work to CPAN.  Congratulations!
All tests were successful.

Sections of this report:

    * Tester comments
    * Program output
    * Prerequisites
    * Environment and other context

------------------------------
TESTER COMMENTS
------------------------------

Additional comments from tester:

this report is from an automated smoke testing program
and was not reviewed by a human for accuracy

------------------------------
PROGRAM OUTPUT
------------------------------

Output from '/usr/local/bin/make test':

PERL_DL_NONLAZY=1 /opt/perl444-27-5.14.0/bin/perl "-MExtUtils::Command::MM" "-MTest::Harness" "-e" "undef *Test::Harness::Switches; test_harness(0, 'inc', 'blib/lib', 'blib/arch')" t/*.t
Use of qw(...) as parentheses is deprecated at /root/.cpan/build/Orochi-0.00010-fARoF2/blib/lib/Orochi/Declare.pm line 12.
Class::MOP::is_class_loaded is deprecated at /opt/perl444-27-5.14.0/lib/site_perl/5.14.0/i686-linux-thread-multi-64int-ld/Class/MOP.pm line 94.
	Class::MOP::is_class_loaded("Test::MockObject") called at /root/.cpan/build/Orochi-0.00010-fARoF2/blib/lib/Orochi/Injection/Constructor.pm line 58
	Orochi::Injection::Constructor::construct_object(Orochi::Injection::Constructor=HASH(0x8cb6544), Orochi=HASH(0x804d950), ARRAY(0x8b46dc0)) called at /root/.cpan/build/Orochi-0.00010-fARoF2/blib/lib/Orochi/Injection/Constructor.pm line 50
	Orochi::Injection::Constructor::expand(Orochi::Injection::Constructor=HASH(0x8cb6544), Orochi=HASH(0x804d950)) called at /root/.cpan/build/Orochi-0.00010-fARoF2/blib/lib/Orochi.pm line 88
	eval {...} called at /root/.cpan/build/Orochi-0.00010-fARoF2/blib/lib/Orochi.pm line 87
	Orochi::get(Orochi=HASH(0x804d950), "/myapp/foo") called at t/001_constructor.t line 13
t/001_constructor.t ... ok
Use of qw(...) as parentheses is deprecated at /root/.cpan/build/Orochi-0.00010-fARoF2/blib/lib/Orochi/Declare.pm line 12.
t/002_declare.t ....... ok
Class::MOP::is_class_loaded is deprecated at /opt/perl444-27-5.14.0/lib/site_perl/5.14.0/i686-linux-thread-multi-64int-ld/Class/MOP.pm line 94.
	Class::MOP::is_class_loaded("Orochi::Test::MooseBased1") called at /root/.cpan/build/Orochi-0.00010-fARoF2/blib/lib/Orochi.pm line 213
	Orochi::inject_class(Orochi=HASH(0x804d950), "Orochi::Test::MooseBased1") called at t/300_moosex.t line 10
Class::MOP::load_class is deprecated at /opt/perl444-27-5.14.0/lib/site_perl/5.14.0/i686-linux-thread-multi-64int-ld/Class/MOP.pm line 76.
	Class::MOP::load_class("Orochi::Test::MooseBased1") called at /root/.cpan/build/Orochi-0.00010-fARoF2/blib/lib/Orochi.pm line 213
	Orochi::inject_class(Orochi=HASH(0x804d950), "Orochi::Test::MooseBased1") called at t/300_moosex.t line 10
Class::MOP::is_class_loaded is deprecated at /opt/perl444-27-5.14.0/lib/site_perl/5.14.0/i686-linux-thread-multi-64int-ld/Class/MOP.pm line 94.
	Class::MOP::is_class_loaded("Orochi::Injection::Constructor") called at /root/.cpan/build/Orochi-0.00010-fARoF2/blib/lib/MooseX/Orochi.pm line 42
	MooseX::Orochi::bind_constructor(Moose::Meta::Class::__ANON__::SERIAL::3=HASH(0x8d2d688), "/orochi/test/MooseBased1", "args", HASH(0x8be85c8)) called at /opt/perl444-27-5.14.0/lib/site_perl/5.14.0/i686-linux-thread-multi-64int-ld/Moose/Exporter.pm line 408
	MooseX::Orochi::bind_constructor("/orochi/test/MooseBased1", "args", HASH(0x8be85c8)) called at t/lib/Orochi/Test/MooseBased1.pm line 5
	require Orochi/Test/MooseBased1.pm called at /opt/perl444-27-5.14.0/lib/site_perl/5.14.0/Module/Runtime.pm line 317
	Module::Runtime::require_module("Orochi::Test::MooseBased1") called at /opt/perl444-27-5.14.0/lib/site_perl/5.14.0/Class/Load.pm line 177
	Class::Load::try {...} () called at /opt/perl444-27-5.14.0/lib/site_perl/5.14.0/Try/Tiny.pm line 78
	eval {...} called at /opt/perl444-27-5.14.0/lib/site_perl/5.14.0/Try/Tiny.pm line 74
	Try::Tiny::try(CODE(0x8c77e14), Try::Tiny::Catch=REF(0x8c780e4)) called at /opt/perl444-27-5.14.0/lib/site_perl/5.14.0/Class/Load.pm line 183
	Class::Load::try_load_class("Orochi::Test::MooseBased1", undef) called at /opt/perl444-27-5.14.0/lib/site_perl/5.14.0/Class/Load.pm line 38
	Class::Load::load_class("Orochi::Test::MooseBased1") called at /root/.cpan/build/Orochi-0.00010-fARoF2/blib/lib/Orochi.pm line 213
	Orochi::inject_class(Orochi=HASH(0x804d950), "Orochi::Test::MooseBased1") called at t/300_moosex.t line 10
Class::MOP::is_class_loaded is deprecated at /opt/perl444-27-5.14.0/lib/site_perl/5.14.0/i686-linux-thread-multi-64int-ld/Class/MOP.pm line 94.
	Class::MOP::is_class_loaded("Orochi::Test::MooseBased1") called at /root/.cpan/build/Orochi-0.00010-fARoF2/blib/lib/Orochi/Injection/Constructor.pm line 58
	Orochi::Injection::Constructor::construct_object(Orochi::Injection::Constructor=HASH(0x8c77fa4), Orochi=HASH(0x804d950), ARRAY(0x8b19474)) called at /root/.cpan/build/Orochi-0.00010-fARoF2/blib/lib/Orochi/Injection/Constructor.pm line 50
	Orochi::Injection::Constructor::expand(Orochi::Injection::Constructor=HASH(0x8c77fa4), Orochi=HASH(0x804d950)) called at /root/.cpan/build/Orochi-0.00010-fARoF2/blib/lib/Orochi.pm line 88
	eval {...} called at /root/.cpan/build/Orochi-0.00010-fARoF2/blib/lib/Orochi.pm line 87
	Orochi::get(Orochi=HASH(0x804d950), "/orochi/test/MooseBased1") called at t/300_moosex.t line 12
t/300_moosex.t ........ ok
Class::MOP::is_class_loaded is deprecated at /opt/perl444-27-5.14.0/lib/site_perl/5.14.0/i686-linux-thread-multi-64int-ld/Class/MOP.pm line 94.
	Class::MOP::is_class_loaded("Orochi::Test::MooseBased3") called at /root/.cpan/build/Orochi-0.00010-fARoF2/blib/lib/Orochi.pm line 213
	Orochi::inject_class(Orochi=HASH(0x804d950), "Orochi::Test::MooseBased3") called at t/900_cascade_bind.t line 19
Class::MOP::load_class is deprecated at /opt/perl444-27-5.14.0/lib/site_perl/5.14.0/i686-linux-thread-multi-64int-ld/Class/MOP.pm line 76.
	Class::MOP::load_class("Orochi::Test::MooseBased3") called at /root/.cpan/build/Orochi-0.00010-fARoF2/blib/lib/Orochi.pm line 213
	Orochi::inject_class(Orochi=HASH(0x804d950), "Orochi::Test::MooseBased3") called at t/900_cascade_bind.t line 19
Class::MOP::is_class_loaded is deprecated at /opt/perl444-27-5.14.0/lib/site_perl/5.14.0/i686-linux-thread-multi-64int-ld/Class/MOP.pm line 94.
	Class::MOP::is_class_loaded("Orochi::Injection::Setter") called at /root/.cpan/build/Orochi-0.00010-fARoF2/blib/lib/MooseX/Orochi.pm line 42
	MooseX::Orochi::bind_constructor(Moose::Meta::Class::__ANON__::SERIAL::3=HASH(0x8d4beb8), "/orochi/test/MooseBased3", "injection_class", "Setter", "setter_params", HASH(0x8d1f638)) called at /opt/perl444-27-5.14.0/lib/site_perl/5.14.0/i686-linux-thread-multi-64int-ld/Moose/Exporter.pm line 408
	MooseX::Orochi::bind_constructor("/orochi/test/MooseBased3", "injection_class", "Setter", "setter_params", HASH(0x8d1f638)) called at t/lib/Orochi/Test/MooseBased3.pm line 5
	require Orochi/Test/MooseBased3.pm called at /opt/perl444-27-5.14.0/lib/site_perl/5.14.0/Module/Runtime.pm line 317
	Module::Runtime::require_module("Orochi::Test::MooseBased3") called at /opt/perl444-27-5.14.0/lib/site_perl/5.14.0/Class/Load.pm line 177
	Class::Load::try {...} () called at /opt/perl444-27-5.14.0/lib/site_perl/5.14.0/Try/Tiny.pm line 78
	eval {...} called at /opt/perl444-27-5.14.0/lib/site_perl/5.14.0/Try/Tiny.pm line 74
	Try::Tiny::try(CODE(0x8c91070), Try::Tiny::Catch=REF(0x8c91340)) called at /opt/perl444-27-5.14.0/lib/site_perl/5.14.0/Class/Load.pm line 183
	Class::Load::try_load_class("Orochi::Test::MooseBased3", undef) called at /opt/perl444-27-5.14.0/lib/site_perl/5.14.0/Class/Load.pm line 38
	Class::Load::load_class("Orochi::Test::MooseBased3") called at /root/.cpan/build/Orochi-0.00010-fARoF2/blib/lib/Orochi.pm line 213
	Orochi::inject_class(Orochi=HASH(0x804d950), "Orochi::Test::MooseBased3") called at t/900_cascade_bind.t line 19
Class::MOP::load_class is deprecated at /opt/perl444-27-5.14.0/lib/site_perl/5.14.0/i686-linux-thread-multi-64int-ld/Class/MOP.pm line 76.
	Class::MOP::load_class("Orochi::Injection::Setter") called at /root/.cpan/build/Orochi-0.00010-fARoF2/blib/lib/MooseX/Orochi.pm line 42
	MooseX::Orochi::bind_constructor(Moose::Meta::Class::__ANON__::SERIAL::3=HASH(0x8d4beb8), "/orochi/test/MooseBased3", "injection_class", "Setter", "setter_params", HASH(0x8d1f638)) called at /opt/perl444-27-5.14.0/lib/site_perl/5.14.0/i686-linux-thread-multi-64int-ld/Moose/Exporter.pm line 408
	MooseX::Orochi::bind_constructor("/orochi/test/MooseBased3", "injection_class", "Setter", "setter_params", HASH(0x8d1f638)) called at t/lib/Orochi/Test/MooseBased3.pm line 5
	require Orochi/Test/MooseBased3.pm called at /opt/perl444-27-5.14.0/lib/site_perl/5.14.0/Module/Runtime.pm line 317
	Module::Runtime::require_module("Orochi::Test::MooseBased3") called at /opt/perl444-27-5.14.0/lib/site_perl/5.14.0/Class/Load.pm line 177
	Class::Load::try {...} () called at /opt/perl444-27-5.14.0/lib/site_perl/5.14.0/Try/Tiny.pm line 78
	eval {...} called at /opt/perl444-27-5.14.0/lib/site_perl/5.14.0/Try/Tiny.pm line 74
	Try::Tiny::try(CODE(0x8c91070), Try::Tiny::Catch=REF(0x8c91340)) called at /opt/perl444-27-5.14.0/lib/site_perl/5.14.0/Class/Load.pm line 183
	Class::Load::try_load_class("Orochi::Test::MooseBased3", undef) called at /opt/perl444-27-5.14.0/lib/site_perl/5.14.0/Class/Load.pm line 38
	Class::Load::load_class("Orochi::Test::MooseBased3") called at /root/.cpan/build/Orochi-0.00010-fARoF2/blib/lib/Orochi.pm line 213
	Orochi::inject_class(Orochi=HASH(0x804d950), "Orochi::Test::MooseBased3") called at t/900_cascade_bind.t line 19
Class::MOP::is_class_loaded is deprecated at /opt/perl444-27-5.14.0/lib/site_perl/5.14.0/i686-linux-thread-multi-64int-ld/Class/MOP.pm line 94.
	Class::MOP::is_class_loaded("Orochi::Test::MooseBased3") called at /root/.cpan/build/Orochi-0.00010-fARoF2/blib/lib/Orochi/Injection/Constructor.pm line 58
	Orochi::Injection::Constructor::construct_object(Orochi::Injection::Setter=HASH(0x8c944fc), Orochi=HASH(0x804d950), ARRAY(0x85ab8d4)) called at /root/.cpan/build/Orochi-0.00010-fARoF2/blib/lib/Orochi/Injection/Constructor.pm line 50
	Orochi::Injection::Constructor::expand(Orochi::Injection::Setter=HASH(0x8c944fc), Orochi=HASH(0x804d950)) called at /root/.cpan/build/Orochi-0.00010-fARoF2/blib/lib/Orochi.pm line 88
	eval {...} called at /root/.cpan/build/Orochi-0.00010-fARoF2/blib/lib/Orochi.pm line 87
	Orochi::get(Orochi=HASH(0x804d950), "/orochi/test/MooseBased3") called at t/900_cascade_bind.t line 23
	main::__ANON__() called at /opt/perl444-27-5.14.0/lib/site_perl/5.14.0/Test/Exception.pm line 346
	eval {...} called at /opt/perl444-27-5.14.0/lib/site_perl/5.14.0/Test/Exception.pm line 346
	Test::Exception::lives_and(CODE(0x8c90e68)) called at t/900_cascade_bind.t line 26
t/900_cascade_bind.t .. ok
All tests successful.
Files=4, Tests=43,  9 wallclock secs ( 0.12 usr  0.02 sys +  6.77 cusr  0.41 csys =  7.32 CPU)
Result: PASS

------------------------------
PREREQUISITES
------------------------------

Prerequisite modules loaded:

requires:

    Module              Need    Have      
    ------------------- ------- ----------
    Data::Visitor       0       0.30      
    Module::Pluggable   0       5.1       
    Moose               0.93_01 2.1201    
    namespace::clean    0       0.24      
    Path::Router        0       0.12      
    Sub::Exporter       0       0.987     

build_requires:

    Module              Need    Have      
    ------------------- ------- ----------
    ExtUtils::MakeMaker 6.42    6.86      
    Test::MockObject    0       1.20120301
    Test::More          0.88    1.001002  
    UNIVERSAL::can      0       1.20120726
    UNIVERSAL::isa      0       1.20120726

configure_requires:

    Module              Need    Have      
    ------------------- ------- ----------
    ExtUtils::MakeMaker 6.42    6.86      


------------------------------
ENVIRONMENT AND OTHER CONTEXT
------------------------------

Environment variables:

    AUTOMATED_TESTING = 1
    LANG = en_US.UTF-8
    LD_LIBRARY_PATH = /usr/local/lib
    PATH = /usr/lib/qt-3.3/bin:/usr/kerberos/sbin:/usr/kerberos/bin:/usr/lib/ccache:/usr/local/sbin:/usr/local/bin:/sbin:/bin:/usr/sbin:/usr/bin:/usr/X11R6/bin:/usr/lib/alliance/bin:/opt/real/RealPlayer:/root/bin:/usr/lib/alliance/bin:/opt/real/RealPlayer
    PERL5LIB = 
    PERL5OPT = 
    PERL5_CPANPLUS_IS_RUNNING = 26902
    PERL5_CPAN_IS_RUNNING = 26902
    PERL_ANYEVENT_MODEL = POE
    PERL_MM_NONINTERACTIVE = 1
    PERL_MM_USE_DEFAULT = 1
    SHELL = /bin/bash
    TERM = xterm

Perl special variables (and OS-specific diagnostics, for MSWin32):

    $^X = /opt/perl444-27-5.14.0/bin/perl
    $UID/$EUID = 0 / 0
    $GID = 0 0 1 2 3 4 6 10
    $EGID = 0 0 1 2 3 4 6 10

Perl module toolchain versions installed:

    Module              Have    
    ------------------- --------
    CPAN                2.03    
    CPAN::Meta          2.133380
    Cwd                 3.40    
    ExtUtils::CBuilder  0.280212
    ExtUtils::Command   1.18    
    ExtUtils::Install   1.54    
    ExtUtils::MakeMaker 6.86    
    ExtUtils::Manifest  1.63    
    ExtUtils::ParseXS   3.22    
    File::Spec          3.40    
    JSON                2.90    
    JSON::PP            2.27203 
    Module::Build       0.4204  
    Module::Signature   0.73    
    Parse::CPAN::Meta   1.4409  
    Test::Harness       3.30    
    Test::More          1.001002
    YAML                0.88    
    YAML::Syck          1.27    
    version             0.9907  


--

Summary of my perl5 (revision 5 version 14 subversion 0) configuration:
   
  Platform:
    osname=linux, osvers=2.6.27-repin.1, archname=i686-linux-thread-multi-64int-ld
    uname='linux localhost.localdomain 2.6.27-repin.1 #1 smp tue jan 25 20:07:21 msk 2011 i686 i686 i386 gnulinux '
    config_args='-Dcc=/opt/444/bin/gcc -Doptimize=-O3  -DDMALLOC=/usr/local/bin/dmalloc -Dprefix=/opt/perl444-27-5.14.0 -DDEBUGGING'
    hint=recommended, useposix=true, d_sigaction=define
    useithreads=define, usemultiplicity=define
    useperlio=define, d_sfio=undef, uselargefiles=define, usesocks=undef
    use64bitint=define, use64bitall=undef, uselongdouble=define
    usemymalloc=n, bincompat5005=undef
  Compiler:
    cc='/opt/444/bin/gcc', ccflags ='-DDMALLOC -D_LARGEFILE_SOURCE -D_FILE_OFFSET_BITS=64',
    optimize='-O3 -g',
    cppflags='-DDMALLOC'
    ccversion='', gccversion='4.4.4', gccosandvers=''
    intsize=4, longsize=4, ptrsize=4, doublesize=8, byteorder=12345678
    d_longlong=define, longlongsize=8, d_longdbl=define, longdblsize=12
    ivtype='long long', ivsize=8, nvtype='long double', nvsize=12, Off_t='off_t', lseeksize=8
    alignbytes=4, prototype=define
  Linker and Libraries:
    ld='/opt/444/bin/gcc', ldflags =' -L/usr/local/lib'
    libpth=/usr/local/lib /lib /usr/lib
    libs=-lnsl -lgdbm -ldb -ldl -lm -lcrypt -lutil -lpthread -lc
    perllibs=-lnsl -ldl -lm -lcrypt -lutil -lpthread -lc
    libc=/lib/libc-2.5.so, so=so, useshrplib=true, libperl=libperl.so
    gnulibc_version='2.5'
  Dynamic Linking:
    dlsrc=dl_dlopen.xs, dlext=so, d_dlsymun=undef, ccdlflags='-Wl,-E -Wl,-rpath,/opt/perl444-27-5.14.0/lib/5.14.0/i686-linux-thread-multi-64int-ld/CORE'
    cccdlflags='-fPIC', lddlflags='-shared -O3 -g -L/usr/local/lib'


Characteristics of this binary (from libperl): 
  Compile-time options: MULTIPLICITY PERL_DONT_CREATE_GVSV
                        PERL_IMPLICIT_CONTEXT PERL_MAD PERL_MALLOC_WRAP
                        PERL_PRESERVE_IVUV USE_64_BIT_INT USE_FAST_STDIO
                        USE_ITHREADS USE_LARGE_FILES USE_LONG_DOUBLE
                        USE_PERLIO USE_PERL_ATOF USE_REENTRANT_API
  Built under linux
  Compiled at Oct 31 2013 00:32:00
  %ENV:
    PERL5LIB=""
    PERL5OPT=""
    PERL5_CPANPLUS_IS_RUNNING="26902"
    PERL5_CPAN_IS_RUNNING="26902"
    PERL_ANYEVENT_MODEL="POE"
    PERL_MM_NONINTERACTIVE="1"
    PERL_MM_USE_DEFAULT="1"
  @INC:
    /opt/perl444-27-5.14.0/lib/site_perl/5.14.0/i686-linux-thread-multi-64int-ld
    /opt/perl444-27-5.14.0/lib/site_perl/5.14.0
    /opt/perl444-27-5.14.0/lib/5.14.0/i686-linux-thread-multi-64int-ld
    /opt/perl444-27-5.14.0/lib/5.14.0
    .