Back
From: metabase:user:314402c4-2aae-11df-837a-5e0a49663a4f
Subject: PASS MouseX-NativeTraits-1.09 v5.10.1 FreeBSD
Date: 2012-11-26T21:25:03Z
This distribution has been tested as part of the CPAN Testers
project, supporting the Perl programming language.  See
http://wiki.cpantesters.org/ for more information or email
questions to cpan-testers-discuss@perl.org
--
Dear Goro Fuji,
This is a computer-generated report for MouseX-NativeTraits-1.09
on perl 5.10.1, created by CPAN-Reporter-1.2006.
Thank you for uploading your work to CPAN.  Congratulations!
All tests were successful.
Sections of this report:
    * Tester comments
    * Program output
    * Prerequisites
    * Environment and other context
------------------------------
TESTER COMMENTS
------------------------------
Additional comments from tester:
none provided
------------------------------
PROGRAM OUTPUT
------------------------------
Output from '/usr/bin/make test':
PERL_DL_NONLAZY=1 /usr/perl5.10.1/bin/perl5.10.1 "-MExtUtils::Command::MM" "-e" "\$ENV{q{ANY_MOOSE}} = q{Mouse}; test_harness(0, 'inc', 'blib/lib', 'blib/arch'); " t/*.t t/070_native_traits/*.t
# Testing MouseX::NativeTraits/1.09
# Dependencies:
#     Mouse/0.99
t/00_load.t ...................................... ok
t/01_basic.t ..................................... ok
t/02_meta.t ...................................... ok
t/03_extra.t ..................................... ok
t/04_counter.t ................................... ok
t/05_remain_tied.t ............................... ok
t/070_native_traits/010_trait_array.t ............ ok
t/070_native_traits/011_array_subtypes.t ......... ok
t/070_native_traits/012_array_trigger.t .......... ok
t/070_native_traits/013_array_coerce.t ........... skipped: Not supported by MouseX::NativeTraits
t/070_native_traits/020_trait_bool.t ............. ok
t/070_native_traits/030_trait_code.t ............. ok
t/070_native_traits/040_trait_counter.t .......... ok
t/070_native_traits/050_trait_hash.t ............. ok
t/070_native_traits/051_hash_subtypes.t .......... ok
t/070_native_traits/052_hash_trigger.t ........... ok
t/070_native_traits/053_hash_coerce.t ............ skipped: Not supported by MouseX::NativeTraits
t/070_native_traits/060_trait_number.t ........... ok
t/070_native_traits/070_trait_string.t ........... ok
t/070_native_traits/100_array_from_role.t ........ ok
t/070_native_traits/101_remove_attribute.t ....... skipped: Not supported by MouseX::NativeTraits
t/070_native_traits/102_collection_with_roles.t .. ok
t/070_native_traits/103_custom_instance.t ........ skipped: not supproted by MouseX::NativeTraits
All tests successful.
Files=23, Tests=3482,  5 wallclock secs ( 0.58 usr  0.11 sys +  2.46 cusr  1.20 csys =  4.35 CPU)
Result: PASS
------------------------------
PREREQUISITES
------------------------------
Prerequisite modules loaded:
requires:
    Module              Need     Have    
    ------------------- -------- --------
    Mouse               0.82     0.99    
    perl                5.006002 5.010001
build_requires:
    Module              Need     Have    
    ------------------- -------- --------
    Any::Moose          0.13     0.18    
    ExtUtils::MakeMaker 6.59     6.62    
    Test::Fatal         0.003    0.010   
    Test::More          0.88     0.98    
configure_requires:
    Module              Need     Have    
    ------------------- -------- --------
    ExtUtils::MakeMaker 6.59     6.62    
------------------------------
ENVIRONMENT AND OTHER CONTEXT
------------------------------
Environment variables:
    DBIC_NO_WARN_BAD_PERL = 1
    PATH = /usr/local/bin:/usr/X11R6/bin:/usr/X11/bin:/usr/perl5.8.0/bin:/usr/bin:/bin:/usr/local/sbin:/usr/sbin:/sbin:/usr/local/pilot/bin:/home/cpansand/bin/freebsd8.0:/home/cpansand/bin/sh:/home/cpansand/bin:/usr/X386/bin:/usr/games:/home/cpansand/devel:/usr/home/e/eserte/work/srezic-misc/scripts
    PERL5LIB = /usr/local/src/CPAN/build/MCE-1.104-n_QbFC/blib/arch:/usr/local/src/CPAN/build/MCE-1.104-n_QbFC/blib/lib:/usr/local/src/CPAN/build/CPAN-Testers-WWW-Reports-Query-AJAX-0.07-IFZInn/blib/arch:/usr/local/src/CPAN/build/CPAN-Testers-WWW-Reports-Query-AJAX-0.07-IFZInn/blib/lib:/usr/local/src/CPAN/build/Pod-Weaver-PluginBundle-TAPPER-0.002-4g5ycs/blib/arch:/usr/local/src/CPAN/build/Pod-Weaver-PluginBundle-TAPPER-0.002-4g5ycs/blib/lib:/usr/local/src/CPAN/build/XML-Compile-C14N-0.91-5EFv6e/blib/arch:/usr/local/src/CPAN/build/XML-Compile-C14N-0.91-5EFv6e/blib/lib:/usr/local/src/CPAN/build/XML-Compile-1.30-h72jaj/blib/arch:/usr/local/src/CPAN/build/XML-Compile-1.30-h72jaj/blib/lib:/usr/local/src/CPAN/build/XML-Compile-Tester-0.90-C4wGQK/blib/arch:/usr/local/src/CPAN/build/XML-Compile-Tester-0.90-C4wGQK/blib/lib:/usr/local/src/CPAN/build/Log-Report-0.991-XKfWHX/blib/arch:/usr/local/src/CPAN/build/Log-Report-0.991-XKfWHX/blib/lib
    PERL5OPT = 
    PERL5_CPANPLUS_IS_RUNNING = 83260
    PERL5_CPAN_IS_RUNNING = 83260
    PERL5_CPAN_IS_RUNNING_IN_RECURSION = 83236,83260
    PERL_BATCH = yes
    PERL_CPAN_REPORTER_CONFIG = /var/tmp/cpansmoker-1023/B605ocrFxp_config.ini
    PERL_EXTUTILS_AUTOINSTALL = --defaultdeps
    PERL_HTML_DISPLAY_CLASS = HTML::Display::Mozilla
    SHELL = /usr/local/bin/zsh
    TERM = screen
    TMPDIR = /var/tmp/cpansmoker-1023
Perl special variables (and OS-specific diagnostics, for MSWin32):
    $^X = /usr/perl5.10.1/bin/perl5.10.1
    $UID/$EUID = 1023 / 1023
    $GID = 1023 1023
    $EGID = 1023 1023
Perl module toolchain versions installed:
    Module              Have    
    ------------------- --------
    CPAN                1.9800  
    CPAN::Meta          2.112150
    Cwd                 3.33    
    ExtUtils::CBuilder  0.280205
    ExtUtils::Command   1.17    
    ExtUtils::Install   1.54    
    ExtUtils::MakeMaker 6.62    
    ExtUtils::Manifest  1.60    
    ExtUtils::ParseXS   3.15    
    File::Spec          3.33    
    JSON                2.53    
    JSON::PP            2.27200 
    Module::Build       0.4003  
    Module::Signature   0.68    
    Parse::CPAN::Meta   1.4403  
    Test::Harness       3.23    
    Test::More          0.98    
    YAML                0.84    
    YAML::Syck          1.20    
    version             0.9901  
--
Summary of my perl5 (revision 5 version 10 subversion 1) configuration:
   
  Platform:
    osname=freebsd, osvers=8.0-release, archname=i386-freebsd
    uname='freebsd biokovo.herceg.de 8.0-release freebsd 8.0-release #0: sat nov 21 15:48:17 utc 2009 root@almeida.cse.buffalo.edu:usrobjusrsrcsysgeneric i386 '
    config_args='-Dprefix=/usr/perl5.10.1 -Dusemymalloc=n -D cc=ccache cc -Dgccansipedantic -Duse64bit -de -D hintfile=myfreebsd'
    hint=recommended, useposix=true, d_sigaction=define
    useithreads=undef, usemultiplicity=undef
    useperlio=define, d_sfio=undef, uselargefiles=define, usesocks=undef
    use64bitint=undef, use64bitall=undef, uselongdouble=undef
    usemymalloc=n, bincompat5005=undef
  Compiler:
    cc='ccache cc', ccflags ='-DHAS_FPSETMASK -DHAS_FLOATINGPOINT_H -fno-strict-aliasing -pipe -fstack-protector -I/usr/local/include',
    optimize='-O2 -mtune=athlon64 -pipe',
    cppflags='-DHAS_FPSETMASK -DHAS_FLOATINGPOINT_H -fno-strict-aliasing -pipe -fstack-protector -I/usr/local/include'
    ccversion='', gccversion='4.2.1 20070719  [FreeBSD]', gccosandvers=''
    intsize=4, longsize=4, ptrsize=4, doublesize=8, byteorder=1234
    d_longlong=define, longlongsize=8, d_longdbl=define, longdblsize=12
    ivtype='long', ivsize=4, nvtype='double', nvsize=8, Off_t='off_t', lseeksize=8
    alignbytes=4, prototype=define
  Linker and Libraries:
    ld='ccache cc', ldflags ='-Wl,-E  -fstack-protector -L/usr/local/lib'
    libpth=/usr/lib /usr/local/lib
    libs=-lgdbm -lm -lcrypt -lutil -lc
    perllibs=-lm -lcrypt -lutil -lc
    libc=, so=so, useshrplib=false, libperl=libperl.a
    gnulibc_version=''
  Dynamic Linking:
    dlsrc=dl_dlopen.xs, dlext=so, d_dlsymun=undef, ccdlflags=' '
    cccdlflags='-DPIC -fPIC', lddlflags='-shared  -L/usr/local/lib -fstack-protector'
Characteristics of this binary (from libperl): 
  Compile-time options: PERL_DONT_CREATE_GVSV PERL_MALLOC_WRAP PERL_USE_DEVEL
                        USE_LARGE_FILES USE_PERLIO
  Built under freebsd
  Compiled at Feb  6 2010 13:47:51
  %ENV:
    PERL5LIB="/usr/local/src/CPAN/build/MCE-1.104-n_QbFC/blib/arch:/usr/local/src/CPAN/build/MCE-1.104-n_QbFC/blib/lib:/usr/local/src/CPAN/build/CPAN-Testers-WWW-Reports-Query-AJAX-0.07-IFZInn/blib/arch:/usr/local/src/CPAN/build/CPAN-Testers-WWW-Reports-Query-AJAX-0.07-IFZInn/blib/lib:/usr/local/src/CPAN/build/Pod-Weaver-PluginBundle-TAPPER-0.002-4g5ycs/blib/arch:/usr/local/src/CPAN/build/Pod-Weaver-PluginBundle-TAPPER-0.002-4g5ycs/blib/lib:/usr/local/src/CPAN/build/XML-Compile-C14N-0.91-5EFv6e/blib/arch:/usr/local/src/CPAN/build/XML-Compile-C14N-0.91-5EFv6e/blib/lib:/usr/local/src/CPAN/build/XML-Compile-1.30-h72jaj/blib/arch:/usr/local/src/CPAN/build/XML-Compile-1.30-h72jaj/blib/lib:/usr/local/src/CPAN/build/XML-Compile-Tester-0.90-C4wGQK/blib/arch:/usr/local/src/CPAN/build/XML-Compile-Tester-0.90-C4wGQK/blib/lib:/usr/local/src/CPAN/build/Log-Report-0.991-XKfWHX/blib/arch:/usr/local/src/CPAN/build/Log-Report-0.991-XKfWHX/blib/lib"
    PERL5OPT=""
    PERL5_CPANPLUS_IS_RUNNING="83260"
    PERL5_CPAN_IS_RUNNING="83260"
    PERL5_CPAN_IS_RUNNING_IN_RECURSION="83236,83260"
    PERL_BATCH="yes"
    PERL_CPAN_REPORTER_CONFIG="/var/tmp/cpansmoker-1023/B605ocrFxp_config.ini"
    PERL_EXTUTILS_AUTOINSTALL="--defaultdeps"
    PERL_HTML_DISPLAY_CLASS="HTML::Display::Mozilla"
  @INC:
    /usr/local/src/CPAN/build/MCE-1.104-n_QbFC/blib/arch
    /usr/local/src/CPAN/build/MCE-1.104-n_QbFC/blib/lib
    /usr/local/src/CPAN/build/CPAN-Testers-WWW-Reports-Query-AJAX-0.07-IFZInn/blib/arch
    /usr/local/src/CPAN/build/CPAN-Testers-WWW-Reports-Query-AJAX-0.07-IFZInn/blib/lib
    /usr/local/src/CPAN/build/Pod-Weaver-PluginBundle-TAPPER-0.002-4g5ycs/blib/arch
    /usr/local/src/CPAN/build/Pod-Weaver-PluginBundle-TAPPER-0.002-4g5ycs/blib/lib
    /usr/local/src/CPAN/build/XML-Compile-C14N-0.91-5EFv6e/blib/arch
    /usr/local/src/CPAN/build/XML-Compile-C14N-0.91-5EFv6e/blib/lib
    /usr/local/src/CPAN/build/XML-Compile-1.30-h72jaj/blib/arch
    /usr/local/src/CPAN/build/XML-Compile-1.30-h72jaj/blib/lib
    /usr/local/src/CPAN/build/XML-Compile-Tester-0.90-C4wGQK/blib/arch
    /usr/local/src/CPAN/build/XML-Compile-Tester-0.90-C4wGQK/blib/lib
    /usr/local/src/CPAN/build/Log-Report-0.991-XKfWHX/blib/arch
    /usr/local/src/CPAN/build/Log-Report-0.991-XKfWHX/blib/lib
    /usr/perl5.10.1/lib/5.10.1/i386-freebsd
    /usr/perl5.10.1/lib/5.10.1
    /usr/perl5.10.1/lib/site_perl/5.10.1/i386-freebsd
    /usr/perl5.10.1/lib/site_perl/5.10.1
    .