Mo v0.40 Perl 5 v5.18.2 aarch64-linux-thread-multi-ld

Status
Pass
From
Nigel Horne
Dist
Mo v0.40
Platform
Perl 5 v5.18.2 aarch64-linux-thread-multi-ld
Date
2019-06-07 13:04:10
ID
bdb173de-8924-11e9-a9cd-fa9b10e79462
This distribution has been tested as part of the CPAN Testers
project, supporting the Perl programming language.  See
http://wiki.cpantesters.org/ for more information or email
questions to cpan-testers-discuss@perl.org


--
Dear Tina Muller,

This is a computer-generated report for Mo-0.40
on perl 5.18.2, created by CPAN-Reporter-1.2018.

Thank you for uploading your work to CPAN.  Congratulations!
All tests were successful.

Sections of this report:

    * Tester comments
    * Program output
    * Prerequisites
    * Environment and other context

------------------------------
TESTER COMMENTS
------------------------------

Additional comments from tester:

none provided

------------------------------
PROGRAM OUTPUT
------------------------------

Output from '/usr/bin/make test':

PERL_DL_NONLAZY=1 /home/njh/perl5/perlbrew/perls/perl-5.18.2-thread-multi-ld/bin/perl5.18.2 "-MExtUtils::Command::MM" "-e" "test_harness(0, 'blib/lib', 'blib/arch')" t/*.t
# 
# 
# Generated by Dist::Zilla::Plugin::ReportVersions::Tiny v1.12
# perl: 5.018002 (wanted v5.6.0) on linux from /home/njh/perl5/perlbrew/perls/perl-5.18.2-thread-multi-ld/bin/perl5.18.2
# 
# Class::XSAccessor                             => module not found. (want any version)
# ExtUtils::MakeMaker                           => 6.66       (want any version)
# IO::All                                       => module not found. (want any version)
# Moose                                         => module not found. (want any version)
# Mouse                                         => module not found. (want any version)
# Test::More                                    => 1.302162   (want 0.96)   
# 
# Thanks for using my code.  I hope it works for you.
# If not, please try and include this output in the bug report.
# That will help me reproduce the issue and solve your problem.
# 
t/author-00-compile.t ......... skipped: these tests are for testing by the author
t/000-report-versions-tiny.t .. ok
t/author-pod-spell.t .......... skipped: these tests are for testing by the author
t/author-pod-syntax.t ......... skipped: these tests are for testing by the author
t/author-test-version.t ....... skipped: these tests are for testing by the author
t/builder.t ................... ok
t/build.t ..................... ok
t/coerce.t .................... ok
t/combined.t .................. ok
t/chain.t ..................... ok
t/importer.t .................. ok
t/default.t ................... ok
t/extends.t ................... ok
t/is.t ........................ ok
t/lazy-nonlazy.t .............. ok
t/main_sub.t .................. ok
t/Moose.t ..................... skipped: Moose is needed
t/Mouse.t ..................... skipped: Mouse is needed
t/option.t .................... ok
t/object.t .................... ok
t/release-correct-version.t ... skipped: these tests are for release candidate testing
t/release-distmeta.t .......... skipped: these tests are for release candidate testing
t/release-eol.t ............... skipped: these tests are for release candidate testing
t/release-no-tabs.t ........... skipped: these tests are for release candidate testing
t/required.t .................. ok
t/strict.t .................... ok
t/xs.t ........................ skipped: Class::XSAccessor is needed
t/test.t ...................... ok
All tests successful.
Files=28, Tests=144,  3 wallclock secs ( 0.36 usr  0.06 sys +  6.20 cusr  0.83 csys =  7.45 CPU)
Result: PASS

------------------------------
PREREQUISITES
------------------------------

Prerequisite modules loaded:

requires:

    Module              Need     Have    
    ------------------- -------- --------
    perl                5.006000 5.018002

build_requires:

    Module              Need     Have    
    ------------------- -------- --------
    ExtUtils::MakeMaker 0        6.66    
    Test::More          0.96     1.302162

configure_requires:

    Module              Need     Have    
    ------------------- -------- --------
    ExtUtils::MakeMaker 0        6.66    


------------------------------
ENVIRONMENT AND OTHER CONTEXT
------------------------------

Environment variables:

    HARNESS_OPTIONS = c:j4
    LANG = en_US.UTF-8
    LANGUAGE = en_US.UTF-8
    LC_ALL = en_US.UTF-8
    NONINTERACTIVE_TESTING = 1
    PATH = /home/njh/perl5/perlbrew/bin:/home/njh/perl5/perlbrew/perls/perl-5.18.2-thread-multi-ld/bin:/home/njh/perl5/perlbrew/bin:/home/njh/bin:/usr/local/bin:/usr/bin:/bin:/usr/games
    PERL5LIB = 
    PERL5OPT = 
    PERL5_CPANPLUS_IS_RUNNING = 19223
    PERL5_CPAN_IS_RUNNING = 19223
    PERLBREW_HOME = /home/njh/.perlbrew
    PERLBREW_LIB = 
    PERLBREW_MANPATH = /home/njh/perl5/perlbrew/perls/perl-5.18.2-thread-multi-ld/man
    PERLBREW_PATH = /home/njh/perl5/perlbrew/bin:/home/njh/perl5/perlbrew/perls/perl-5.18.2-thread-multi-ld/bin
    PERLBREW_PERL = perl-5.18.2-thread-multi-ld
    PERLBREW_ROOT = /home/njh/perl5/perlbrew
    PERLBREW_SHELLRC_VERSION = 0.83
    PERLBREW_VERSION = 0.83
    PERL_LOCAL_LIB_ROOT = 
    PERL_MM_USE_DEFAULT = 1
    PERL_USE_UNSAFE_INC = 1
    SHELL = /bin/bash

Perl special variables (and OS-specific diagnostics, for MSWin32):

    $^X = /home/njh/perl5/perlbrew/perls/perl-5.18.2-thread-multi-ld/bin/perl5.18.2
    $UID/$EUID = 1000 / 1000
    $GID = 1000 1000
    $EGID = 1000 1000

Perl module toolchain versions installed:

    Module              Have    
    ------------------- --------
    CPAN                2.26    
    CPAN::Meta          2.120921
    Cwd                 3.75    
    ExtUtils::CBuilder  0.280210
    ExtUtils::Command   1.17    
    ExtUtils::Install   1.59    
    ExtUtils::MakeMaker 6.66    
    ExtUtils::Manifest  1.63    
    ExtUtils::ParseXS   3.18    
    File::Spec          3.75    
    JSON                4.02    
    JSON::PP            4.02    
    Module::Build       0.4003  
    Module::Signature   n/a     
    Parse::CPAN::Meta   1.4404  
    Test::Harness       3.42    
    Test::More          1.302162
    YAML                1.27    
    YAML::Syck          1.31    
    version             0.9902  


--

Summary of my perl5 (revision 5 version 18 subversion 2) configuration:
   
  Platform:
    osname=linux, osvers=4.15.11-mainline-rev1, archname=aarch64-linux-thread-multi-ld
    uname='linux scaleway 4.15.11-mainline-rev1 #1 smp mon mar 19 08:29:15 utc 2018 aarch64 gnulinux '
    config_args='-de -Dprefix=/home/njh/perl5/perlbrew/perls/perl-5.18.2-thread-multi-ld -Dusedevel -Dusethreads -Duselongdouble -Dusemultiplicity -Accflags= -Aeval:scriptdir=/home/njh/perl5/perlbrew/perls/perl-5.18.2-thread-multi-ld/bin'
    hint=recommended, useposix=true, d_sigaction=define
    useithreads=define, usemultiplicity=define
    useperlio=define, d_sfio=undef, uselargefiles=define, usesocks=undef
    use64bitint=define, use64bitall=define, uselongdouble=define
    usemymalloc=n, bincompat5005=undef
  Compiler:
    cc='cc', ccflags ='-D_REENTRANT -D_GNU_SOURCE -fno-strict-aliasing -pipe -fstack-protector -I/usr/local/include -D_LARGEFILE_SOURCE -D_FILE_OFFSET_BITS=64',
    optimize='-O2',
    cppflags='-D_REENTRANT -D_GNU_SOURCE -fno-strict-aliasing -pipe -fstack-protector -I/usr/local/include'
    ccversion='', gccversion='6.3.0 20170516', gccosandvers=''
    intsize=4, longsize=8, ptrsize=8, doublesize=8, byteorder=12345678
    d_longlong=define, longlongsize=8, d_longdbl=define, longdblsize=16
    ivtype='long', ivsize=8, nvtype='long double', nvsize=16, Off_t='off_t', lseeksize=8
    alignbytes=16, prototype=define
  Linker and Libraries:
    ld='cc', ldflags =' -fstack-protector -L/usr/local/lib'
    libpth=/usr/local/lib /lib/aarch64-linux-gnu /lib/../lib /usr/lib/aarch64-linux-gnu /usr/lib/../lib /lib /usr/lib
    libs=-lnsl -lgdbm -ldb -ldl -lm -lcrypt -lutil -lpthread -lc -lgdbm_compat
    perllibs=-lnsl -ldl -lm -lcrypt -lutil -lpthread -lc
    libc=libc-2.24.so, so=so, useshrplib=false, libperl=libperl.a
    gnulibc_version='2.24'
  Dynamic Linking:
    dlsrc=dl_dlopen.xs, dlext=so, d_dlsymun=undef, ccdlflags='-Wl,-E'
    cccdlflags='-fPIC', lddlflags='-shared -O2 -L/usr/local/lib -fstack-protector'


Characteristics of this binary (from libperl): 
  Compile-time options: HAS_TIMES MULTIPLICITY PERLIO_LAYERS
                        PERL_DONT_CREATE_GVSV
                        PERL_HASH_FUNC_ONE_AT_A_TIME_HARD
                        PERL_IMPLICIT_CONTEXT PERL_MALLOC_WRAP
                        PERL_PRESERVE_IVUV PERL_SAWAMPERSAND PERL_USE_DEVEL
                        USE_64_BIT_ALL USE_64_BIT_INT USE_ITHREADS
                        USE_LARGE_FILES USE_LOCALE USE_LOCALE_COLLATE
                        USE_LOCALE_CTYPE USE_LOCALE_NUMERIC USE_LONG_DOUBLE
                        USE_PERLIO USE_PERL_ATOF USE_REENTRANT_API
  Locally applied patches:
	Devel::PatchPerl 1.48
  Built under linux
  Compiled at Feb 10 2019 03:12:27
  %ENV:
    PERL5LIB=""
    PERL5OPT=""
    PERL5_CPANPLUS_IS_RUNNING="19223"
    PERL5_CPAN_IS_RUNNING="19223"
    PERLBREW_HOME="/home/njh/.perlbrew"
    PERLBREW_LIB=""
    PERLBREW_MANPATH="/home/njh/perl5/perlbrew/perls/perl-5.18.2-thread-multi-ld/man"
    PERLBREW_PATH="/home/njh/perl5/perlbrew/bin:/home/njh/perl5/perlbrew/perls/perl-5.18.2-thread-multi-ld/bin"
    PERLBREW_PERL="perl-5.18.2-thread-multi-ld"
    PERLBREW_ROOT="/home/njh/perl5/perlbrew"
    PERLBREW_SHELLRC_VERSION="0.83"
    PERLBREW_VERSION="0.83"
    PERL_LOCAL_LIB_ROOT=""
    PERL_MM_USE_DEFAULT="1"
    PERL_USE_UNSAFE_INC="1"
  @INC:
    /home/njh/perl5/perlbrew/perls/perl-5.18.2-thread-multi-ld/lib/site_perl/5.18.2/aarch64-linux-thread-multi-ld
    /home/njh/perl5/perlbrew/perls/perl-5.18.2-thread-multi-ld/lib/site_perl/5.18.2
    /home/njh/perl5/perlbrew/perls/perl-5.18.2-thread-multi-ld/lib/5.18.2/aarch64-linux-thread-multi-ld
    /home/njh/perl5/perlbrew/perls/perl-5.18.2-thread-multi-ld/lib/5.18.2
    .