Net-DBus v1.2.0 Perl 5 v5.34.0 x86_64-linux-thread-multi

Status
Pass
From
Nick Alcock
Dist
Net-DBus v1.2.0
Platform
Perl 5 v5.34.0 x86_64-linux-thread-multi
Date
2021-05-31 18:40:57
ID
bd1ccad0-c23f-11eb-8ce5-1e8ec441000a
This distribution has been tested as part of the CPAN Testers
project, supporting the Perl programming language.  See
http://wiki.cpantesters.org/ for more information or email
questions to cpan-testers-discuss@perl.org


--
Dear Daniel P. Berrange,

This is a computer-generated report for Net-DBus-1.2.0
on perl 5.34.0, created by CPAN-Reporter-1.2018.

Thank you for uploading your work to CPAN.  Congratulations!
All tests were successful.

Sections of this report:

    * Tester comments
    * Program output
    * Prerequisites
    * Environment and other context

------------------------------
TESTER COMMENTS
------------------------------

Additional comments from tester:

none provided

------------------------------
PROGRAM OUTPUT
------------------------------

Output from '/usr/bin/make test':

"/pkg/perl/5.34.0-8/usr/bin/perl" -MExtUtils::Command::MM -e 'cp_nonempty' -- DBus.bs blib/arch/auto/Net/DBus/DBus.bs 644
PERL_DL_NONLAZY=1 "/pkg/perl/5.34.0-8/usr/bin/perl" "-MExtUtils::Command::MM" "-MTest::Harness" "-e" "undef *Test::Harness::Switches; test_harness(0, 'blib/lib', 'blib/arch')" t/*.t
t/00-constants.t ................ ok
t/05-pod.t ...................... ok
t/10-pod-coverage.t ............. ok
t/12-changes.t .................. ok
t/15-message.t .................. ok
t/20-callback.t ................. ok
t/25-reactor.t .................. ok
t/26-reactor-time-adjusted.t .... ok
t/30-server.t ................... ok
t/40-introspector.t ............. ok
t/42-object-introspect-avahi.t .. ok
t/45-exporter.t ................. ok
t/50-object-introspect.t ........ ok
t/55-method-calls.t ............. ok
t/56-scalar-param-typing.t ...... ok
t/60-object-props.t ............. ok
t/65-object-magic.t ............. ok
t/66-child-objects.t ............ ok
t/67-child-objects.t ............ ok
t/70-errors.t ................... ok
t/75-notifications.t ............ ok
All tests successful.
Files=21, Tests=755,  5 wallclock secs ( 0.14 usr  0.01 sys +  2.73 cusr  0.26 csys =  3.14 CPU)
Result: PASS

------------------------------
PREREQUISITES
------------------------------

Prerequisite modules loaded:

requires:

    Module              Need Have    
    ------------------- ---- --------
    Test::CPAN::Changes 0    0.400002
    Test::More          0    1.302185
    Test::Pod           0    1.52    
    Test::Pod::Coverage 0    1.10    
    Time::HiRes         0    1.9767  
    XML::Twig           0    3.52    

build_requires:

    Module              Need Have    
    ------------------- ---- --------
    ExtUtils::MakeMaker 0    7.62    


------------------------------
ENVIRONMENT AND OTHER CONTEXT
------------------------------

Environment variables:

    LANG = en_GB.UTF-8
    LC_COLLATE = C
    PATH = /root/bin:/root/bin:/usr/bin:/bin:/usr/sbin:/sbin:/usr/games
    PERL5LIB = 
    PERL5OPT = 
    PERL5_CPANPLUS_IS_RUNNING = 154315
    PERL5_CPAN_IS_RUNNING = 154315
    PERL_USE_UNSAFE_INC = 1
    SHELL = /bin/bash
    TERM = xterm-256color

Perl special variables (and OS-specific diagnostics, for MSWin32):

    $^X = /pkg/perl/5.34.0-8/usr/bin/perl
    $UID/$EUID = 0 / 0
    $GID = 0 0 1 2 3 4 6 10 11 16 25 72 73 80 81
    $EGID = 0 0 1 2 3 4 6 10 11 16 25 72 73 80 81

Perl module toolchain versions installed:

    Module              Have    
    ------------------- --------
    CPAN                2.28    
    CPAN::Meta          2.150010
    Cwd                 3.80    
    ExtUtils::CBuilder  0.280236
    ExtUtils::Command   7.62    
    ExtUtils::Install   2.20    
    ExtUtils::MakeMaker 7.62    
    ExtUtils::Manifest  1.73    
    ExtUtils::ParseXS   3.43    
    File::Spec          3.80    
    JSON                4.03    
    JSON::PP            4.06    
    Module::Build       0.4231  
    Module::Signature   0.87    
    Parse::CPAN::Meta   2.150010
    Test::Harness       3.43    
    Test::More          1.302185
    YAML                1.30    
    YAML::Syck          n/a     
    version             0.9928  


--

Summary of my perl5 (revision 5 version 34 subversion 0) configuration:
  Local Commit: 3e217f6b46485f0c7b1c4551a3cce7a3fa55941b
  Ancestor: 79a7b254d85a10b65126ad99bf10e70480569d68
  Platform:
    osname=linux
    osvers=5.11.8-00022-gcba5e72ee391-dirty
    archname=x86_64-linux-thread-multi
    uname='linux loom 5.11.8-00022-gcba5e72ee391-dirty #3 smp mon apr 5 11:43:13 bst 2021 x86_64 gnulinux '
    config_args='-d -e -Duseithreads -D privlib=/usr/lib/perl5/5.34 -D sitelib=/usr/lib/perl5/site_perl/5.34 -D optimize=-gdwarf-4 -feliminate-unused-debug-types -fvar-tracking-assignments -O2 -pipe '
    hint=recommended
    useposix=true
    d_sigaction=define
    useithreads=define
    usemultiplicity=define
    use64bitint=define
    use64bitall=define
    uselongdouble=undef
    usemymalloc=n
    default_inc_excludes_dot=define
  Compiler:
    cc='gcc'
    ccflags ='-D_REENTRANT -D_GNU_SOURCE -D_REENTRANT -D_GNU_SOURCE -g -fno-strict-aliasing -D_LARGEFILE_SOURCE -D_FILE_OFFSET_BITS=64 -pipe -fstack-protector-strong -fwrapv -feliminate-unused-debug-types -fvar-tracking-assignments -fstack-clash-protection -D_LARGEFILE_SOURCE -D_FILE_OFFSET_BITS=64 -D_FORTIFY_SOURCE=2'
    optimize='-gdwarf-4 -feliminate-unused-debug-types -fvar-tracking-assignments -O2 -pipe '
    cppflags='-D_REENTRANT -D_GNU_SOURCE -D_REENTRANT -D_GNU_SOURCE -g -fno-strict-aliasing -D_LARGEFILE_SOURCE -D_FILE_OFFSET_BITS=64 -pipe -fstack-protector-strong -fwrapv -feliminate-unused-debug-types -fvar-tracking-assignments -fstack-clash-protection'
    ccversion=''
    gccversion='10.3.1 20210524'
    gccosandvers=''
    intsize=4
    longsize=8
    ptrsize=8
    doublesize=8
    byteorder=12345678
    doublekind=3
    d_longlong=define
    longlongsize=8
    d_longdbl=define
    longdblsize=16
    longdblkind=3
    ivtype='long'
    ivsize=8
    nvtype='double'
    nvsize=8
    Off_t='off_t'
    lseeksize=8
    alignbytes=8
    prototype=define
  Linker and Libraries:
    ld='gcc'
    ldflags ='-Wl,--enable-new-dtags -fstack-protector-strong -L/usr/local/lib'
    libpth=/usr/lib /lib /usr/local/lib
    libs=-lpthread -lgdbm -ldb -ldl -lm -lcrypt -lutil -lc -lgdbm_compat
    perllibs=-lpthread -ldl -lm -lcrypt -lutil -lc
    libc=libc-2.33.so
    so=so
    useshrplib=true
    libperl=libperl.so
    gnulibc_version='2.33'
  Dynamic Linking:
    dlsrc=dl_dlopen.xs
    dlext=so
    d_dlsymun=undef
    ccdlflags='-Wl,-E -Wl,-rpath,/usr/lib/perl5/5.34/x86_64-linux-thread-multi/CORE'
    cccdlflags='-fPIC'
    lddlflags='-shared -gdwarf-4 -feliminate-unused-debug-types -fvar-tracking-assignments -O2 -pipe  -L/usr/local/lib -fstack-protector-strong'


Characteristics of this binary (from libperl): 
  Compile-time options:
    HAS_TIMES
    MULTIPLICITY
    PERLIO_LAYERS
    PERL_COPY_ON_WRITE
    PERL_DONT_CREATE_GVSV
    PERL_IMPLICIT_CONTEXT
    PERL_MALLOC_WRAP
    PERL_OP_PARENT
    PERL_PRESERVE_IVUV
    USE_64_BIT_ALL
    USE_64_BIT_INT
    USE_ITHREADS
    USE_LARGE_FILES
    USE_LOCALE
    USE_LOCALE_COLLATE
    USE_LOCALE_CTYPE
    USE_LOCALE_NUMERIC
    USE_LOCALE_TIME
    USE_PERLIO
    USE_PERL_ATOF
    USE_REENTRANT_API
    USE_THREAD_SAFE_LOCALE
  Locally applied patches:
    30578a24b6eb4c57755132dd03b2bed3e370544f
    dc54947ad2569c079574552e59cf5d175f657e64
    9e01260c07bb9f1b80a9122f5c612fd071e8a2e1
    9d93e1247f7afa61e917190a8db939c363b9d1b0
    93629346f2c6687f23a962cc7c7dd27a21d05020
    1e7606f01ad0c2f783a96f6cf3056dc832dd5596
    e9232b19ae3af3a0f8dec739cb68fc20c6aec244
    3e217f6b46485f0c7b1c4551a3cce7a3fa55941b
  Built under linux
  Compiled at May 31 2021 16:09:20
  %ENV:
    PERL5LIB=""
    PERL5OPT=""
    PERL5_CPANPLUS_IS_RUNNING="154315"
    PERL5_CPAN_IS_RUNNING="154315"
    PERL_USE_UNSAFE_INC="1"
  @INC:
    /usr/lib/perl5/site_perl/5.34/x86_64-linux-thread-multi
    /usr/lib/perl5/site_perl/5.34
    /usr/lib/perl5/5.34/x86_64-linux-thread-multi
    /usr/lib/perl5/5.34
    .