CGI-Buffer v0.82 Perl 5 v5.20.3 x86_64-linux

Status
Pass
From
Slaven Rezić (SREZIC)
Dist
CGI-Buffer v0.82
Platform
Perl 5 v5.20.3 x86_64-linux
Date
2018-08-07 17:53:06
ID
bd0c9246-9a6a-11e8-892e-f73175d6f7de
This distribution has been tested as part of the CPAN Testers
project, supporting the Perl programming language.  See
http://wiki.cpantesters.org/ for more information or email
questions to cpan-testers-discuss@perl.org


--
Dear Nigel Horne,

This is a computer-generated report for CGI-Buffer-0.82
on perl 5.20.3, created by CPAN-Reporter-1.2018.

Thank you for uploading your work to CPAN.  Congratulations!
All tests were successful.

Sections of this report:

    * Tester comments
    * Program output
    * Prerequisites
    * Environment and other context

------------------------------
TESTER COMMENTS
------------------------------

Additional comments from tester:

none provided

------------------------------
PROGRAM OUTPUT
------------------------------

Output from '/usr/bin/make test':

PERL_DL_NONLAZY=1 "/opt/perl-5.20.3/bin/perl" "-MExtUtils::Command::MM" "-MTest::Harness" "-e" "undef *Test::Harness::Switches; test_harness(0, 'blib/lib', 'blib/arch')" t/*.t
# Testing CGI::Buffer 0.82, Perl 5.020003, /opt/perl-5.20.3/bin/perl
t/00-load.t ........ ok
t/apoc.t ........... skipped: Test::Apocalypse required for testing the distribution
t/boiler.t ......... ok
t/changes.t ........ skipped: Author tests not required for installation
t/coverage.t ....... ok
t/critic.t ......... skipped: Author tests not required for installation
t/cv.t ............. skipped: Author tests not required for installation
t/dist.t ........... skipped: Author tests not required for installation
t/gv.t ............. skipped: Author tests not required for installation
# Using CHI 0.60
t/is_cached.t ...... ok
t/js.t ............. ok
t/kwalitee.t ....... skipped: Author tests not required for installation
t/last_mod.t ....... ok
t/links.t .......... skipped: Author tests not required for installation
t/manifest.t ....... skipped: Author tests not required for installation
t/metrics.t ........ skipped: Author tests not required for installation
t/namespaces.t ..... skipped: Author tests not required for installation
t/no404s.t ......... skipped: Author tests not required for installation
# Author tests not required for installation
t/noopentickets.t .. ok
t/noplan.t ......... skipped: Author tests not required for installation
# Ignore warning about <a> is never closed
(1:59): <a> at (1:13) is never closed
(1:66): <head> tag is required
(1:66): <title> tag is required
t/output.t ......... ok
t/pod-cm.t ......... skipped: Test::Pod::Spelling::CommonMistakes required for testing POD spelling
t/pod.t ............ skipped: Author tests not required for installation
t/port.t ........... ok
t/prereq.t ......... skipped: Author tests not required for installation
t/snippets.t ....... skipped: Author tests not required for installation
t/spelling.t ....... skipped: Author tests not required for installation
t/strict.t ......... skipped: Author tests not required for installation
# Using CHI 0.60
# Ignore the error that it can't retrieve the given body
Error retrieving data for key xyzzy at t/too_late.t line 0.
Can't retrieve body for key xyzzy at t/too_late.t line 0.
Can't retrieve body for key xyzzy, cache_hash contains:
t/too_late.t ....... ok
t/unused.t ......... skipped: Author tests not required for installation
t/used.t ........... skipped: Author tests not required for installation
t/vars.t ........... skipped: Author tests not required for installation
All tests successful.

Test Summary Report
-------------------
t/boiler.t       (Wstat: 0 Tests: 3 Failed: 0)
  TODO passed:   1-3
Files=32, Tests=144,  6 wallclock secs ( 0.06 usr  0.14 sys +  4.77 cusr  0.90 csys =  5.87 CPU)
Result: PASS

------------------------------
PREREQUISITES
------------------------------

Prerequisite modules loaded:

requires:

    Module               Need     Have    
    -------------------- -------- --------
    Carp                 0        1.38    
    CGI::Info            0.51     0.64    
    Compress::Zlib       0        2.081   
    CSS::Packer          0        2.03    
    Digest::MD5          0        2.55    
    Encode               0        2.98    
    File::Spec           0        3.74    
    HTML::Lint           0        2.28    
    HTML::Packer         1        2.05    
    HTTP::Date           0        6.02    
    HTTP::Status         0        6.16    
    IO::Compress::Brotli 0.003    0.004   
    IO::String           0        1.08    
    JavaScript::Packer   2        2.03    
    perl                 5.006002 5.020003
    Storable             0        2.51    
    Time::localtime      0        1.02    

build_requires:

    Module               Need     Have    
    -------------------- -------- --------
    DateTime             0        1.48    
    ExtUtils::MakeMaker  0        7.34    
    Test::Most           0        0.35    
    Test::TempDir::Tiny  0        0.017   
    WWW::RT::CPAN        0        0.002   

configure_requires:

    Module               Need     Have    
    -------------------- -------- --------
    ExtUtils::MakeMaker  0        7.34    


------------------------------
ENVIRONMENT AND OTHER CONTEXT
------------------------------

Environment variables:

    LANG = C
    PATH = /usr/local/bin:/usr/bin:/bin:/usr/local/sbin:/usr/sbin:/sbin:/home/cpansand/bin/linux-gnu:/home/cpansand/bin/sh:/home/cpansand/bin:/usr/games:/home/cpansand/devel:/home/eserte/src/srezic-misc/scripts
    PERL5LIB = 
    PERL5OPT = 
    PERL5_CPANPLUS_IS_RUNNING = 10632
    PERL5_CPAN_IS_RUNNING = 10632
    PERL5_CPAN_IS_RUNNING_IN_RECURSION = 29656,10632
    PERLDOC = -MPod::Perldoc::ToTextOverstrike
    PERL_BATCH = yes
    PERL_CANARY_STABILITY_NOPROMPT = 1
    PERL_CPAN_REPORTER_CONFIG = /var/tmp/cpansmoker-1023/2018080717/cpanreporter_000_config.ini
    PERL_EXTUTILS_AUTOINSTALL = --defaultdeps
    PERL_USE_UNSAFE_INC = 1
    SHELL = /usr/bin/zsh
    TERM = screen
    TMPDIR = /var/tmp/cpansmoker-1023/2018080717

Perl special variables (and OS-specific diagnostics, for MSWin32):

    $^X = /opt/perl-5.20.3/bin/perl
    $UID/$EUID = 1023 / 1023
    $GID = 1023 1023
    $EGID = 1023 1023

Perl module toolchain versions installed:

    Module              Have    
    ------------------- --------
    CPAN                2.16    
    CPAN::Meta          2.150010
    Cwd                 3.74    
    ExtUtils::CBuilder  0.280230
    ExtUtils::Command   7.34    
    ExtUtils::Install   2.06    
    ExtUtils::MakeMaker 7.34    
    ExtUtils::Manifest  1.71    
    ExtUtils::ParseXS   3.35    
    File::Spec          3.74    
    JSON                2.97001 
    JSON::PP            2.97001 
    Module::Build       0.4224  
    Module::Signature   0.81    
    Parse::CPAN::Meta   2.150010
    Test::Harness       3.42    
    Test::More          1.302136
    YAML                1.26    
    YAML::Syck          1.30    
    version             0.9918  


--

Summary of my perl5 (revision 5 version 20 subversion 3) configuration:
   
  Platform:
    osname=linux, osvers=3.16.0-4-amd64, archname=x86_64-linux
    uname='linux debian8 3.16.0-4-amd64 #1 smp debian 3.16.43-2+deb8u1 (2017-06-18) x86_64 gnulinux '
    config_args='-ds -e -Dprefix=/opt/perl-5.20.3 -Dcf_email=srezic@cpan.org'
    hint=recommended, useposix=true, d_sigaction=define
    useithreads=undef, usemultiplicity=undef
    use64bitint=define, use64bitall=define, uselongdouble=undef
    usemymalloc=n, bincompat5005=undef
  Compiler:
    cc='cc', ccflags ='-fwrapv -fno-strict-aliasing -pipe -fstack-protector -I/usr/local/include -D_LARGEFILE_SOURCE -D_FILE_OFFSET_BITS=64',
    optimize='-O2',
    cppflags='-fwrapv -fno-strict-aliasing -pipe -fstack-protector -I/usr/local/include'
    ccversion='', gccversion='4.9.2', gccosandvers=''
    intsize=4, longsize=8, ptrsize=8, doublesize=8, byteorder=12345678
    d_longlong=define, longlongsize=8, d_longdbl=define, longdblsize=16
    ivtype='long', ivsize=8, nvtype='double', nvsize=8, Off_t='off_t', lseeksize=8
    alignbytes=8, prototype=define
  Linker and Libraries:
    ld='cc', ldflags =' -fstack-protector -L/usr/local/lib'
    libpth=/usr/local/lib /usr/lib/gcc/x86_64-linux-gnu/4.9/include-fixed /usr/include/x86_64-linux-gnu /usr/lib /lib/x86_64-linux-gnu /lib/../lib /usr/lib/x86_64-linux-gnu /usr/lib/../lib /lib
    libs=-lpthread -lnsl -lgdbm -ldb -ldl -lm -lcrypt -lutil -lc -lgdbm_compat
    perllibs=-lpthread -lnsl -ldl -lm -lcrypt -lutil -lc
    libc=libc-2.19.so, so=so, useshrplib=false, libperl=libperl.a
    gnulibc_version='2.19'
  Dynamic Linking:
    dlsrc=dl_dlopen.xs, dlext=so, d_dlsymun=undef, ccdlflags='-Wl,-E'
    cccdlflags='-fPIC', lddlflags='-shared -O2 -L/usr/local/lib -fstack-protector'


Characteristics of this binary (from libperl): 
  Compile-time options: HAS_TIMES PERLIO_LAYERS PERL_DONT_CREATE_GVSV
                        PERL_HASH_FUNC_ONE_AT_A_TIME_HARD PERL_MALLOC_WRAP
                        PERL_NEW_COPY_ON_WRITE PERL_PRESERVE_IVUV
                        USE_64_BIT_ALL USE_64_BIT_INT USE_LARGE_FILES
                        USE_LOCALE USE_LOCALE_COLLATE USE_LOCALE_CTYPE
                        USE_LOCALE_NUMERIC USE_PERLIO USE_PERL_ATOF
  Built under linux
  Compiled at Jun 20 2017 18:04:57
  %ENV:
    PERL5LIB=""
    PERL5OPT=""
    PERL5_CPANPLUS_IS_RUNNING="10632"
    PERL5_CPAN_IS_RUNNING="10632"
    PERL5_CPAN_IS_RUNNING_IN_RECURSION="29656,10632"
    PERLDOC="-MPod::Perldoc::ToTextOverstrike"
    PERL_BATCH="yes"
    PERL_CANARY_STABILITY_NOPROMPT="1"
    PERL_CPAN_REPORTER_CONFIG="/var/tmp/cpansmoker-1023/2018080717/cpanreporter_000_config.ini"
    PERL_EXTUTILS_AUTOINSTALL="--defaultdeps"
    PERL_USE_UNSAFE_INC="1"
  @INC:
    /opt/perl-5.20.3/lib/site_perl/5.20.3/x86_64-linux
    /opt/perl-5.20.3/lib/site_perl/5.20.3
    /opt/perl-5.20.3/lib/5.20.3/x86_64-linux
    /opt/perl-5.20.3/lib/5.20.3
    .