Report for Dist-Zilla-Plugin-CheckExtraTests-0.023

Back
From: metabase:user:5bbb2efa-715f-11e3-8cc1-b2993ff2e0c7
Subject: PASS Dist-Zilla-Plugin-CheckExtraTests-0.023 v5.20.0 GNU/Linux
Date: 2014-11-03T11:15:37Z

This distribution has been tested as part of the CPAN Testers
project, supporting the Perl programming language.  See
http://wiki.cpantesters.org/ for more information or email
questions to cpan-testers-discuss@perl.org


--
Dear DAGOLDEN,

This is a computer-generated report for Dist-Zilla-Plugin-CheckExtraTests-0.023
on perl 5.20.0, created by App::cpanminus::reporter 0.11 (1.7014).

Thank you for uploading your work to CPAN.  Congratulations!
All tests were successful.

Sections of this report:

    * Tester comments
    * Program output
    * Prerequisites
    * Environment and other context

------------------------------
TESTER COMMENTS
------------------------------

Additional comments from tester:

none provided

------------------------------
PROGRAM OUTPUT
------------------------------

Output from '':

Building and testing Dist-Zilla-Plugin-CheckExtraTests-0.023
cp lib/Dist/Zilla/Plugin/RunExtraTests.pm blib/lib/Dist/Zilla/Plugin/RunExtraTests.pm
cp lib/Dist/Zilla/App/Command/xtest.pm blib/lib/Dist/Zilla/App/Command/xtest.pm
cp lib/Dist/Zilla/Plugin/CheckExtraTests.pm blib/lib/Dist/Zilla/Plugin/CheckExtraTests.pm
Manifying 3 pod documents
PERL_DL_NONLAZY=1 "/home/ollisg/perl5/perlbrew/perls/perl-5.20.0/bin/perl" "-MExtUtils::Command::MM" "-MTest::Harness" "-e" "undef *Test::Harness::Switches; test_harness(0, 'blib/lib', 'blib/arch')" t/*.t
# 
# Versions for all modules listed in MYMETA.json (including optional ones):
# 
# === Configure Requires ===
# 
#     Module              Want Have
#     ------------------- ---- ----
#     ExtUtils::MakeMaker 6.17 7.00
# 
# === Build Requires ===
# 
#     Module              Want Have
#     ------------------- ---- ----
#     ExtUtils::MakeMaker  any 7.00
# 
# === Test Requires ===
# 
#     Module                   Want     Have
#     ------------------------ ---- --------
#     Capture::Tiny             any     0.25
#     Dist::Zilla::App::Tester  any    5.023
#     Dist::Zilla::Tester       any    5.023
#     ExtUtils::MakeMaker       any     7.00
#     File::Spec                any     3.47
#     Params::Util              any     1.07
#     Sub::Exporter             any    0.987
#     Test::More               0.88 1.001008
#     Test::Requires            any     0.08
#     Try::Tiny                 any     0.22
#     lib                       any     0.63
# 
# === Test Recommends ===
# 
#     Module         Want     Have
#     ---------- -------- --------
#     CPAN::Meta 2.120900 2.142690
# 
# === Runtime Requires ===
# 
#     Module                            Want   Have
#     -------------------------------- ----- ------
#     App::Prove                        3.00   3.33
#     Archive::Tar                       any   2.02
#     Dist::Zilla                        4.3  5.023
#     Dist::Zilla::App                   any  5.023
#     Dist::Zilla::Role::BeforeRelease   any  5.023
#     Dist::Zilla::Role::TestRunner      any  5.023
#     File::pushd                        any  1.009
#     Moose                                2 2.1400
#     Path::Iterator::Rule               any  1.008
#     Path::Tiny                       0.013  0.059
#     namespace::autoclean              0.09   0.20
#     strict                             any   1.08
#     warnings                           any   1.23
# 
t/00-report-prereqs.t .. ok
t/checkxt.t ............ ok
t/runxt.t .............. ok
t/withblib.t ........... ok
All tests successful.
Files=4, Tests=16,  8 wallclock secs ( 0.03 usr  0.00 sys +  6.50 cusr  0.66 csys =  7.19 CPU)
Result: PASS

------------------------------
PREREQUISITES
------------------------------

Prerequisite modules loaded:

    No requirements found

------------------------------
ENVIRONMENT AND OTHER CONTEXT
------------------------------

Environment variables:

    LANG = en_US.utf8
    LC_COLLATE = C
    MANPATH_WITHOUT_PERLBREW = /home/ollisg/.perlbrew/libs/perl-5.20.0@dev/man:/home/ollisg/opt/clang/3.4.2/share/man:/home/ollisg/opt/rust/0.9/share/man:/home/ollisg/opt/clang/3.4/share/man:/usr/local/man:/usr/local/share/man:/usr/share/man
    PATH = /home/ollisg/opt/sbt/bin:/home/ollisg/opt/scala/2.11.1/bin:/home/ollisg/opt/sbt/bin:/home/ollisg/opt/scala/2.11.1/bin:/home/ollisg/opt/clang/3.4.2/bin:/home/ollisg/opt/rust/0.9/bin:/home/ollisg/bin:/home/ollisg/.perlbrew/libs/perl-5.20.0@dev/bin:/home/ollisg/perl5/perlbrew/bin:/home/ollisg/perl5/perlbrew/perls/perl-5.20.0/bin:/home/ollisg/opt/sbt/bin:/home/ollisg/opt/scala/2.11.1/bin:/home/ollisg/opt/clang/3.4.2/bin:/home/ollisg/opt/rust/0.9/bin:/home/ollisg/bin:/home/ollisg/opt/clang/3.4/bin:/usr/lib/ccache:/usr/local/bin:/usr/bin:/bin:/usr/bin/X11:/usr/games
    PATH_WITHOUT_PERLBREW = /home/ollisg/opt/sbt/bin:/home/ollisg/opt/scala/2.11.1/bin:/home/ollisg/opt/clang/3.4.2/bin:/home/ollisg/opt/rust/0.9/bin:/home/ollisg/bin:/home/ollisg/opt/clang/3.4/bin:/usr/lib/ccache:/usr/local/bin:/usr/bin:/bin:/usr/bin/X11:/usr/games
    PERL5LIB = /home/ollisg/.perlbrew/libs/perl-5.20.0@dev/lib/perl5
    PERLBREW_CSHRC_VERSION = 0.67
    PERLBREW_HOME = /home/ollisg/.perlbrew
    PERLBREW_LIB = dev
    PERLBREW_MANPATH = /home/ollisg/.perlbrew/libs/perl-5.20.0@dev/man:/home/ollisg/perl5/perlbrew/perls/perl-5.20.0/man
    PERLBREW_PATH = /home/ollisg/.perlbrew/libs/perl-5.20.0@dev/bin:/home/ollisg/perl5/perlbrew/bin:/home/ollisg/perl5/perlbrew/perls/perl-5.20.0/bin
    PERLBREW_PERL = perl-5.20.0
    PERLBREW_ROOT = /home/ollisg/perl5/perlbrew
    PERLBREW_VERSION = 0.67
    PERL_CPANM_OPT = --mirror http://mirror.sydney.wdlabs.com/cpan/ --mirror-only
    PERL_LOCAL_LIB_ROOT = /home/ollisg/.perlbrew/libs/perl-5.20.0@dev
    PERL_MB_OPT = --install_base /home/ollisg/.perlbrew/libs/perl-5.20.0@dev
    PERL_MM_OPT = INSTALL_BASE=/home/ollisg/.perlbrew/libs/perl-5.20.0@dev
    PERL_PKG_CONFIG_SCRIPTS = ppkg-config
    SHELL = /bin/tcsh
    TERM = xterm

Perl special variables (and OS-specific diagnostics, for MSWin32):

    EGID = 1000 25 27 33 119 1000
    EUID = 1000
    EXECUTABLE_NAME = /home/ollisg/perl5/perlbrew/perls/perl-5.20.0/bin/perl
    GID = 1000 25 27 33 119 1000
    UID = 1000

Perl module toolchain versions installed:

    Module              Have    
    ------------------- --------
    CPAN                2.05    
    CPAN::Meta          2.142690
    Cwd                 3.47    
    ExtUtils::CBuilder  0.280220
    ExtUtils::Command   1.18    
    ExtUtils::Install   2.04    
    ExtUtils::MakeMaker 7.00    
    ExtUtils::Manifest  1.68    
    ExtUtils::ParseXS   3.24    
    File::Spec          3.47    
    JSON                2.90    
    JSON::PP            2.27300 
    Module::Build       0.4210  
    Module::Signature   n/a     
    Parse::CPAN::Meta   1.4414  
    Test::Harness       3.33    
    Test::More          1.001008
    YAML                1.13    
    YAML::Syck          n/a     
    version             0.9909  


--

Summary of my perl5 (revision 5 version 20 subversion 0) configuration:
   
  Platform:
    osname=linux, osvers=3.2.0-4-amd64, archname=x86_64-linux
    uname='linux twin 3.2.0-4-amd64 #1 smp debian 3.2.53-2 x86_64 gnulinux '
    config_args='-de -Dprefix=/home/ollisg/perl5/perlbrew/perls/perl-5.20.0 -Dcc=clang -Aeval:scriptdir=/home/ollisg/perl5/perlbrew/perls/perl-5.20.0/bin'
    hint=recommended, useposix=true, d_sigaction=define
    useithreads=undef, usemultiplicity=undef
    use64bitint=define, use64bitall=define, uselongdouble=undef
    usemymalloc=n, bincompat5005=undef
  Compiler:
    cc='clang', ccflags ='-fno-strict-aliasing -pipe -fstack-protector -I/usr/local/include -D_LARGEFILE_SOURCE -D_FILE_OFFSET_BITS=64',
    optimize='-O2',
    cppflags='-fno-strict-aliasing -pipe -fstack-protector -I/usr/local/include'
    ccversion='', gccversion='4.2.1 Compatible Clang 3.4 (tags/RELEASE_34/final)', gccosandvers=''
    intsize=4, longsize=8, ptrsize=8, doublesize=8, byteorder=12345678
    d_longlong=define, longlongsize=8, d_longdbl=define, longdblsize=16
    ivtype='long', ivsize=8, nvtype='double', nvsize=8, Off_t='off_t', lseeksize=8
    alignbytes=8, prototype=define
  Linker and Libraries:
    ld='clang', ldflags =' -fstack-protector -L/usr/local/lib'
    libpth=/usr/local/lib /usr/include/x86_64-linux-gnu /usr/lib /lib/x86_64-linux-gnu /lib/../lib /usr/lib/x86_64-linux-gnu /usr/lib/../lib /lib /lib64 /usr/lib64
    libs=-lnsl -ldl -lm -lcrypt -lutil -lc
    perllibs=-lnsl -ldl -lm -lcrypt -lutil -lc
    libc=, so=so, useshrplib=false, libperl=libperl.a
    gnulibc_version='2.13'
  Dynamic Linking:
    dlsrc=dl_dlopen.xs, dlext=so, d_dlsymun=undef, ccdlflags='-Wl,-E'
    cccdlflags='-fPIC', lddlflags='-shared -O2 -L/usr/local/lib -fstack-protector'


Characteristics of this binary (from libperl): 
  Compile-time options: HAS_TIMES PERLIO_LAYERS PERL_DONT_CREATE_GVSV
                        PERL_HASH_FUNC_ONE_AT_A_TIME_HARD PERL_MALLOC_WRAP
                        PERL_NEW_COPY_ON_WRITE PERL_PRESERVE_IVUV
                        USE_64_BIT_ALL USE_64_BIT_INT USE_LARGE_FILES
                        USE_LOCALE USE_LOCALE_COLLATE USE_LOCALE_CTYPE
                        USE_LOCALE_NUMERIC USE_PERLIO USE_PERL_ATOF
  Built under linux
  Compiled at May 27 2014 05:58:06
  %ENV:
    PERL5LIB="/home/ollisg/.perlbrew/libs/perl-5.20.0@dev/lib/perl5"
    PERLBREW_CSHRC_VERSION="0.67"
    PERLBREW_HOME="/home/ollisg/.perlbrew"
    PERLBREW_LIB="dev"
    PERLBREW_MANPATH="/home/ollisg/.perlbrew/libs/perl-5.20.0@dev/man:/home/ollisg/perl5/perlbrew/perls/perl-5.20.0/man"
    PERLBREW_PATH="/home/ollisg/.perlbrew/libs/perl-5.20.0@dev/bin:/home/ollisg/perl5/perlbrew/bin:/home/ollisg/perl5/perlbrew/perls/perl-5.20.0/bin"
    PERLBREW_PERL="perl-5.20.0"
    PERLBREW_ROOT="/home/ollisg/perl5/perlbrew"
    PERLBREW_VERSION="0.67"
    PERL_CPANM_OPT="--mirror http://mirror.sydney.wdlabs.com/cpan/ --mirror-only"
    PERL_LOCAL_LIB_ROOT="/home/ollisg/.perlbrew/libs/perl-5.20.0@dev"
    PERL_MB_OPT="--install_base /home/ollisg/.perlbrew/libs/perl-5.20.0@dev"
    PERL_MM_OPT="INSTALL_BASE=/home/ollisg/.perlbrew/libs/perl-5.20.0@dev"
    PERL_PKG_CONFIG_SCRIPTS="ppkg-config"
  @INC:
    /home/ollisg/.perlbrew/libs/perl-5.20.0@dev/lib/perl5/x86_64-linux
    /home/ollisg/.perlbrew/libs/perl-5.20.0@dev/lib/perl5
    /home/ollisg/perl5/perlbrew/perls/perl-5.20.0/lib/site_perl/5.20.0/x86_64-linux
    /home/ollisg/perl5/perlbrew/perls/perl-5.20.0/lib/site_perl/5.20.0
    /home/ollisg/perl5/perlbrew/perls/perl-5.20.0/lib/5.20.0/x86_64-linux
    /home/ollisg/perl5/perlbrew/perls/perl-5.20.0/lib/5.20.0
    .