PayProp-API-Public-Client v0.04 Perl 5 v5.40.0 amd64-freebsd-ld

Status
Pass
From
Slaven Rezić
Dist
PayProp-API-Public-Client v0.04
Platform
Perl 5 v5.40.0 amd64-freebsd-ld
Date
2024-11-02 08:16:18
ID
bcc41fb0-98f2-11ef-9d36-7c106e8775ea
This distribution has been tested as part of the CPAN Testers
project, supporting the Perl programming language.  See
http://wiki.cpantesters.org/ for more information or email
questions to cpan-testers-discuss@perl.org


--
Dear Yanga Kandeni,

This is a computer-generated report for PayProp-API-Public-Client-0.04
on perl 5.40.0, created by CPAN-Reporter-1.2019.

Thank you for uploading your work to CPAN.  Congratulations!
All tests were successful.

Sections of this report:

    * Tester comments
    * Program output
    * Prerequisites
    * Environment and other context

------------------------------
TESTER COMMENTS
------------------------------

Additional comments from tester:

none provided

------------------------------
PROGRAM OUTPUT
------------------------------

Output from './Build test':

t/author-pod-syntax.t ............................................... skipped: these tests are for testing by the author
t/basic.t ........................................................... ok
t/payprop/api/public/client.t ....................................... ok
t/payprop/api/public/client/authorization/apikey.t .................. ok
t/payprop/api/public/client/authorization/base.t .................... ok
[2024-11-02 08:07:28.29041] [4828] [info] Listening at "http://*:6477"
t/payprop/api/public/client/authorization/clientcredentials.t ....... ok
t/payprop/api/public/client/authorization/storage/local.t ........... ok
Unhandled rejected promise: ping failed at t/payprop/api/public/client/authorization/storage/memcached.t line 68.
t/payprop/api/public/client/authorization/storage/memcached.t ....... ok
t/payprop/api/public/client/error/authorization.t ................... ok
t/payprop/api/public/client/error/response.t ........................ ok
t/payprop/api/public/client/exception/authorization.t ............... ok
t/payprop/api/public/client/exception/base.t ........................ ok
t/payprop/api/public/client/exception/connection.t .................. ok
t/payprop/api/public/client/exception/response.t .................... ok
t/payprop/api/public/client/exception/storage.t ..................... ok
t/payprop/api/public/client/request/entity.t ........................ ok
[2024-11-02 08:07:31.41106] [4844] [info] Listening at "http://*:6493"
[2024-11-02 08:07:31.92937] [4845] [info] Listening at "http://*:6493"
child process '4844' disappeared. A call to `waitpid` outside of Parallel::ForkManager might have reaped it.
[2024-11-02 08:07:32.44222] [4846] [info] Listening at "http://*:6493"
t/payprop/api/public/client/request/entity/invoice.t ................ ok
[2024-11-02 08:07:33.48771] [4850] [info] Listening at "http://*:6497"
[2024-11-02 08:07:34.08121] [4851] [info] Listening at "http://*:6497"
child process '4850' disappeared. A call to `waitpid` outside of Parallel::ForkManager might have reaped it.
[2024-11-02 08:07:34.59672] [4852] [info] Listening at "http://*:6497"
t/payprop/api/public/client/request/entity/payment.t ................ ok
t/payprop/api/public/client/request/export.t ........................ ok
[2024-11-02 08:07:36.01654] [4855] [info] Listening at "http://*:6504"
t/payprop/api/public/client/request/export/beneficiaries.t .......... ok
[2024-11-02 08:07:36.97433] [4857] [info] Listening at "http://*:6506"
t/payprop/api/public/client/request/export/tenants.t ................ ok
[2024-11-02 08:07:37.94631] [4861] [info] Listening at "http://*:6510"
[2024-11-02 08:07:38.53923] [4862] [info] Listening at "http://*:6510"
child process '4861' disappeared. A call to `waitpid` outside of Parallel::ForkManager might have reaped it.
[2024-11-02 08:07:39.08245] [4863] [info] Listening at "http://*:6510"
[2024-11-02 08:07:39.61743] [4864] [info] Listening at "http://*:6510"
child process '4863' disappeared. A call to `waitpid` outside of Parallel::ForkManager might have reaped it.
[2024-11-02 08:07:40.17078] [4865] [info] Listening at "http://*:6510"
[2024-11-02 08:07:40.64369] [4866] [info] Listening at "http://*:6510"
child process '4865' disappeared. A call to `waitpid` outside of Parallel::ForkManager might have reaped it.
[2024-11-02 08:07:41.20879] [4869] [info] Listening at "http://*:6510"
t/payprop/api/public/client/request/tags.t .......................... ok
t/payprop/api/public/client/response/entity/invoice.t ............... ok
t/payprop/api/public/client/response/entity/payment.t ............... ok
t/payprop/api/public/client/response/export/beneficiary.t ........... ok
t/payprop/api/public/client/response/export/beneficiary/address.t ... ok
t/payprop/api/public/client/response/export/beneficiary/property.t .. ok
t/payprop/api/public/client/response/export/tenant.t ................ ok
t/payprop/api/public/client/response/export/tenant/address.t ........ ok
t/payprop/api/public/client/response/export/tenant/property.t ....... ok
t/payprop/api/public/client/response/tag.t .......................... ok
t/payprop/api/public/client/role/apirequest.t ....................... ok
t/payprop/api/public/client/role/attribute/apiversion.t ............. ok
t/payprop/api/public/client/role/attribute/authorization.t .......... ok
t/payprop/api/public/client/role/attribute/domain.t ................. ok
t/payprop/api/public/client/role/attribute/storage.t ................ ok
t/payprop/api/public/client/role/attribute/token.t .................. ok
t/payprop/api/public/client/role/attribute/ua.t ..................... ok
t/payprop/api/public/client/role/encrypt.t .......................... ok
t/payprop/api/public/client/role/json.t ............................. ok
t/payprop/api/public/client/role/request.t .......................... ok
t/payprop/api/public/client/role/storage.t .......................... ok
t/payprop/api/public/client/util/apirequest.t ....................... ok
t/payprop/api/public/client/util/request.t .......................... ok
All tests successful.
Files=44, Tests=147, 32 wallclock secs ( 0.13 usr  0.09 sys + 15.17 cusr  2.05 csys = 17.45 CPU)
Result: PASS

------------------------------
PREREQUISITES
------------------------------

Prerequisite modules loaded:

requires:

    Module                       Need  Have   
    ---------------------------- ----- -------
    Cache::Memcached             0     1.30   
    Crypt::CBC                   0     3.04   
    IO::Socket::INET             0     1.55   
    MIME::Base64                 0     3.16_01
    Module::Load                 0     0.36   
    Mojo::Promise                0     0      
    Mojo::URL                    0     0      
    Mojo::UserAgent              0     0      
    Mojolicious                  0     9.38   
    Mouse                        0     v2.5.11
    Mouse::Role                  0     v2.5.11
    Mouse::Util::TypeConstraints 0     0      
    Parallel::ForkManager        0     2.03   
    parent                       0     0.241  
    POSIX                        0     2.20   
    strict                       0     1.13   
    Time::HiRes                  0     1.9777 
    warnings                     0     1.70   

build_requires:

    Module                       Need  Have   
    ---------------------------- ----- -------
    FindBin                      0     1.54   
    JSON::PP                     0     4.16   
    lib                          0     0.65   
    Test::Most                   0     0.38   

configure_requires:

    Module                       Need  Have   
    ---------------------------- ----- -------
    Module::Build::Tiny          0.034 0.051  


------------------------------
ENVIRONMENT AND OTHER CONTEXT
------------------------------

Environment variables:

    LANG = C.UTF-8
    PATH = /usr/local/bin:/usr/bin:/bin:/usr/local/sbin:/usr/sbin:/sbin:/home/cpansand/bin/freebsd15.0:/home/cpansand/bin/sh:/home/cpansand/bin:/usr/games:/home/cpansand/devel:/home/eserte/src/srezic-misc/scripts
    PERL5LIB = /home/cpansand/.cpan/build/2024110208/Cache-Memcached-1.30-1/blib/arch:/home/cpansand/.cpan/build/2024110208/Cache-Memcached-1.30-1/blib/lib
    PERL5OPT = 
    PERL5_CPANPLUS_IS_RUNNING = 4695
    PERL5_CPAN_IS_RUNNING = 4695
    PERL5_CPAN_IS_RUNNING_IN_RECURSION = 4165,4695
    PERLDOC = -MPod::Perldoc::ToTextOverstrike
    PERL_BATCH = yes
    PERL_CANARY_STABILITY_NOPROMPT = 1
    PERL_CPAN_REPORTER_CONFIG = /var/tmp/cpansmoker-1023/2024110208/cpanreporter_000_config.ini
    PERL_EXTUTILS_AUTOINSTALL = --defaultdeps
    PERL_USE_UNSAFE_INC = 1
    SHELL = /usr/local/bin/zsh
    TERM = screen
    TMPDIR = /var/tmp/cpansmoker-1023/2024110208

Perl special variables (and OS-specific diagnostics, for MSWin32):

    $^X = /usr/perl5.40.0D/bin/perl
    $UID/$EUID = 1023 / 1023
    $GID = 1023 1023
    $EGID = 1023 1023

Perl module toolchain versions installed:

    Module              Have    
    ------------------- --------
    CPAN                2.37    
    CPAN::Meta          2.150010
    Cwd                 3.90    
    ExtUtils::CBuilder  0.280240
    ExtUtils::Command   7.70    
    ExtUtils::Install   2.22    
    ExtUtils::MakeMaker 7.70    
    ExtUtils::Manifest  1.75    
    ExtUtils::ParseXS   3.51    
    File::Spec          3.90    
    JSON                4.10    
    JSON::PP            4.16    
    Module::Build       0.4234  
    Module::Signature   n/a     
    Parse::CPAN::Meta   2.150010
    Test2               1.302204
    Test::Harness       3.48    
    Test::More          1.302204
    YAML                1.31    
    YAML::Syck          1.34    
    version             0.9933  


--

Summary of my perl5 (revision 5 version 40 subversion 0) configuration:
   
  Platform:
    osname=freebsd
    osvers=15.0-current
    archname=amd64-freebsd-ld
    uname='freebsd cloud2.bbbike.org 15.0-current freebsd 15.0-current #0 main-n271542-4c5188bbeb88-dirty: thu aug 1 02:58:37 utc 2024 root@cloud2.bbbike.org:usrobjhomeprojectsfreebsd-srcamd64.amd64sysgeneric amd64 '
    config_args='-ds -e -Dprefix=/usr/perl5.40.0D -Duselongdouble -Dcf_email=srezic@cpan.org -Doptimize=-O2 -pipe'
    hint=recommended
    useposix=true
    d_sigaction=define
    useithreads=undef
    usemultiplicity=undef
    use64bitint=define
    use64bitall=define
    uselongdouble=define
    usemymalloc=n
    default_inc_excludes_dot=define
  Compiler:
    cc='cc'
    ccflags ='-DHAS_FPSETMASK -DHAS_FLOATINGPOINT_H -DNO_POSIX_2008_LOCALE -fno-strict-aliasing -pipe -fstack-protector-strong -I/usr/local/include'
    optimize='-O2 -pipe'
    cppflags='-DHAS_FPSETMASK -DHAS_FLOATINGPOINT_H -DNO_POSIX_2008_LOCALE -fno-strict-aliasing -pipe -fstack-protector-strong -I/usr/local/include'
    ccversion=''
    gccversion='FreeBSD Clang 18.1.6 (https://github.com/llvm/llvm-project.git llvmorg-18.1.6-0-g1118c2e05e67)'
    gccosandvers=''
    intsize=4
    longsize=8
    ptrsize=8
    doublesize=8
    byteorder=12345678
    doublekind=3
    d_longlong=define
    longlongsize=8
    d_longdbl=define
    longdblsize=16
    longdblkind=3
    ivtype='long'
    ivsize=8
    nvtype='long double'
    nvsize=16
    Off_t='off_t'
    lseeksize=8
    alignbytes=16
    prototype=define
  Linker and Libraries:
    ld='cc'
    ldflags ='-Wl,-E  -fstack-protector-strong -L/usr/local/lib'
    libpth=/usr/lib /usr/local/lib /usr/lib/clang/18/lib
    libs=-lpthread -lgdbm -ldl -lm -lcrypt -lutil -lc
    perllibs=-lpthread -ldl -lm -lcrypt -lutil -lc
    libc=
    so=so
    useshrplib=false
    libperl=libperl.a
    gnulibc_version=''
  Dynamic Linking:
    dlsrc=dl_dlopen.xs
    dlext=so
    d_dlsymun=undef
    ccdlflags=' '
    cccdlflags='-DPIC -fPIC'
    lddlflags='-shared  -L/usr/local/lib -fstack-protector-strong'


Characteristics of this binary (from libperl): 
  Compile-time options:
    HAS_LONG_DOUBLE
    HAS_STRTOLD
    HAS_TIMES
    PERLIO_LAYERS
    PERL_COPY_ON_WRITE
    PERL_DONT_CREATE_GVSV
    PERL_HASH_FUNC_SIPHASH13
    PERL_HASH_USE_SBOX32
    PERL_MALLOC_WRAP
    PERL_OP_PARENT
    PERL_PRESERVE_IVUV
    PERL_USE_SAFE_PUTENV
    USE_64_BIT_ALL
    USE_64_BIT_INT
    USE_LARGE_FILES
    USE_LOCALE
    USE_LOCALE_COLLATE
    USE_LOCALE_CTYPE
    USE_LOCALE_NUMERIC
    USE_LOCALE_TIME
    USE_LONG_DOUBLE
    USE_PERLIO
    USE_PERL_ATOF
  Built under freebsd
  Compiled at Aug  3 2024 19:14:43
  %ENV:
    PERL5LIB="/home/cpansand/.cpan/build/2024110208/Cache-Memcached-1.30-1/blib/arch:/home/cpansand/.cpan/build/2024110208/Cache-Memcached-1.30-1/blib/lib"
    PERL5OPT=""
    PERL5_CPANPLUS_IS_RUNNING="4695"
    PERL5_CPAN_IS_RUNNING="4695"
    PERL5_CPAN_IS_RUNNING_IN_RECURSION="4165,4695"
    PERLDOC="-MPod::Perldoc::ToTextOverstrike"
    PERL_BATCH="yes"
    PERL_CANARY_STABILITY_NOPROMPT="1"
    PERL_CPAN_REPORTER_CONFIG="/var/tmp/cpansmoker-1023/2024110208/cpanreporter_000_config.ini"
    PERL_EXTUTILS_AUTOINSTALL="--defaultdeps"
    PERL_USE_UNSAFE_INC="1"
  @INC:
    /home/cpansand/.cpan/build/2024110208/Cache-Memcached-1.30-1/blib/arch
    /home/cpansand/.cpan/build/2024110208/Cache-Memcached-1.30-1/blib/lib
    /usr/perl5.40.0D/lib/site_perl/5.40.0/amd64-freebsd-ld
    /usr/perl5.40.0D/lib/site_perl/5.40.0
    /usr/perl5.40.0D/lib/5.40.0/amd64-freebsd-ld
    /usr/perl5.40.0D/lib/5.40.0
    .