Report for Data-Conveyor-1.103130

Back
From: metabase:user:314402c4-2aae-11df-837a-5e0a49663a4f
Subject: PASS Data-Conveyor-1.103130 v5.10.1 FreeBSD
Date: 2010-11-09T19:37:06Z

This distribution has been tested as part of the CPAN Testers
project, supporting the Perl programming language.  See
http://wiki.cpantesters.org/ for more information or email
questions to cpan-testers-discuss@perl.org


--
Dear Marcel Gruenauer == hanekomu,

This is a computer-generated report for Data-Conveyor-1.103130
on perl 5.10.1, created by CPAN-Reporter-1.1801.

Thank you for uploading your work to CPAN.  Congratulations!
All tests were successful.

Sections of this report:

    * Tester comments
    * Program output
    * Prerequisites
    * Environment and other context

------------------------------
TESTER COMMENTS
------------------------------

Additional comments from tester:

none provided

------------------------------
PROGRAM OUTPUT
------------------------------

Output from '/usr/bin/make test':

PERL_DL_NONLAZY=1 /usr/perl5.10.1/bin/perl "-MExtUtils::Command::MM" "-e" "test_harness(0, 'blib/lib', 'blib/arch')" t/*.t
t/00-compile.t ............... ok
# Testing with Perl 5.010001, /usr/perl5.10.1/bin/perl
#     Carp version is 1.11
#     Class::Accessor::Complex version is 1.100880
#     Class::Scaffold::Accessor version is 1.102280
#     Class::Scaffold::App::CommandLine version is 1.102280
#     Class::Scaffold::App::Test::Classes version is 1.102280
#     Class::Scaffold::App::Test::YAMLDriven version is 1.102280
#     Class::Scaffold::Base version is 1.102280
#     Class::Scaffold::ConstantImporter version is 1.102280
#     Class::Scaffold::Delegate::Mixin version is 1.102280
#     Class::Scaffold::Environment version is 1.102280
#     Class::Scaffold::Exception version is 1.102280
#     Class::Scaffold::Exception::Business version is 1.102280
#     Class::Scaffold::Exception::Container version is 1.102280
#     Class::Scaffold::Exception::Util version is 1.102280
#     Class::Scaffold::Factory version is 1.102280
#     Class::Scaffold::Factory::Type version is 1.102280
#     Class::Scaffold::HierarchicalDirty version is 1.102280
#     Class::Scaffold::Log version is 1.102280
#     Class::Scaffold::Storable version is 1.102280
#     Class::Scaffold::Test version is 1.102280
#     Class::Scaffold::Test::Inherited version is 1.102280
#     Class::Scaffold::Test::UtilLoader version is 1.102280
#     Class::Scaffold::Util version is 1.102280
#     Class::Scaffold::YAML::Active version is 1.102280
#     Class::Scaffold::YAML::Active::Hash version is 1.102280
#     Class::Scaffold::YAML::Marshall version is 1.102280
#     Class::Value version is 1.100840
#     Class::Value::Enum version is 1.100840
#     Class::Value::Exception::Base version is 1.100840
#     Class::Value::Exception::NotWellFormedValue version is 1.100840
#     Class::Value::String version is 1.100840
#     Compress::Zlib version is 2.03
#     DBI version is 1.615
#     Data::Container version is 0.07
#     Data::Dumper version is 2.128
#     Data::Inherited version is 1.100860
#     Data::Miscellany version is 0.04
#     Data::Storage::DBI::Mock version is 1.102250
#     Data::Storage::DBI::Oracle version is 1.102250
#     Data::Storage::DBI::Pg version is 1.102250
#     Data::Storage::DBI::SQLite version is 1.102250
#     Data::Storage::Memory version is 1.102250
#     Data::Storage::Null version is 1.102250
#     Date::Calc version is 6.3
#     English version is 1.04
#     Error version is 0.17016
#     Error::Hierarchy version is 1.102500
#     Error::Hierarchy::Internal version is 1.102500
#     Error::Hierarchy::Internal::CustomMessage version is 1.102500
#     Error::Hierarchy::Internal::DBI::STH version is 1.102500
#     Error::Hierarchy::Test version is 1.102500
#     Error::Hierarchy::Util version is 1.102500
#     Exporter version is 5.63
#     ExtUtils::MakeMaker version is 6.56
#     Fcntl version is 1.06
#     File::Find version is 1.14
#     File::Temp version is 0.22
#     FindBin version is 1.50
#     Getopt::Long version is 2.38
#     Hash::Flatten version is 1.19
#     Hook::Modular version is 1.101010
#     IO::Handle version is 1.28
#     IO::Pager version is 0.05
#     Pod::Text version is 3.13
#     Scalar::Util version is 1.23
#     Storable version is 2.21
#     String::FlexMatch::Test version is 1.100820
#     Sys::Hostname version is 1.11
#     Term::Shell::Enhanced version is 1.101420
#     Test::Builder version is 0.96
#     Test::Class version is 0.36
#     Test::More version is 0.96
#     Text::Table version is 1.114
#     Time::HiRes version is 1.9719
#     YAML version is 0.72
#     YAML::Active version is 1.100810
#     YAML::Marshall version is 0.72
#     charnames version is 1.07
#     constant version is 1.17
#     once version is 1.101420
#     overload version is 1.07
#     parent version is 0.223
t/000-report-versions.t ...... ok
t/01_companion_classes.t ..... ok
t/author-critic.t ............ skipped: these tests are for testing by the author
t/release-check-changes.t .... skipped: these tests are for release candidate testing
t/release-dist-manifest.t .... skipped: these tests are for release candidate testing
t/release-distmeta.t ......... skipped: these tests are for release candidate testing
t/release-eol.t .............. skipped: these tests are for release candidate testing
t/release-has-version.t ...... skipped: these tests are for release candidate testing
t/release-kwalitee.t ......... skipped: these tests are for release candidate testing
t/release-minimum-version.t .. skipped: these tests are for release candidate testing
t/release-no-tabs.t .......... skipped: these tests are for release candidate testing
t/release-pod-coverage.t ..... skipped: these tests are for release candidate testing
t/release-pod-spell.t ........ skipped: these tests are for release candidate testing
t/release-pod-syntax.t ....... skipped: these tests are for release candidate testing
t/release-portability.t ...... skipped: these tests are for release candidate testing
t/release-synopsis.t ......... skipped: these tests are for release candidate testing
t/release-unused-vars.t ...... skipped: these tests are for release candidate testing
All tests successful.
Files=18, Tests=223, 16 wallclock secs ( 0.12 usr  0.04 sys +  9.42 cusr  1.85 csys = 11.44 CPU)
Result: PASS

------------------------------
PREREQUISITES
------------------------------

Prerequisite modules loaded:

requires:

    Module                                      Need  Have    
    ------------------------------------------- ----- --------
    charnames                                   0     1.07    
    Class::Accessor::Complex                    0     1.100880
    Class::Scaffold::Accessor                   0     1.102280
    Class::Scaffold::App::CommandLine           0     1.102280
    Class::Scaffold::App::Test::YAMLDriven      0     1.102280
    Class::Scaffold::Base                       0     1.102280
    Class::Scaffold::ConstantImporter           0     1.102280
    Class::Scaffold::Delegate::Mixin            0     1.102280
    Class::Scaffold::Environment                0     1.102280
    Class::Scaffold::Exception                  0     1.102280
    Class::Scaffold::Exception::Business        0     1.102280
    Class::Scaffold::Exception::Container       0     1.102280
    Class::Scaffold::Exception::Util            0     1.102280
    Class::Scaffold::Factory                    0     1.102280
    Class::Scaffold::Factory::Type              0     1.102280
    Class::Scaffold::HierarchicalDirty          0     1.102280
    Class::Scaffold::Log                        0     1.102280
    Class::Scaffold::Storable                   0     1.102280
    Class::Scaffold::Test                       0     1.102280
    Class::Scaffold::Test::Inherited            0     1.102280
    Class::Scaffold::Test::UtilLoader           0     1.102280
    Class::Scaffold::Util                       0     1.102280
    Class::Scaffold::YAML::Active               0     1.102280
    Class::Scaffold::YAML::Active::Hash         0     1.102280
    Class::Scaffold::YAML::Marshall             0     1.102280
    Class::Value                                0     1.100840
    Class::Value::Enum                          0     1.100840
    Class::Value::Exception::Base               0     1.100840
    Class::Value::Exception::NotWellFormedValue 0     1.100840
    Class::Value::String                        0     1.100840
    Compress::Zlib                              0     2.030   
    constant                                    0     1.17    
    Data::Container                             0     0.07    
    Data::Dumper                                0     2.128   
    Data::Inherited                             0     1.100860
    Data::Miscellany                            0     0.04    
    Data::Storage::DBI::Mock                    0     1.102250
    Data::Storage::DBI::Oracle                  0     1.102250
    Data::Storage::DBI::Pg                      0     1.102250
    Data::Storage::DBI::SQLite                  0     1.102250
    Data::Storage::Memory                       0     1.102250
    Data::Storage::Null                         0     1.102250
    Date::Calc                                  0     6.3     
    DBI                                         0     1.615   
    Error                                       0     0.17016 
    Error::Hierarchy                            0     1.102500
    Error::Hierarchy::Internal                  0     1.102500
    Error::Hierarchy::Internal::CustomMessage   0     1.102500
    Error::Hierarchy::Internal::DBI::STH        0     1.102500
    Error::Hierarchy::Test                      0     1.102500
    Error::Hierarchy::Util                      0     1.102500
    Exporter                                    0     5.63    
    Fcntl                                       0     1.06    
    FindBin                                     0     1.50    
    Getopt::Long                                0     2.38    
    Hash::Flatten                               0     1.19    
    Hook::Modular                               0     1.101010
    IO::Handle                                  0     1.28    
    IO::Pager                                   0     0.05    
    once                                        0     1.101420
    overload                                    0     1.07    
    parent                                      0     0.223   
    perl                                        5.008 5.010001
    Pod::Text                                   0     3.13    
    Storable                                    0     2.21    
    String::FlexMatch::Test                     0     1.100820
    Sys::Hostname                               0     1.11    
    Term::Shell::Enhanced                       0     1.101420
    Test::Builder                               0     0.96    
    Test::Class                                 0     0.36    
    Test::More                                  0     0.96    
    Text::Table                                 0     1.114   
    Time::HiRes                                 0     1.9719  
    YAML                                        0     0.72    
    YAML::Active                                0     1.100810
    YAML::Marshall                              0     0.72    

build_requires:

    Module                                      Need  Have    
    ------------------------------------------- ----- --------
    Carp                                        0     1.11    
    Class::Scaffold::App::Test::Classes         0     1.102280
    English                                     0     1.04    
    File::Find                                  0     1.14    
    File::Temp                                  0     0.22    
    Scalar::Util                                0     1.23    
    Test::More                                  0.94  0.96    

configure_requires:

    Module                                      Need  Have    
    ------------------------------------------- ----- --------
    ExtUtils::MakeMaker                         6.31  6.56    


------------------------------
ENVIRONMENT AND OTHER CONTEXT
------------------------------

Environment variables:

    DBIC_NO_WARN_BAD_PERL = 1
    PATH = /usr/local/bin:/usr/X11R6/bin:/usr/X11/bin:/usr/perl5.8.0/bin:/usr/bin:/bin:/usr/local/sbin:/usr/sbin:/sbin:/usr/local/pilot/bin:/home/cpansand/bin/freebsd8.0:/home/cpansand/bin/sh:/home/cpansand/bin:/usr/X386/bin:/usr/games:/home/cpansand/devel:/usr/home/e/eserte/work/srezic-misc/scripts
    PERL5LIB = 
    PERL5OPT = 
    PERL5_CPANPLUS_IS_RUNNING = 86724
    PERL5_CPAN_IS_RUNNING = 86724
    PERL5_CPAN_IS_RUNNING_IN_RECURSION = 86552,86724
    PERL_BATCH = yes
    PERL_EXTUTILS_AUTOINSTALL = --defaultdeps
    PERL_HTML_DISPLAY_CLASS = HTML::Display::Mozilla
    SHELL = /usr/local/bin/zsh
    TERM = screen
    TMPDIR = /tmp/cpansmoker-1023

Perl special variables (and OS-specific diagnostics, for MSWin32):

    $^X = /usr/perl5.10.1/bin/perl
    $UID/$EUID = 1023 / 1023
    $GID = 1023 1023
    $EGID = 1023 1023

Perl module toolchain versions installed:

    Module              Have  
    ------------------- ------
    CPAN                1.9402
    Cwd                 3.33  
    ExtUtils::CBuilder  0.2703
    ExtUtils::Command   1.16  
    ExtUtils::Install   1.54  
    ExtUtils::MakeMaker 6.56  
    ExtUtils::Manifest  1.56  
    ExtUtils::ParseXS   2.2206
    File::Spec          3.33  
    Module::Build       0.3607
    Module::Signature   0.66  
    Test::Harness       3.22  
    Test::More          0.96  
    YAML                0.72  
    YAML::Syck          1.15  
    version             0.82  


--

Summary of my perl5 (revision 5 version 10 subversion 1) configuration:
   
  Platform:
    osname=freebsd, osvers=8.0-release, archname=i386-freebsd
    uname='freebsd biokovo.herceg.de 8.0-release freebsd 8.0-release #0: sat nov 21 15:48:17 utc 2009 root@almeida.cse.buffalo.edu:usrobjusrsrcsysgeneric i386 '
    config_args='-Dprefix=/usr/perl5.10.1 -Dusemymalloc=n -D cc=ccache cc -Dgccansipedantic -Duse64bit -de -D hintfile=myfreebsd'
    hint=recommended, useposix=true, d_sigaction=define
    useithreads=undef, usemultiplicity=undef
    useperlio=define, d_sfio=undef, uselargefiles=define, usesocks=undef
    use64bitint=undef, use64bitall=undef, uselongdouble=undef
    usemymalloc=n, bincompat5005=undef
  Compiler:
    cc='ccache cc', ccflags ='-DHAS_FPSETMASK -DHAS_FLOATINGPOINT_H -fno-strict-aliasing -pipe -fstack-protector -I/usr/local/include',
    optimize='-O2 -mtune=athlon64 -pipe',
    cppflags='-DHAS_FPSETMASK -DHAS_FLOATINGPOINT_H -fno-strict-aliasing -pipe -fstack-protector -I/usr/local/include'
    ccversion='', gccversion='4.2.1 20070719  [FreeBSD]', gccosandvers=''
    intsize=4, longsize=4, ptrsize=4, doublesize=8, byteorder=1234
    d_longlong=define, longlongsize=8, d_longdbl=define, longdblsize=12
    ivtype='long', ivsize=4, nvtype='double', nvsize=8, Off_t='off_t', lseeksize=8
    alignbytes=4, prototype=define
  Linker and Libraries:
    ld='ccache cc', ldflags ='-Wl,-E  -fstack-protector -L/usr/local/lib'
    libpth=/usr/lib /usr/local/lib
    libs=-lgdbm -lm -lcrypt -lutil -lc
    perllibs=-lm -lcrypt -lutil -lc
    libc=, so=so, useshrplib=false, libperl=libperl.a
    gnulibc_version=''
  Dynamic Linking:
    dlsrc=dl_dlopen.xs, dlext=so, d_dlsymun=undef, ccdlflags=' '
    cccdlflags='-DPIC -fPIC', lddlflags='-shared  -L/usr/local/lib -fstack-protector'


Characteristics of this binary (from libperl): 
  Compile-time options: PERL_DONT_CREATE_GVSV PERL_MALLOC_WRAP PERL_USE_DEVEL
                        USE_LARGE_FILES USE_PERLIO
  Built under freebsd
  Compiled at Feb  6 2010 13:47:51
  %ENV:
    PERL5LIB=""
    PERL5OPT=""
    PERL5_CPANPLUS_IS_RUNNING="86724"
    PERL5_CPAN_IS_RUNNING="86724"
    PERL5_CPAN_IS_RUNNING_IN_RECURSION="86552,86724"
    PERL_BATCH="yes"
    PERL_EXTUTILS_AUTOINSTALL="--defaultdeps"
    PERL_HTML_DISPLAY_CLASS="HTML::Display::Mozilla"
  @INC:
    /usr/perl5.10.1/lib/5.10.1/i386-freebsd
    /usr/perl5.10.1/lib/5.10.1
    /usr/perl5.10.1/lib/site_perl/5.10.1/i386-freebsd
    /usr/perl5.10.1/lib/site_perl/5.10.1
    .