Back
From: metabase:user:3260881c-2aae-11df-837a-5e0a49663a4f
Subject: PASS Dist-Zilla-Plugin-CheckExtraTests-0.022 v5.20.0 Mac OS X
Date: 2014-08-24T16:36:01Z
This distribution has been tested as part of the CPAN Testers
project, supporting the Perl programming language. See
http://wiki.cpantesters.org/ for more information or email
questions to cpan-testers-discuss@perl.org
--
Dear DAGOLDEN,
This is a computer-generated report for Dist-Zilla-Plugin-CheckExtraTests-0.022
on perl 5.20.0, created by App::cpanminus::reporter 0.11 (1.6937).
Thank you for uploading your work to CPAN. Congratulations!
All tests were successful.
Sections of this report:
* Tester comments
* Program output
* Prerequisites
* Environment and other context
------------------------------
TESTER COMMENTS
------------------------------
Additional comments from tester:
none provided
------------------------------
PROGRAM OUTPUT
------------------------------
Output from '':
Building and testing Dist-Zilla-Plugin-CheckExtraTests-0.022
cp lib/Dist/Zilla/App/Command/xtest.pm blib/lib/Dist/Zilla/App/Command/xtest.pm
cp lib/Dist/Zilla/Plugin/RunExtraTests.pm blib/lib/Dist/Zilla/Plugin/RunExtraTests.pm
cp lib/Dist/Zilla/Plugin/CheckExtraTests.pm blib/lib/Dist/Zilla/Plugin/CheckExtraTests.pm
Manifying blib/man3/Dist::Zilla::App::Command::xtest.3
Manifying blib/man3/Dist::Zilla::Plugin::CheckExtraTests.3
Manifying blib/man3/Dist::Zilla::Plugin::RunExtraTests.3
PERL_DL_NONLAZY=1 /Users/gabor/perl5/perlbrew/perls/perl-5.20.0/bin/perl "-MExtUtils::Command::MM" "-MTest::Harness" "-e" "undef *Test::Harness::Switches; test_harness(0, 'blib/lib', 'blib/arch')" t/*.t
#
# Versions for all modules listed in MYMETA.json (including optional ones):
# Version Module
# -------- --------------------------------
# 3.33 App::Prove
# 1.96 Archive::Tar
# 2.140640 CPAN::Meta
# 2.125 CPAN::Meta::Requirements
# 0.24 Capture::Tiny
# 5.020 Dist::Zilla
# 5.020 Dist::Zilla::App
# 5.020 Dist::Zilla::App::Tester
# 5.020 Dist::Zilla::Role::BeforeRelease
# 5.020 Dist::Zilla::Role::TestRunner
# 5.020 Dist::Zilla::Tester
# 6.98 ExtUtils::MakeMaker
# 3.47 File::Spec::Functions
# 1.007 File::pushd
# 1.39 List::Util
# 2.1211 Moose
# 0.15 Moose::Autobox
# 1.07 Params::Util
# 1.008 Path::Iterator::Rule
# 0.054 Path::Tiny
# 0.987 Sub::Exporter
# 1.001003 Test::More
# 0.07 Test::Requires
# 0.22 Try::Tiny
# 0.63 lib
# 0.19 namespace::autoclean
# 1.08 strict
# 0.9909 version
# 1.23 warnings
t/00-report-prereqs.t .. ok
t/checkxt.t ............ ok
t/runxt.t .............. ok
t/withblib.t ........... ok
All tests successful.
Files=4, Tests=16, 8 wallclock secs ( 0.03 usr 0.01 sys + 7.68 cusr 1.08 csys = 8.80 CPU)
Result: PASS
------------------------------
PREREQUISITES
------------------------------
Prerequisite modules loaded:
No requirements found
------------------------------
ENVIRONMENT AND OTHER CONTEXT
------------------------------
Environment variables:
LANG = en_US.UTF-8
PATH = /Users/gabor/dart/dart-sdk/bin/:/Users/gabor/bin:/Users/gabor/work/rakudo-star-2013.11/install/bin:/Users/gabor/python/bin:/usr/local/bin:/Users/gabor/perl5/perlbrew/bin:/Users/gabor/perl5/perlbrew/perls/perl-5.20.0/bin:/usr/bin:/bin:/usr/sbin:/sbin:/usr/local/bin:/opt/X11/bin:/Users/gabor/work/gabor/home/gabor/bin/:/usr/local/share/npm/lib/node_modules/less/bin/
PERLBREW_BASHRC_VERSION = 0.63
PERLBREW_HOME = /Users/gabor/.perlbrew
PERLBREW_MANPATH = /Users/gabor/perl5/perlbrew/perls/perl-5.20.0/man
PERLBREW_PATH = /Users/gabor/perl5/perlbrew/bin:/Users/gabor/perl5/perlbrew/perls/perl-5.20.0/bin
PERLBREW_PERL = perl-5.20.0
PERLBREW_ROOT = /Users/gabor/perl5/perlbrew
PERLBREW_VERSION = 0.63
SHELL = /bin/bash
TERM = xterm-256color
TMPDIR = /var/folders/ry/zng097t53ql9x62cr60wdbmw0000gn/T/
Perl special variables (and OS-specific diagnostics, for MSWin32):
EGID = 20 20 12 61 79 80 81 98 33 100 204 398 399
EUID = 501
EXECUTABLE_NAME = /Users/gabor/perl5/perlbrew/perls/perl-5.20.0/bin/perl
GID = 20 20 12 61 79 80 81 98 33 100 204 398 399
UID = 501
Perl module toolchain versions installed:
Module Have
------------------- --------
CPAN 2.05
CPAN::Meta 2.140640
Cwd 3.47
ExtUtils::CBuilder 0.280216
ExtUtils::Command 1.18
ExtUtils::Install 1.67
ExtUtils::MakeMaker 6.98
ExtUtils::Manifest 1.63
ExtUtils::ParseXS 3.24
File::Spec 3.47
JSON 2.90
JSON::PP 2.27203
Module::Build 0.4208
Module::Signature n/a
Parse::CPAN::Meta 1.4414
Test::Harness 3.33
Test::More 1.001003
YAML 0.90
YAML::Syck 1.27
version 0.9909
--
Summary of my perl5 (revision 5 version 20 subversion 0) configuration:
Platform:
osname=darwin, osvers=13.2.0, archname=darwin-2level
uname='darwin air.local 13.2.0 darwin kernel version 13.2.0: thu apr 17 23:03:13 pdt 2014; root:xnu-2422.100.13~1release_x86_64 x86_64 '
config_args='-de -Dprefix=/Users/gabor/perl5/perlbrew/perls/perl-5.20.0 -Aeval:scriptdir=/Users/gabor/perl5/perlbrew/perls/perl-5.20.0/bin'
hint=recommended, useposix=true, d_sigaction=define
useithreads=undef, usemultiplicity=undef
use64bitint=define, use64bitall=define, uselongdouble=undef
usemymalloc=n, bincompat5005=undef
Compiler:
cc='cc', ccflags ='-fno-common -DPERL_DARWIN -fno-strict-aliasing -pipe -fstack-protector -I/usr/local/include',
optimize='-O3',
cppflags='-fno-common -DPERL_DARWIN -fno-strict-aliasing -pipe -fstack-protector -I/usr/local/include'
ccversion='', gccversion='4.2.1 Compatible Apple LLVM 5.1 (clang-503.0.40)', gccosandvers=''
intsize=4, longsize=8, ptrsize=8, doublesize=8, byteorder=12345678
d_longlong=define, longlongsize=8, d_longdbl=define, longdblsize=16
ivtype='long', ivsize=8, nvtype='double', nvsize=8, Off_t='off_t', lseeksize=8
alignbytes=8, prototype=define
Linker and Libraries:
ld='env MACOSX_DEPLOYMENT_TARGET=10.3 cc', ldflags =' -fstack-protector -L/usr/local/lib'
libpth=/usr/local/lib /Applications/Xcode.app/Contents/Developer/Toolchains/XcodeDefault.xctoolchain/usr/bin/../lib/clang/5.1/lib /Applications/Xcode.app/Contents/Developer/Toolchains/XcodeDefault.xctoolchain/usr/lib /usr/lib
libs=-ldbm -ldl -lm -lutil -lc
perllibs=-ldl -lm -lutil -lc
libc=, so=dylib, useshrplib=false, libperl=libperl.a
gnulibc_version=''
Dynamic Linking:
dlsrc=dl_dlopen.xs, dlext=bundle, d_dlsymun=undef, ccdlflags=' '
cccdlflags=' ', lddlflags=' -bundle -undefined dynamic_lookup -L/usr/local/lib -fstack-protector'
Characteristics of this binary (from libperl):
Compile-time options: HAS_TIMES PERLIO_LAYERS PERL_DONT_CREATE_GVSV
PERL_HASH_FUNC_ONE_AT_A_TIME_HARD PERL_MALLOC_WRAP
PERL_NEW_COPY_ON_WRITE PERL_PRESERVE_IVUV
USE_64_BIT_ALL USE_64_BIT_INT USE_LARGE_FILES
USE_LOCALE USE_LOCALE_COLLATE USE_LOCALE_CTYPE
USE_LOCALE_NUMERIC USE_PERLIO USE_PERL_ATOF
Built under darwin
Compiled at May 27 2014 13:42:26
%ENV:
PERLBREW_BASHRC_VERSION="0.63"
PERLBREW_HOME="/Users/gabor/.perlbrew"
PERLBREW_MANPATH="/Users/gabor/perl5/perlbrew/perls/perl-5.20.0/man"
PERLBREW_PATH="/Users/gabor/perl5/perlbrew/bin:/Users/gabor/perl5/perlbrew/perls/perl-5.20.0/bin"
PERLBREW_PERL="perl-5.20.0"
PERLBREW_ROOT="/Users/gabor/perl5/perlbrew"
PERLBREW_VERSION="0.63"
@INC:
/Users/gabor/perl5/perlbrew/perls/perl-5.20.0/lib/site_perl/5.20.0/darwin-2level
/Users/gabor/perl5/perlbrew/perls/perl-5.20.0/lib/site_perl/5.20.0
/Users/gabor/perl5/perlbrew/perls/perl-5.20.0/lib/5.20.0/darwin-2level
/Users/gabor/perl5/perlbrew/perls/perl-5.20.0/lib/5.20.0
.