Dist-Zilla-Plugin-Git v2.042 Perl 5 v5.18.4 x86_64-linux

Status
Pass
From
Andreas J. König (ANDK)
Dist
Dist-Zilla-Plugin-Git v2.042
Platform
Perl 5 v5.18.4 x86_64-linux
Date
2017-10-06 14:29:16
ID
bb63b7a2-aaa2-11e7-9328-35c5eebcb7dc
This distribution has been tested as part of the CPAN Testers
project, supporting the Perl programming language.  See
http://wiki.cpantesters.org/ for more information or email
questions to cpan-testers-discuss@perl.org


--
Dear Karen Etheridge,

This is a computer-generated report for Dist-Zilla-Plugin-Git-2.042
on perl 5.18.4, created by CPAN-Reporter-1.2018.

Thank you for uploading your work to CPAN.  Congratulations!
All tests were successful.

Sections of this report:

    * Tester comments
    * Program output
    * Prerequisites
    * Environment and other context

------------------------------
TESTER COMMENTS
------------------------------

Additional comments from tester:

this report is from an automated smoke testing program
and was not reviewed by a human for accuracy

------------------------------
PROGRAM OUTPUT
------------------------------

Output from '/usr/bin/make test':

"/home/sand/src/perl/repoperls/installed-perls/host/k93msid/v5.18.4/89ad/bin/perl" "-Iblib/arch" "-Iblib/lib" Makefile_git.PL Makefile_git
PERL_DL_NONLAZY=1 "/home/sand/src/perl/repoperls/installed-perls/host/k93msid/v5.18.4/89ad/bin/perl" "-MExtUtils::Command::MM" "-MTest::Harness" "-e" "undef *Test::Harness::Switches; test_harness(0, 'blib/lib', 'blib/arch')" t/*.t
# 
# Versions for all modules listed in MYMETA.json (including optional ones):
# 
# === Configure Requires ===
# 
#     Module              Want   Have
#     ------------------- ---- ------
#     ExtUtils::MakeMaker  any   7.30
#     Text::ParseWords     any   3.28
#     version              any 0.9918
# 
# === Build Requires ===
# 
#     Module              Want Have
#     ------------------- ---- ----
#     ExtUtils::MakeMaker  any 7.30
# 
# === Test Requires ===
# 
#     Module                            Want     Have
#     -------------------------------- ----- --------
#     CPAN::Meta::Check                0.011    0.014
#     CPAN::Meta::Requirements           any    2.131
#     Devel::SimpleTrace                 any     0.08
#     Dist::Zilla::File::InMemory        any    6.010
#     Dist::Zilla::Plugin::Config::Git   any     0.92
#     Dist::Zilla::Role::Releaser        any    6.010
#     Dist::Zilla::Tester                any    6.010
#     Encode                             any     2.92
#     Exporter                           any     5.68
#     ExtUtils::MakeMaker                any     7.30
#     File::Copy                         any     2.26
#     File::Copy::Recursive              any     0.38
#     File::Path                        2.07     2.09
#     File::Spec                         any     3.62
#     File::Which                        any     1.22
#     File::pushd                        any    1.014
#     Log::Dispatchouli                  any    2.015
#     Test::DZil                         any    6.010
#     Test::Fatal                        any    0.014
#     Test::More                        0.88 1.302096
#     lib                                any     0.63
#     utf8                               any     1.10
# 
# === Test Recommends ===
# 
#     Module         Want     Have
#     ---------- -------- --------
#     CPAN::Meta 2.120900 2.150010
# 
# === Runtime Requires ===
# 
#     Module                                 Want     Have
#     ---------------------------------- -------- --------
#     Cwd                                     any     3.62
#     DateTime                                any     1.44
#     Dist::Zilla                               4    6.010
#     Dist::Zilla::Plugin::GatherDir     4.200016    6.010
#     Dist::Zilla::Role::AfterBuild           any    6.010
#     Dist::Zilla::Role::AfterMint            any    6.010
#     Dist::Zilla::Role::AfterRelease         any    6.010
#     Dist::Zilla::Role::BeforeRelease        any    6.010
#     Dist::Zilla::Role::FilePruner           any    6.010
#     Dist::Zilla::Role::GitConfig            any     0.92
#     Dist::Zilla::Role::PluginBundle         any    6.010
#     Dist::Zilla::Role::VersionProvider      any    6.010
#     File::HomeDir                          0.81    1.002
#     File::Spec::Functions                   any     3.62
#     File::Temp                              any   0.2304
#     File::chdir                             any   0.1010
#     Git::Wrapper                          0.021    0.047
#     IPC::Open3                              any     1.13
#     IPC::System::Simple                     any     1.25
#     List::Util                             1.45     1.49
#     Module::Runtime                         any    0.015
#     Moose                                   any   2.2006
#     Moose::Role                             any   2.2006
#     Moose::Util::TypeConstraints            any   2.2006
#     MooseX::Has::Sugar                      any 1.000006
#     MooseX::Types::Moose                    any     0.50
#     MooseX::Types::Path::Tiny             0.010    0.012
#     Path::Tiny                            0.048    0.104
#     String::Formatter                       any 0.102084
#     Try::Tiny                               any     0.28
#     Version::Next                           any    1.000
#     constant                                any     1.33
#     namespace::autoclean                   0.09     0.28
#     strict                                  any     1.07
#     version                                0.80   0.9918
#     warnings                                any     1.18
# 
# === Other Modules ===
# 
#     Module        Have
#     ------------- ----
#     JSON::PP      2.94
#     Pod::Coverage 0.23
#     Sub::Name     0.21
#     YAML          1.23
#     autodie       2.13
# 
t/00-report-prereqs.t ........... ok
# git version 2.14.2
t/000-report-git-version.t ...... ok
t/check.t ....................... ok
t/commit-build-custom.t ......... ok
t/commit-build-src-as-parent.t .. ok
t/commit-build.t ................ ok
t/commit-dirtydir.t ............. ok
t/commit-message.t .............. ok
t/commit-utf8.t ................. ok
t/commit-ws.t ................... ok
t/commit.t ...................... ok
t/gatherdir-multi.t ............. ok
t/gatherdir.t ................... ok
t/push-gitconfig.t .............. ok
t/push-multi.t .................. ok
t/push.t ........................ ok
t/repo-dir.t .................... ok
t/tag-signed.t .................. ok
t/tag.t ......................... ok
t/version-by-branch.t ........... ok
t/version-default.t ............. ok
t/version-extraction.t .......... ok
t/version-regexp.t .............. ok
t/zzz-check-breaks.t ............ ok
All tests successful.
Files=24, Tests=206, 60 wallclock secs ( 0.10 usr  0.10 sys + 20.32 cusr 20.51 csys = 41.03 CPU)
Result: PASS

------------------------------
PREREQUISITES
------------------------------

Prerequisite modules loaded:

requires:

    Module                             Need     Have    
    ---------------------------------- -------- --------
    constant                           0        1.33    
    Cwd                                0        3.62    
    DateTime                           0        1.44    
    Dist::Zilla                        4        6.010   
    Dist::Zilla::Plugin::GatherDir     4.200016 6.010   
    Dist::Zilla::Role::AfterBuild      0        6.010   
    Dist::Zilla::Role::AfterMint       0        6.010   
    Dist::Zilla::Role::AfterRelease    0        6.010   
    Dist::Zilla::Role::BeforeRelease   0        6.010   
    Dist::Zilla::Role::FilePruner      0        6.010   
    Dist::Zilla::Role::GitConfig       0        0.92    
    Dist::Zilla::Role::PluginBundle    0        6.010   
    Dist::Zilla::Role::VersionProvider 0        6.010   
    File::chdir                        0        0.1010  
    File::HomeDir                      0.81     1.002   
    File::Spec::Functions              0        3.62    
    File::Temp                         0        0.2304  
    Git::Wrapper                       0.021    0.047   
    IPC::Open3                         0        1.13    
    IPC::System::Simple                0        1.25    
    List::Util                         1.45     1.49    
    Module::Runtime                    0        0.015   
    Moose                              0        2.2006  
    Moose::Role                        0        2.2006  
    Moose::Util::TypeConstraints       0        2.2006  
    MooseX::Has::Sugar                 0        1.000006
    MooseX::Types::Moose               0        0.50    
    MooseX::Types::Path::Tiny          0.010    0.012   
    namespace::autoclean               0.09     0.28    
    Path::Tiny                         0.048    0.104   
    perl                               5.010    5.018004
    strict                             0        1.07    
    String::Formatter                  0        0.102084
    Try::Tiny                          0        0.28    
    version                            0.80     0.9918  
    Version::Next                      0        1.000   
    warnings                           0        1.18    

build_requires:

    Module                             Need     Have    
    ---------------------------------- -------- --------
    CPAN::Meta::Check                  0.011    0.014   
    CPAN::Meta::Requirements           0        2.131   
    Devel::SimpleTrace                 0        0.08    
    Dist::Zilla::File::InMemory        0        6.010   
    Dist::Zilla::Plugin::Config::Git   0        0.92    
    Dist::Zilla::Role::Releaser        0        6.010   
    Dist::Zilla::Tester                0        6.010   
    Encode                             0        2.92    
    Exporter                           0        5.68    
    ExtUtils::MakeMaker                0        7.30    
    File::Copy                         0        2.26    
    File::Copy::Recursive              0        0.38    
    File::Path                         2.07     2.09    
    File::pushd                        0        1.014   
    File::Spec                         0        3.62    
    File::Which                        0        1.22    
    lib                                0        0.63    
    Log::Dispatchouli                  0        2.015   
    Test::DZil                         0        6.010   
    Test::Fatal                        0        0.014   
    Test::More                         0.88     1.302096
    utf8                               0        1.10    

configure_requires:

    Module                             Need     Have    
    ---------------------------------- -------- --------
    ExtUtils::MakeMaker                0        7.30    
    perl                               5.010    5.018004
    Text::ParseWords                   0        3.28    
    version                            0        0.9918  


------------------------------
ENVIRONMENT AND OTHER CONTEXT
------------------------------

Environment variables:

    AUTOMATED_TESTING = 1
    LANG = en_US.UTF-8
    PATH = /home/sand/bin:/usr/local/bin:/usr/bin:/bin:/usr/games:/usr/local/perl/bin:/usr/X11/bin:/sbin:/usr/sbin
    PERL5LIB = 
    PERL5OPT = 
    PERL5_CPANPLUS_IS_RUNNING = 15431
    PERL5_CPAN_IS_RUNNING = 15431
    PERL5_CPAN_IS_RUNNING_IN_RECURSION = 15736,15431
    PERL_CANARY_STABILITY_NOPROMPT = 1
    PERL_MM_USE_DEFAULT = 1
    PERL_USE_UNSAFE_INC = 1
    SHELL = /usr/bin/zsh
    TERM = screen

Perl special variables (and OS-specific diagnostics, for MSWin32):

    $^X = /home/sand/src/perl/repoperls/installed-perls/host/k93msid/v5.18.4/89ad/bin/perl
    $UID/$EUID = 1005 / 1005
    $GID = 1005 1005
    $EGID = 1005 1005

Perl module toolchain versions installed:

    Module              Have    
    ------------------- --------
    CPAN                2.18    
    CPAN::Meta          2.150010
    Cwd                 3.62    
    ExtUtils::CBuilder  0.280226
    ExtUtils::Command   7.30    
    ExtUtils::Install   2.06    
    ExtUtils::MakeMaker 7.30    
    ExtUtils::Manifest  1.70    
    ExtUtils::ParseXS   3.35    
    File::Spec          3.62    
    JSON                2.94    
    JSON::PP            2.94    
    Module::Build       0.4224  
    Module::Signature   0.81    
    Parse::CPAN::Meta   2.150010
    Test::Harness       3.39    
    Test::More          1.302096
    YAML                1.23    
    YAML::Syck          1.30    
    version             0.9918  


--

Summary of my perl5 (revision 5 version 18 subversion 4) configuration:
  Derived from: 51202371ba68f3f52f13124a3ea1bc3c171e0ee2
  Platform:
    osname=linux, osvers=4.12.0-2-amd64, archname=x86_64-linux
    uname='linux k93msid 4.12.0-2-amd64 #1 smp debian 4.12.13-1 (2017-09-19) x86_64 gnulinux '
    config_args='-Dprefix=/home/sand/src/perl/repoperls/installed-perls/host/k93msid/v5.18.4/89ad -Dmyhostname=k93msid -Dinstallusrbinperl=n -Uversiononly -Dusedevel -des -Ui_db -Dlibswanted=cl pthread socket inet nsl gdbm dbm malloc dl ld sun m crypt sec util c cposix posix ucb BSD gdbm_compat -Uuseithreads -Uuselongdouble -DDEBUGGING=-g'
    hint=recommended, useposix=true, d_sigaction=define
    useithreads=undef, usemultiplicity=undef
    useperlio=define, d_sfio=undef, uselargefiles=define, usesocks=undef
    use64bitint=define, use64bitall=define, uselongdouble=undef
    usemymalloc=n, bincompat5005=undef
  Compiler:
    cc='cc', ccflags ='-fno-strict-aliasing -pipe -fstack-protector -I/usr/local/include -D_LARGEFILE_SOURCE -D_FILE_OFFSET_BITS=64',
    optimize='-O2 -g',
    cppflags='-fno-strict-aliasing -pipe -fstack-protector -I/usr/local/include'
    ccversion='', gccversion='7.2.0', gccosandvers=''
    intsize=4, longsize=8, ptrsize=8, doublesize=8, byteorder=12345678
    d_longlong=define, longlongsize=8, d_longdbl=define, longdblsize=16
    ivtype='long', ivsize=8, nvtype='double', nvsize=8, Off_t='off_t', lseeksize=8
    alignbytes=8, prototype=define
  Linker and Libraries:
    ld='cc', ldflags =' -fstack-protector -L/usr/local/lib'
    libpth=/usr/local/lib /lib/x86_64-linux-gnu /lib/../lib /usr/lib/x86_64-linux-gnu /usr/lib/../lib /lib /usr/lib
    libs=-lpthread -lnsl -ldl -lm -lcrypt -lutil -lc
    perllibs=-lpthread -lnsl -ldl -lm -lcrypt -lutil -lc
    libc=libc-2.24.so, so=so, useshrplib=false, libperl=libperl.a
    gnulibc_version='2.24'
  Dynamic Linking:
    dlsrc=dl_dlopen.xs, dlext=so, d_dlsymun=undef, ccdlflags='-Wl,-E'
    cccdlflags='-fPIC', lddlflags='-shared -O2 -g -L/usr/local/lib -fstack-protector'


Characteristics of this binary (from libperl): 
  Compile-time options: HAS_TIMES PERLIO_LAYERS PERL_DONT_CREATE_GVSV
                        PERL_HASH_FUNC_ONE_AT_A_TIME_HARD PERL_MALLOC_WRAP
                        PERL_PRESERVE_IVUV PERL_SAWAMPERSAND PERL_USE_DEVEL
                        USE_64_BIT_ALL USE_64_BIT_INT USE_LARGE_FILES
                        USE_LOCALE USE_LOCALE_COLLATE USE_LOCALE_CTYPE
                        USE_LOCALE_NUMERIC USE_PERLIO USE_PERL_ATOF
  Locally applied patches:
	uncommitted-changes
  Built under linux
  Compiled at Oct  2 2017 18:07:12
  %ENV:
    PERL5LIB=""
    PERL5OPT=""
    PERL5_CPANPLUS_IS_RUNNING="15431"
    PERL5_CPAN_IS_RUNNING="15431"
    PERL5_CPAN_IS_RUNNING_IN_RECURSION="15736,15431"
    PERL_CANARY_STABILITY_NOPROMPT="1"
    PERL_MM_USE_DEFAULT="1"
    PERL_USE_UNSAFE_INC="1"
  @INC:
    /home/sand/src/perl/repoperls/installed-perls/host/k93msid/v5.18.4/89ad/lib/site_perl/5.18.4/x86_64-linux
    /home/sand/src/perl/repoperls/installed-perls/host/k93msid/v5.18.4/89ad/lib/site_perl/5.18.4
    /home/sand/src/perl/repoperls/installed-perls/host/k93msid/v5.18.4/89ad/lib/5.18.4/x86_64-linux
    /home/sand/src/perl/repoperls/installed-perls/host/k93msid/v5.18.4/89ad/lib/5.18.4
    .