Devel-CheckLib v1.11 Perl 5 v5.22.4 x86_64-linux-thread-multi

Status
Pass
From
Nigel Horne
Dist
Devel-CheckLib v1.11
Platform
Perl 5 v5.22.4 x86_64-linux-thread-multi
Date
2017-10-18 15:55:14
ID
bb0c69a6-b41c-11e7-a2a8-d0c13ad602b4
This distribution has been tested as part of the CPAN Testers
project, supporting the Perl programming language.  See
http://wiki.cpantesters.org/ for more information or email
questions to cpan-testers-discuss@perl.org


--
Dear Yasuhiro Matsumoto,

This is a computer-generated report for Devel-CheckLib-1.11
on perl 5.22.4, created by CPAN-Reporter-1.2018.

Thank you for uploading your work to CPAN.  Congratulations!
All tests were successful.

Sections of this report:

    * Tester comments
    * Program output
    * Prerequisites
    * Environment and other context

------------------------------
TESTER COMMENTS
------------------------------

Additional comments from tester:

this report is from an automated smoke testing program
and was not reviewed by a human for accuracy

------------------------------
PROGRAM OUTPUT
------------------------------

Output from '/usr/bin/make test':

PERL_DL_NONLAZY=1 "/home/njh/perl5/perlbrew/perls/perl-5.22.4/bin/perl5.22.4" "-MExtUtils::Command::MM" "-MTest::Harness" "-e" "undef *Test::Harness::Switches; test_harness(0, 'blib/lib', 'blib/arch')" t/*.t
t/analyze-binary.t ............ skipped: Couldn't find your C compiler
t/00-load.t ................... ok
t/cmdline-LIBS-INC.t .......... skipped: Couldn't find your C compiler
t/custom-function.t ........... skipped: Couldn't find your C compiler
t/bad-single-word-compiler.t .. ok
t/dash-l-libs.t ............... skipped: Couldn't find your C compiler
t/flags.t ..................... skipped: Couldn't find your C compiler
t/headers.t ................... skipped: Couldn't find your C compiler
t/found.t ..................... skipped: Couldn't find your C compiler
t/exit_with_message.t ......... skipped: Couldn't find your C compiler
t/multi-word-compiler.t ....... ok
t/not_found.t ................. skipped: Couldn't find your C compiler
All tests successful.
Files=12, Tests=3,  0 wallclock secs ( 0.02 usr  0.00 sys +  0.71 cusr  0.14 csys =  0.87 CPU)
Result: PASS

------------------------------
PREREQUISITES
------------------------------

Prerequisite modules loaded:

requires:

    Module              Need    Have    
    ------------------- ------- --------
    Exporter            0       5.72    
    File::Spec          0       3.56_02 
    File::Temp          0.16    0.2304  
    perl                5.00405 5.022004

build_requires:

    Module              Need    Have    
    ------------------- ------- --------
    IO::CaptureOutput   1.0801  1.1104  
    Mock::Config        0.02    0.03    
    Test::More          0.62    1.302096

configure_requires:

    Module              Need    Have    
    ------------------- ------- --------
    ExtUtils::MakeMaker 0       7.30    


------------------------------
ENVIRONMENT AND OTHER CONTEXT
------------------------------

Environment variables:

    AUTOMATED_TESTING = 1
    HARNESS_OPTIONS = j10
    LANG = en_GB.UTF-8
    LD_LIBRARY_PATH = /usr/local/lib::
    PATH = /home/njh/perl5/perlbrew/bin:/home/njh/perl5/perlbrew/perls/perl-5.22.4/bin:/home/njh/perl5/perlbrew/bin:/usr/local/bin:/usr/bin:/bin:/usr/local/games:/usr/games:/home/njh/bin:/sbin
    PERL5LIB = /tmp/build/Mock-Config-0.03-5/blib/arch:/tmp/build/Mock-Config-0.03-5/blib/lib:/tmp/build/Text-CSV-1.95-5/blib/arch:/tmp/build/Text-CSV-1.95-5/blib/lib:/tmp/build/Net-IP-1.26-5/blib/arch:/tmp/build/Net-IP-1.26-5/blib/lib:/tmp/build/Module-Find-0.13-5/blib/arch:/tmp/build/Module-Find-0.13-5/blib/lib:/tmp/build/Mail-RFC822-Address-0.3-5/blib/arch:/tmp/build/Mail-RFC822-Address-0.3-5/blib/lib:/tmp/build/libintl-perl-1.28-5/blib/arch:/tmp/build/libintl-perl-1.28-5/blib/lib:/tmp/build/IO-Socket-INET6-2.72-5/blib/arch:/tmp/build/IO-Socket-INET6-2.72-5/blib/lib:/tmp/build/Hash-Merge-0.200-5/blib/arch:/tmp/build/Hash-Merge-0.200-5/blib/lib:/tmp/build/Locale-Msgfmt-0.15-5/blib/arch:/tmp/build/Locale-Msgfmt-0.15-5/blib/lib:/tmp/build/Locale-Maketext-Gettext-1.28-5/blib/arch:/tmp/build/Locale-Maketext-Gettext-1.28-5/blib/lib
    PERL5OPT = 
    PERL5_CPANPLUS_IS_RUNNING = 23490
    PERL5_CPAN_IS_RUNNING = 23490
    PERLBREW_BASHRC_VERSION = 0.80
    PERLBREW_HOME = /home/njh/.perlbrew
    PERLBREW_LIB = 
    PERLBREW_MANPATH = /home/njh/perl5/perlbrew/perls/perl-5.22.4/man
    PERLBREW_PATH = /home/njh/perl5/perlbrew/bin:/home/njh/perl5/perlbrew/perls/perl-5.22.4/bin
    PERLBREW_PERL = perl-5.22.4
    PERLBREW_ROOT = /home/njh/perl5/perlbrew
    PERLBREW_VERSION = 0.80
    PERL_LOCAL_LIB_ROOT = 
    SHELL = /bin/bash
    TERM = xterm-256color

Perl special variables (and OS-specific diagnostics, for MSWin32):

    $^X = /home/njh/perl5/perlbrew/perls/perl-5.22.4/bin/perl5.22.4
    $UID/$EUID = 1000 / 1000
    $GID = 1000 4 24 25 29 30 44 46 107 112 118 1000
    $EGID = 1000 4 24 25 29 30 44 46 107 112 118 1000

Perl module toolchain versions installed:

    Module              Have      
    ------------------- ----------
    CPAN                2.16      
    CPAN::Meta          2.150001  
    Cwd                 3.56_02   
    ExtUtils::CBuilder  0.280221  
    ExtUtils::Command   7.30      
    ExtUtils::Install   2.06      
    ExtUtils::MakeMaker 7.30      
    ExtUtils::Manifest  1.70      
    ExtUtils::ParseXS   3.28      
    File::Spec          3.56_02   
    JSON                2.94      
    JSON::PP            2.27300_01
    Module::Build       0.4224    
    Module::Signature   n/a       
    Parse::CPAN::Meta   1.4414_001
    Test::Harness       3.35_01   
    Test::More          1.302096  
    YAML                1.23      
    YAML::Syck          1.30      
    version             0.9909    


--

Summary of my perl5 (revision 5 version 22 subversion 4) configuration:
   
  Platform:
    osname=linux, osvers=4.11.0-1-amd64, archname=x86_64-linux-thread-multi
    uname='linux microcenter 4.11.0-1-amd64 #1 smp debian 4.11.6-1 (2017-06-19) x86_64 gnulinux '
    config_args='-de -Dprefix=/home/njh/perl5/perlbrew/perls/perl-5.22.4 -Duseithreads -Dusemultiplicity -Dusedevel -Accflags=-O2 -W -Wformat=2 -Wswitch -Wshadow -Wwrite-strings -Wuninitialized -Wall -pipe -fomit-frame-pointer -D_FORTIFY_SOURCE=2 -Wpointer-arith -Wstrict-prototypes -fstack-protector -Wstack-protector -Wextra -Wbad-function-cast -Wcast-align -Wcast-qual -Wdisabled-optimization -Wendif-labels -Wfloat-equal -Wformat-nonliteral -Winline -Wmissing-declarations -Wmissing-prototypes -Wnested-externs -Wpointer-arith -Wundef -Wformat-security -ftree-vectorize -msse -mfpmath=sse -msse2 -mssse3 -msse4.1 -msse4.2 -fdiagnostics-color=auto -mtune=native -march=native -Acc=gcc-7 -Aeval:scriptdir=/home/njh/perl5/perlbrew/perls/perl-5.22.4/bin'
    hint=recommended, useposix=true, d_sigaction=define
    useithreads=define, usemultiplicity=define
    use64bitint=define, use64bitall=define, uselongdouble=undef
    usemymalloc=n, bincompat5005=undef
  Compiler:
    cc=' gcc-7', ccflags ='-D_REENTRANT -D_GNU_SOURCE -O2 -W -Wformat=2 -Wswitch -Wshadow -Wwrite-strings -Wuninitialized -Wall -pipe -fomit-frame-pointer -D_FORTIFY_SOURCE=2 -Wpointer-arith -Wstrict-prototypes -fstack-protector -Wstack-protector -Wextra -Wbad-function-cast -Wcast-align -Wcast-qual -Wdisabled-optimization -Wendif-labels -Wfloat-equal -Wformat-nonliteral -Winline -Wmissing-declarations -Wmissing-prototypes -Wnested-externs -Wpointer-arith -Wundef -Wformat-security -ftree-vectorize -msse -mfpmath=sse -msse2 -mssse3 -msse4.1 -msse4.2 -fdiagnostics-color=auto -mtune=native -march=native -fwrapv -fno-strict-aliasing -fstack-protector-strong -I/usr/local/include -D_LARGEFILE_SOURCE -D_FILE_OFFSET_BITS=64',
    optimize='-O2',
    cppflags='-D_REENTRANT -D_GNU_SOURCE -O2 -W -Wformat=2 -Wswitch -Wshadow -Wwrite-strings -Wuninitialized -Wall -pipe -fomit-frame-pointer -D_FORTIFY_SOURCE=2 -Wpointer-arith -Wstrict-prototypes -fstack-protector -Wstack-protector -Wextra -Wbad-function-cast -Wcast-align -Wcast-qual -Wdisabled-optimization -Wendif-labels -Wfloat-equal -Wformat-nonliteral -Winline -Wmissing-declarations -Wmissing-prototypes -Wnested-externs -Wpointer-arith -Wundef -Wformat-security -ftree-vectorize -msse -mfpmath=sse -msse2 -mssse3 -msse4.1 -msse4.2 -fdiagnostics-color=auto -mtune=native -march=native -fwrapv -fno-strict-aliasing -fstack-protector-strong -I/usr/local/include'
    ccversion='', gccversion='7.1.0', gccosandvers=''
    intsize=4, longsize=8, ptrsize=8, doublesize=8, byteorder=12345678, doublekind=3
    d_longlong=define, longlongsize=8, d_longdbl=define, longdblsize=16, longdblkind=3
    ivtype='long', ivsize=8, nvtype='double', nvsize=8, Off_t='off_t', lseeksize=8
    alignbytes=8, prototype=define
  Linker and Libraries:
    ld=' gcc-7', ldflags =' -fstack-protector-strong -L/usr/local/lib'
    libpth=/usr/local/lib /usr/lib/gcc/x86_64-linux-gnu/7/include-fixed /usr/include/x86_64-linux-gnu /usr/lib /lib/x86_64-linux-gnu /lib/../lib /usr/lib/x86_64-linux-gnu /usr/lib/../lib /lib
    libs=-lpthread -lnsl -lgdbm -ldb -ldl -lm -lcrypt -lutil -lc -lgdbm_compat
    perllibs=-lpthread -lnsl -ldl -lm -lcrypt -lutil -lc
    libc=libc-2.24.so, so=so, useshrplib=false, libperl=libperl.a
    gnulibc_version='2.24'
  Dynamic Linking:
    dlsrc=dl_dlopen.xs, dlext=so, d_dlsymun=undef, ccdlflags='-Wl,-E'
    cccdlflags='-fPIC', lddlflags='-shared -O2 -L/usr/local/lib -fstack-protector-strong'


Characteristics of this binary (from libperl): 
  Compile-time options: HAS_TIMES MULTIPLICITY PERLIO_LAYERS
                        PERL_DONT_CREATE_GVSV
                        PERL_HASH_FUNC_ONE_AT_A_TIME_HARD
                        PERL_IMPLICIT_CONTEXT PERL_MALLOC_WRAP
                        PERL_NEW_COPY_ON_WRITE PERL_PRESERVE_IVUV
                        PERL_USE_DEVEL USE_64_BIT_ALL USE_64_BIT_INT
                        USE_ITHREADS USE_LARGE_FILES USE_LOCALE
                        USE_LOCALE_COLLATE USE_LOCALE_CTYPE
                        USE_LOCALE_NUMERIC USE_LOCALE_TIME USE_PERLIO
                        USE_PERL_ATOF USE_REENTRANT_API
  Built under linux
  Compiled at Jul 17 2017 13:11:44
  %ENV:
    PERL5LIB="/tmp/build/Mock-Config-0.03-5/blib/arch:/tmp/build/Mock-Config-0.03-5/blib/lib:/tmp/build/Text-CSV-1.95-5/blib/arch:/tmp/build/Text-CSV-1.95-5/blib/lib:/tmp/build/Net-IP-1.26-5/blib/arch:/tmp/build/Net-IP-1.26-5/blib/lib:/tmp/build/Module-Find-0.13-5/blib/arch:/tmp/build/Module-Find-0.13-5/blib/lib:/tmp/build/Mail-RFC822-Address-0.3-5/blib/arch:/tmp/build/Mail-RFC822-Address-0.3-5/blib/lib:/tmp/build/libintl-perl-1.28-5/blib/arch:/tmp/build/libintl-perl-1.28-5/blib/lib:/tmp/build/IO-Socket-INET6-2.72-5/blib/arch:/tmp/build/IO-Socket-INET6-2.72-5/blib/lib:/tmp/build/Hash-Merge-0.200-5/blib/arch:/tmp/build/Hash-Merge-0.200-5/blib/lib:/tmp/build/Locale-Msgfmt-0.15-5/blib/arch:/tmp/build/Locale-Msgfmt-0.15-5/blib/lib:/tmp/build/Locale-Maketext-Gettext-1.28-5/blib/arch:/tmp/build/Locale-Maketext-Gettext-1.28-5/blib/lib"
    PERL5OPT=""
    PERL5_CPANPLUS_IS_RUNNING="23490"
    PERL5_CPAN_IS_RUNNING="23490"
    PERLBREW_BASHRC_VERSION="0.80"
    PERLBREW_HOME="/home/njh/.perlbrew"
    PERLBREW_LIB=""
    PERLBREW_MANPATH="/home/njh/perl5/perlbrew/perls/perl-5.22.4/man"
    PERLBREW_PATH="/home/njh/perl5/perlbrew/bin:/home/njh/perl5/perlbrew/perls/perl-5.22.4/bin"
    PERLBREW_PERL="perl-5.22.4"
    PERLBREW_ROOT="/home/njh/perl5/perlbrew"
    PERLBREW_VERSION="0.80"
    PERL_LOCAL_LIB_ROOT=""
  @INC:
    /tmp/build/Mock-Config-0.03-5/blib/arch
    /tmp/build/Mock-Config-0.03-5/blib/lib
    /tmp/build/Text-CSV-1.95-5/blib/arch
    /tmp/build/Text-CSV-1.95-5/blib/lib
    /tmp/build/Net-IP-1.26-5/blib/arch
    /tmp/build/Net-IP-1.26-5/blib/lib
    /tmp/build/Module-Find-0.13-5/blib/arch
    /tmp/build/Module-Find-0.13-5/blib/lib
    /tmp/build/Mail-RFC822-Address-0.3-5/blib/arch
    /tmp/build/Mail-RFC822-Address-0.3-5/blib/lib
    /tmp/build/libintl-perl-1.28-5/blib/arch
    /tmp/build/libintl-perl-1.28-5/blib/lib
    /tmp/build/IO-Socket-INET6-2.72-5/blib/arch
    /tmp/build/IO-Socket-INET6-2.72-5/blib/lib
    /tmp/build/Hash-Merge-0.200-5/blib/arch
    /tmp/build/Hash-Merge-0.200-5/blib/lib
    /tmp/build/Locale-Msgfmt-0.15-5/blib/arch
    /tmp/build/Locale-Msgfmt-0.15-5/blib/lib
    /tmp/build/Locale-Maketext-Gettext-1.28-5/blib/arch
    /tmp/build/Locale-Maketext-Gettext-1.28-5/blib/lib
    /home/njh/perl5/perlbrew/perls/perl-5.22.4/lib/site_perl/5.22.4/x86_64-linux-thread-multi
    /home/njh/perl5/perlbrew/perls/perl-5.22.4/lib/site_perl/5.22.4
    /home/njh/perl5/perlbrew/perls/perl-5.22.4/lib/5.22.4/x86_64-linux-thread-multi
    /home/njh/perl5/perlbrew/perls/perl-5.22.4/lib/5.22.4
    .